Workbook
Name ACCOUNTEDPERIODTYPE1: #REF!
Name ACCOUNTEDPERIODTYPE1: #REF!
Name APPSUSERNAME1: #REF!
Name APPSUSERNAME1: #REF!
Name BUDGETORGID1: #REF!
Name BUDGETORGID1: #REF!
Name BUDGETORGNAME1: #REF!
Name BUDGETORGNAME1: #REF!
Name CHARTOFACCOUNTSID1: #REF!
Name CHARTOFACCOUNTSID1: #REF!
Name CONNECTSTRING1: #REF!
Name CONNECTSTRING1: #REF!
Name CREATESUMMARYJNLS1: #REF!
Name CREATESUMMARYJNLS1: #REF!
Name CRITERIACOLUMN1: #REF!
Name CRITERIACOLUMN1: #REF!
Name DBNAME1: #REF!
Name DBNAME1: #REF!
Name DBUSERNAME1: #REF!
Name DBUSERNAME1: #REF!
Name DELETELOGICTYPE1: #REF!
Name DELETELOGICTYPE1: #REF!
Name FFAPPCOLNAME1_1: #REF!
Name FFAPPCOLNAME1_1: #REF!
Name FFAPPCOLNAME2_1: #REF!
Name FFAPPCOLNAME2_1: #REF!
Name FFAPPCOLNAME3_1: #REF!
Name FFAPPCOLNAME3_1: #REF!
Name FFAPPCOLNAME4_1: #REF!
Name FFAPPCOLNAME4_1: #REF!
Name FFAPPCOLNAME5_1: #REF!
Name FFAPPCOLNAME5_1: #REF!
Name FFAPPCOLNAME6_1: #REF!
Name FFAPPCOLNAME6_1: #REF!
Name FFSEGMENT1_1: #REF!
Name FFSEGMENT1_1: #REF!
Name FFSEGMENT2_1: #REF!
Name FFSEGMENT2_1: #REF!
Name FFSEGMENT3_1: #REF!
Name FFSEGMENT3_1: #REF!
Name FFSEGMENT4_1: #REF!
Name FFSEGMENT4_1: #REF!
Name FFSEGMENT5_1: #REF!
Name FFSEGMENT5_1: #REF!
Name FFSEGMENT6_1: #REF!
Name FFSEGMENT6_1: #REF!
Name FFSEGSEPARATOR1: #REF!
Name FFSEGSEPARATOR1: #REF!
Name FIELDNAMECOLUMN1: #REF!
Name FIELDNAMECOLUMN1: #REF!
Name FIELDNAMEROW1: #REF!
Name FIELDNAMEROW1: #REF!
Name FIRSTDATAROW1: #REF!
Name FIRSTDATAROW1: #REF!
Name FNDNAM1: #REF!
Name FNDNAM1: #REF!
Name FNDUSERID1: #REF!
Name FNDUSERID1: #REF!
Name FUNCTIONALCURRENCY1: #REF!
Name FUNCTIONALCURRENCY1: #REF!

Sheet CODE

Sheet Uvodne napomene
A2: UVODNE NAPOMENE ZA POPUNJAVANJE TABLICA ZAHTJEVA ZA IZMJENE I DOPUNE PRORAČUNA ZA 2026. GODINU
A4: 1. Na radnim listovima odaberite Vaš razdjel. Ovisno o razdjelu otvoriti će Vam se ili samo jedna tablica za razdjel ili više tablica (ukoliko razdjel ima porač.institucije/potrošačke jedinice).
A5: 2. Za izradu Izmjena i dopuna Proračuna niau utvrđene gornje granice rashoda i izdataka te Vas molimo da se pri planiranju pridržavate općih uputa danih u Instrukciji.
A6: 3. Po zavšetku unosa zahtjeva, upišite datum zahtjeva, isprintajte tablice te ih u elektronskoj i papirnoj formi, skupa s pratećim obrascima, dostavite u Ministarstvo financija (ruzica.zivkovic@zupanijaposavska.ba). Ukoliko se pojavi neki problem pri unosu kontaktirajte nas na broj: 031 713 265, lok. 167.
A7: 4. Proračunski zahtjevi i prateći obrasci moraju biti potpisani i opečaćeni, te s jasno naznačenim datumom.
A8: 5. Sukladno utvrđenim organizacijskim kodovima, svaka proračunska institucija/potrošačka jedinica svoj zahtjev mora najprije dostaviti nadležnom razdjelu (vidi donju tablicu),
A9: koji potom cjeloviti zahtjev za razdjel dostavlja Ministarstvu financija.
A11: RAZDJEL | B11: NAZIV RAZDJELA | C11: PRORAČUNSKE INSTITUCIJE/POTROŠAČKE JEDINICE
A12: 10 | B12: SKUPŠTINA ŽUPANIJE POSAVSKE | C12: (nema)
A13: 11 | B13: VLADA ŽUPANIJE POSAVSKE | C13: Ured za zakonodavstvo Vlade Županije Posavske
C14: Služba za odnose s javnošću Vlade Županije Posavske
C15: Ured za razvoj i europske integracije Županije Posavske
C16: Ured za obnovu, stambeno zbrinjavanje i raseljene osobe Vlade Županije Posavske
C17: Ured za borbu protiv korupcije Vlade Županije Posavske
A18: 12 | B18: ZAJEDNIČKA SLUŽBA VLADE ŽUPANIJE POSAVSKE | C18: (nema)
A19: 13 | B19: MINISTARSTVO UNUTARNJIH POSLOVA ŽUPANIJE POSAVSKE | C19: (nema)
A20: 14 | B20: MINISTARSTVO PRAVOSUĐA I UPRAVE ŽUPANIJE POSAVSKE | C20: Općinski sud u Orašju
C21: Gradsko pravobraniteljstvo Orašje
C22: Općinsko pravobraniteljstvo Odžak
C23: Županijski Zavod za pružanje pravne pomoći
C24: Županijski arhiv
A25: 15 | B25: MINISTARSTVO GOSPODARSTVA, RADA I PROSTORNOG UREĐENJA ŽUPANIJE POSAVSKE | C25: (nema)
A26: 16 | B26: MINISTARSTVO FINANCIJA ŽUPANIJE POSAVSKE | C26: (nema)
A27: 17 | B27: MINISTARSTVO ZDRAVSTVA I SOCIJALNE POLITIKE ŽUPANIJE POSAVSKE | C27: (nema)
A28: 18 | B28: MINISTARSTVO PROMETA, VEZA I ZAŠTITE OKOLIŠA ŽUPANIJE POSAVSKE | C28: (nema)
A29: 19 | B29: MINISTARSTVO POLJOPRIVREDE, VODOPRIVREDE I ŠUMARSTVA ŽUPANIJE POSAVSKE | C29: (nema)
A30: 20 | B30: MINISTARSTVO PROSVJETE, ZNANOSTI, KULTURE I SPORTA ŽUPANIJE POSAVSKE | C30: Srednja škola Pere Zečevića u Odžaku
C31: Školski centar Fra Martina Nedića u Orašju
C32: Srednja strukovna škola u Orašju
C33: Osnovna škola Orašje u Orašju
C34: Osnovna škola Vladimira Nazora u Odžaku
C35: Osnovna škola Ruđera Boškovića u Donjoj Mahali
C36: Osnovna škola Fra Ilije Starčevića u Tolisi
C37: Osnovna škola Stjepana Radića u Boku
C38: Osnovna škola Antuna Gustava Matoša u Vidovicama
C39: Osnovna škola Braće Radića u Domaljevcu
A40: 21 | B40: MINISTARSTVO BRANITELJA ŽUPANIJE POSAVSKE | C40: (nema)
A41: 22 | B41: AGENCIJA ZA PRIVATIZACIJU U ŽUPANIJI POSAVSKOJ | C41: (nema)
A42: 23 | B42: ŽUPANIJSKA UPRAVA CIVILNE ZAŠTITE | C42: (nema)
A43: 24 | B43: KANTONALNI SUD ODŽAK | C43: (nema)
A44: 26 | B44: ŽUPANIJSKO PRAVOBRANITELJSTVO | C44: (nema)
A45: 27 | B45: KANTONALNO TUŽITELJSTVO POSAVSKOG KANTONA ORAŠJE | C45: (nema)
A46: 28 | B46: ŽUPANIJSKA UPRAVA ZA INSPEKCIJSKE POSLOVE | C46: (nema)

Sheet 10
B1: ZAHTJEV ZA IZMJENE I DOPUNE PRORAČUNA ZA 2026. GODINU
M2: Datum zahtjeva:
B3: NAZIV RAZDJELA: | F3: SKUPŠTINA ŽUPANIJE POSAVSKE
B5: RAZDJEL: | D5: 10
B7: Ministarstvo (razdjel) | C7: Proračunska institucija | D7: Potrošačka jedinica | E7: Funkcija | F7: Ekon. kod | G7: Subanalitika | H7: OPIS | I7: PRORAČUN za 2026. | L7: ZAHTJEV za Izmjene i dopune Proračuna za 2026. | O7: INDEKS
I8: iz prorač. sredstava | J8: iz ostalih izvora | K8: UKUPNO | L8: iz prorač. sredstava | M8: iz ostalih izvora | N8: UKUPNO
B9: 1 | C9: 2 | D9: 3 | E9: 4 | F9: 5 | G9: 6 | H9: 7 | I9: 8 | J9: 9 | K9: 10=8+9 | L9: 11 | M9: 12 | N9: 13=11+12 | O9: 14=13/10
B10: 10 | C10: 01 | D10: 0001 | E10: 0111 | H10: SKUPŠTINA ŽUPANIJE POSAVSKE
F11: 611000 | H11: Plaće i naknade troškova zaposlenih | I11: =SUM(I12:I13) -> 1093250 | J11: =SUM(J12:J13) -> 0 | K11: =SUM(K12:K13) -> 1093250 | L11: =SUM(L12:L13) -> 0 | M11: =SUM(M12:M13) -> 0 | N11: =SUM(N12:N13) -> 0 | O11: =IF(K11=0,"",N11/K11*100) -> 0
F12: 611100 | H12: Bruto plaće i naknade plaća | I12: =843000+730+5000+48060 -> 896790 | J12: 0 | K12: =SUM(I12:J12) -> 896790 | N12: =SUM(L12:M12) -> 0 | O12: =IF(K12=0,"",N12/K12*100) -> 0
F13: 611200 | H13: Naknade troškova zaposlenih | I13: =160670+1620+21420+12750 -> 196460 | J13: 0 | K13: =SUM(I13:J13) -> 196460 | N13: =SUM(L13:M13) -> 0 | O13: =IF(K13=0,"",N13/K13*100) -> 0
O14: =IF(K14=0,"",N14/K14*100)
F15: 612000 | H15: Doprinosi poslodavca i ostali doprinosi | I15: =I16+I17 -> 46990 | J15: =J16+J17 -> 0 | K15: =K16+K17 -> 46990 | L15: =L16+L17 -> 0 | M15: =M16+M17 -> 0 | N15: =N16+N17 -> 0 | O15: =IF(K15=0,"",N15/K15*100) -> 0
F16: 612100 | H16: Doprinosi poslodavca | I16: =44100+120+250+2520 -> 46990 | J16: 0 | K16: =SUM(I16:J16) -> 46990 | N16: =SUM(L16:M16) -> 0 | O16: =IF(K16=0,"",N16/K16*100) -> 0
O17: =IF(K17=0,"",N17/K17*100)
F18: 613000 | H18: Izdaci za materijal, sitan inv. i usluge | I18: =SUM(I19:I27) -> 479820 | J18: =SUM(J19:J27) -> 0 | K18: =SUM(K19:K27) -> 479820 | L18: =SUM(L19:L27) -> 0 | M18: =SUM(M19:M27) -> 0 | N18: =SUM(N19:N27) -> 0 | O18: =IF(K18=0,"",N18/K18*100) -> 0
F19: 613100 | H19: Putni troškovi | I19: 7000 | J19: 0 | K19: =SUM(I19:J19) -> 7000 | N19: =SUM(L19:M19) -> 0 | O19: =IF(K19=0,"",N19/K19*100) -> 0
F20: 613200 | H20: Izdaci za energiju | I20: 8500 | J20: 0 | K20: =SUM(I20:J20) -> 8500 | N20: =SUM(L20:M20) -> 0 | O20: =IF(K20=0,"",N20/K20*100) -> 0
F21: 613300 | H21: Izdaci za komunikaciju i komunalne usluge | I21: 9000 | J21: 0 | K21: =SUM(I21:J21) -> 9000 | N21: =SUM(L21:M21) -> 0 | O21: =IF(K21=0,"",N21/K21*100) -> 0
F22: 613400 | H22: Nabavka materijala i sitnog inventara | I22: 6500 | J22: 0 | K22: =SUM(I22:J22) -> 6500 | N22: =SUM(L22:M22) -> 0 | O22: =IF(K22=0,"",N22/K22*100) -> 0
F23: 613500 | H23: Izdaci za usluge prijevoza i goriva | I23: 12000 | J23: 0 | K23: =SUM(I23:J23) -> 12000 | N23: =SUM(L23:M23) -> 0 | O23: =IF(K23=0,"",N23/K23*100) -> 0
F24: 613600 | H24: Unajmljivanje imovine, opreme i nemat.imovine | I24: 0 | J24: 0 | K24: =SUM(I24:J24) -> 0 | N24: =SUM(L24:M24) -> 0 | O24: =IF(K24=0,"",N24/K24*100)
F25: 613700 | H25: Izdaci za tekuće održavanje | I25: 8000 | J25: 0 | K25: =SUM(I25:J25) -> 8000 | N25: =SUM(L25:M25) -> 0 | O25: =IF(K25=0,"",N25/K25*100) -> 0
F26: 613800 | H26: Izdaci osiguranja, bank. usluga i usluga p.p. | I26: 3820 | J26: 0 | K26: =SUM(I26:J26) -> 3820 | N26: =SUM(L26:M26) -> 0 | O26: =IF(K26=0,"",N26/K26*100) -> 0
F27: 613900 | H27: Ugovorene i druge posebne usluge | I27: 425000 | J27: 0 | K27: =SUM(I27:J27) -> 425000 | N27: =SUM(L27:M27) -> 0 | O27: =IF(K27=0,"",N27/K27*100) -> 0
O28: =IF(K28=0,"",N28/K28*100)
F29: 821000 | H29: Izdaci za nabavku stalnih sredstava | I29: =SUM(I30:I32) -> 50000 | J29: =SUM(J30:J32) -> 0 | K29: =SUM(K30:K32) -> 50000 | L29: =SUM(L30:L32) -> 0 | M29: =SUM(M30:M32) -> 0 | N29: =SUM(N30:N32) -> 0 | O29: =IF(K29=0,"",N29/K29*100) -> 0
F30: 821200 | H30: Nabavka građevina | I30: 0 | J30: 0 | K30: =SUM(I30:J30) -> 0 | N30: =SUM(L30:M30) -> 0 | O30: =IF(K30=0,"",N30/K30*100)
F31: 821300 | H31: Nabavka opreme | I31: 45000 | J31: 0 | K31: =SUM(I31:J31) -> 45000 | N31: =SUM(L31:M31) -> 0 | O31: =IF(K31=0,"",N31/K31*100) -> 0
F32: 821500 | H32: Nabavka stalnih sredstava u obliku prava | I32: 5000 | J32: 0 | K32: =SUM(I32:J32) -> 5000 | N32: =SUM(L32:M32) -> 0 | O32: =IF(K32=0,"",N32/K32*100) -> 0
O33: =IF(K33=0,"",N33/K33*100)
H34: Ukupan broj zaposlenih: | I34: 23 | K34: 23
H35: Ukupno za potrošačku jedinicu: | I35: =I11+I15+I18+I29 -> 1670060 | J35: =J11+J15+J18+J29 -> 0 | K35: =K11+K15+K18+K29 -> 1670060 | L35: =L11+L15+L18+L29 -> 0 | M35: =M11+M15+M18+M29 -> 0 | N35: =N11+N15+N18+N29 -> 0 | O35: =IF(K35=0,"",N35/K35*100) -> 0
H36: Ukupno za proračunsku instituciju: | I36: =I35 -> 1670060 | J36: =J35 -> 0 | K36: =K35 -> 1670060 | L36: =L35 -> 0 | M36: =M35 -> 0 | N36: =N35 -> 0 | O36: =IF(K36=0,"",N36/K36*100) -> 0
H37: Ukupno za ministarstvo (razdjel): | I37: =I36 -> 1670060 | J37: =J36 -> 0 | K37: =K36 -> 1670060 | L37: =L36 -> 0 | M37: =M36 -> 0 | N37: =N36 -> 0 | O37: =IF(K37=0,"",N37/K37*100) -> 0
O38: =IF(K38=0,"",N38/K38*100)
O39: =IF(K39=0,"",N39/K39*100)

Sheet 11
B1: ZAHTJEV ZA IZMJENE I DOPUNE PRORAČUNA ZA 2026. GODINU
M2: Datum zahtjeva:
B3: NAZIV RAZDJELA: | F3: VLADA ŽUPANIJE POSAVSKE
B5: RAZDJEL: | D5: 11
B7: Ministarstvo (razdjel) | C7: Proračunska institucija | D7: Potrošačka jedinica | E7: Funkcija | F7: Ekon. kod | G7: Subanalitika | H7: OPIS | I7: PRORAČUN za 2026./ (poveć./smanj.) | L7: ZAHTJEV za Izmjene i dopune Proračuna za 2026. | O7: INDEKS
I8: iz prorač. sredstava | J8: iz ostalih izvora | K8: UKUPNO | L8: iz prorač. sredstava | M8: iz ostalih izvora | N8: UKUPNO
B9: 1 | C9: 2 | D9: 3 | E9: 4 | F9: 5 | G9: 6 | H9: 7 | I9: 8 | J9: 9 | K9: 10=8+9 | L9: 11 | M9: 12 | N9: 13=11+12 | O9: 14=13/10
B10: 11 | C10: 01 | D10: 0001 | E10: 0111 | H10: VLADA ŽUPANIJE POSAVSKE | O10: =IF(K10=0,"",N10/K10*100)
F11: 600000 | H11: Rashodi - Tekuća pričuva | I11: =I12+I13+I14 -> 710000 | J11: =J12+J13+J14 -> 0 | K11: =K12+K13+K14 -> 710000 | L11: =L12+L13+L14 -> 0 | M11: =M12+M13+M14 -> 0 | N11: =N12+N13+N14 -> 0 | O11: =IF(K11=0,"",N11/K11*100) -> 0
F12: 600000 | H12: Tekuća pričuva Vlade | I12: =500000+250000-100000 -> 650000 | J12: 0 | K12: =SUM(I12:J12) -> 650000 | N12: =SUM(L12:M12) -> 0 | O12: =IF(K12=0,"",N12/K12*100) -> 0
F13: 600000 | H13: Tekuća pričuva predsjednika Vlade | I13: 40000 | J13: 0 | K13: =SUM(I13:J13) -> 40000 | N13: =SUM(L13:M13) -> 0 | O13: =IF(K13=0,"",N13/K13*100) -> 0
F14: 600000 | H14: Tekuća pričuva zamjenika pred. Vlade | I14: 20000 | J14: 0 | K14: =SUM(I14:J14) -> 20000 | N14: =SUM(L14:M14) -> 0 | O14: =IF(K14=0,"",N14/K14*100) -> 0
O15: =IF(K15=0,"",N15/K15*100)
F16: 611000 | H16: Plaće i naknade troškova zaposlenih | I16: =SUM(I17:I20) -> 328210 | J16: =SUM(J17:J20) -> 0 | K16: =SUM(K17:K20) -> 328210 | L16: =SUM(L17:L20) -> 0 | M16: =SUM(M17:M20) -> 0 | N16: =SUM(N17:N20) -> 0 | O16: =IF(K16=0,"",N16/K16*100) -> 0
F17: 611100 | H17: Bruto plaće i naknade plaća | I17: =248470+16200+1000+9*270+14500 -> 282600 | J17: 0 | K17: =SUM(I17:J17) -> 282600 | N17: =SUM(L17:M17) -> 0 | O17: =IF(K17=0,"",N17/K17*100) -> 0
F18: 611200 | H18: Naknade troškova zaposlenih | I18: =40530+850+4230 -> 45610 | J18: 0 | K18: =SUM(I18:J18) -> 45610 | N18: =SUM(L18:M18) -> 0 | O18: =IF(K18=0,"",N18/K18*100) -> 0
F19: 611200 | G19: BA6017 | H19: Naknade troškova zaposlenih - volonteri | I19: 0 | J19: 0 | K19: =SUM(I19:J19) -> 0 | N19: =SUM(L19:M19) -> 0 | O19: =IF(K19=0,"",N19/K19*100)
O20: =IF(K20=0,"",N20/K20*100)
F21: 612000 | H21: Doprinosi poslodavca i ostali doprinosi | I21: =I22+I23 -> 14140 | J21: =J22+J23 -> 0 | K21: =K22+K23 -> 14140 | L21: =L22+L23 -> 0 | M21: =M22+M23 -> 0 | N21: =N22+N23 -> 0 | O21: =IF(K21=0,"",N21/K21*100) -> 0
F22: 612100 | H22: Doprinosi poslodavca | I22: =12360+820+50+9*20+730 -> 14140 | J22: 0 | K22: =SUM(I22:J22) -> 14140 | N22: =SUM(L22:M22) -> 0 | O22: =IF(K22=0,"",N22/K22*100) -> 0
O23: =IF(K23=0,"",N23/K23*100)
F24: 613000 | H24: Izdaci za materijal, sitan inv. i usluge | I24: =SUM(I25:I35) -> 380470 | J24: =SUM(J25:J35) -> 50000 | K24: =SUM(K25:K35) -> 430470 | L24: =SUM(L25:L35) -> 0 | M24: =SUM(M25:M35) -> 0 | N24: =SUM(N25:N35) -> 0 | O24: =IF(K24=0,"",N24/K24*100) -> 0
F25: 613100 | H25: Putni troškovi | I25: 11000 | J25: 0 | K25: =SUM(I25:J25) -> 11000 | N25: =SUM(L25:M25) -> 0 | O25: =IF(K25=0,"",N25/K25*100) -> 0
F26: 613200 | H26: Izdaci za energiju | I26: 1500 | J26: 0 | K26: =SUM(I26:J26) -> 1500 | N26: =SUM(L26:M26) -> 0 | O26: =IF(K26=0,"",N26/K26*100) -> 0
F27: 613300 | H27: Izdaci za komunikaciju i komunalne usluge | I27: 7500 | J27: 0 | K27: =SUM(I27:J27) -> 7500 | N27: =SUM(L27:M27) -> 0 | O27: =IF(K27=0,"",N27/K27*100) -> 0
F28: 613400 | H28: Nabavka materijala i sitnog inventara | I28: 1000 | J28: 0 | K28: =SUM(I28:J28) -> 1000 | N28: =SUM(L28:M28) -> 0 | O28: =IF(K28=0,"",N28/K28*100) -> 0
F29: 613500 | H29: Izdaci za usluge prijevoza i goriva | I29: 1000 | J29: 0 | K29: =SUM(I29:J29) -> 1000 | N29: =SUM(L29:M29) -> 0 | O29: =IF(K29=0,"",N29/K29*100) -> 0
F30: 613600 | H30: Unajmljivanje imovine, opreme i nemat.imovine | I30: =1000+13000 -> 14000 | J30: 0 | K30: =SUM(I30:J30) -> 14000 | N30: =SUM(L30:M30) -> 0 | O30: =IF(K30=0,"",N30/K30*100) -> 0
F31: 613700 | H31: Izdaci za tekuće održavanje | I31: 4000 | J31: 0 | K31: =SUM(I31:J31) -> 4000 | N31: =SUM(L31:M31) -> 0 | O31: =IF(K31=0,"",N31/K31*100) -> 0
F32: 613800 | H32: Izdaci osiguranja, bank. usluga i usluga p.p. | I32: 400 | J32: 0 | K32: =SUM(I32:J32) -> 400 | N32: =SUM(L32:M32) -> 0 | O32: =IF(K32=0,"",N32/K32*100) -> 0
F33: 613900 | H33: Ugovorene i druge posebne usluge | I33: 240070 | J33: 50000 | K33: =SUM(I33:J33) -> 290070 | N33: =SUM(L33:M33) -> 0 | O33: =IF(K33=0,"",N33/K33*100) -> 0
F34: 613900 | G34: BA6017 | H34: Ugovorene i dr. posebne usluge-volonteri | I34: 10000 | J34: 0 | K34: =SUM(I34:J34) -> 10000 | N34: =SUM(L34:M34) -> 0 | O34: =IF(K34=0,"",N34/K34*100) -> 0
F35: 613900 | G35: BA6021 | H35: Ugovorene i dr. posebne usluge-sufinanc.prijema vježbenika | I35: 90000 | J35: 0 | K35: =SUM(I35:J35) -> 90000 | N35: =SUM(L35:M35) -> 0 | O35: =IF(K35=0,"",N35/K35*100) -> 0
O36: =IF(K36=0,"",N36/K36*100)
F37: 614000 | H37: Tekući grantovi i drugi tekući rashodi | I37: =SUM(I38:I43) -> 1412050 | J37: =SUM(J38:J43) -> 0 | K37: =SUM(K38:K43) -> 1412050 | L37: =SUM(L38:L43) -> 0 | M37: =SUM(M38:M43) -> 0 | N37: =SUM(N38:N43) -> 0 | O37: =IF(K37=0,"",N37/K37*100) -> 0
F38: 614100 | G38: BA6014 | H38: Grant za Sveučilište u Mostaru | I38: 942050 | J38: 0 | K38: =SUM(I38:J38) -> 942050 | N38: =SUM(L38:M38) -> 0 | O38: =IF(K38=0,"",N38/K38*100) -> 0
F39: 614300 | G39: BA6001 | H39: Grant neprofitnim organizacijama i udrugama građana | I39: 100000 | J39: 0 | K39: =SUM(I39:J39) -> 100000 | N39: =SUM(L39:M39) -> 0 | O39: =IF(K39=0,"",N39/K39*100) -> 0
F40: 614300 | G40: BA6008 | H40: Grant za Crveni križ Županije Posavske | I40: 40000 | J40: 0 | K40: =SUM(I40:J40) -> 40000 | N40: =SUM(L40:M40) -> 0 | O40: =IF(K40=0,"",N40/K40*100) -> 0
F41: 614300 | G41: BA6007 | H41: Grant za Gospodarsku komoru ŽP | I41: 40000 | J41: 0 | K41: =SUM(I41:J41) -> 40000 | N41: =SUM(L41:M41) -> 0 | O41: =IF(K41=0,"",N41/K41*100) -> 0
F42: 614300 | G42: BA6019 | H42: Grant političkim strankama | I42: 150000 | J42: 0 | K42: =SUM(I42:J42) -> 150000 | N42: =SUM(L42:M42) -> 0 | O42: =IF(K42=0,"",N42/K42*100) -> 0
F43: 614300 | G43: BA60122 | H43: Grant za Muzej Franjevačkog samostana Tolisa Vrata Bosne | I43: =120000+20000 -> 140000 | J43: 0 | K43: =SUM(I43:J43) -> 140000 | N43: =SUM(L43:M43) -> 0 | O43: =IF(K43=0,"",N43/K43*100) -> 0
O44: =IF(K44=0,"",N44/K44*100)
F45: 615000 | H45: Kapitalni grantovi | I45: =I46 -> 310000 | J45: =J46 -> 0 | K45: =K46 -> 310000 | L45: =L46 -> 0 | M45: =M46 -> 0 | N45: =N46 -> 0 | O45: =IF(K45=0,"",N45/K45*100) -> 0
F46: 615100 | H46: Kapitalni grant | I46: 310000 | J46: 0 | K46: =SUM(I46:J46) -> 310000 | N46: =SUM(L46:M46) -> 0 | O46: =IF(K46=0,"",N46/K46*100) -> 0
O47: =IF(K47=0,"",N47/K47*100)
F48: 821000 | H48: Izdaci za nabavku stalnih sredstava | I48: =SUM(I49:I52) -> 728173 | J48: =SUM(J49:J52) -> 391167 | K48: =SUM(K49:K52) -> 1119340 | L48: =SUM(L49:L52) -> 0 | M48: =SUM(M49:M52) -> 0 | N48: =SUM(N49:N52) -> 0 | O48: =IF(K48=0,"",N48/K48*100) -> 0
F49: 821100 | H49: Nabavka zemljišta | I49: 0 | J49: 0 | K49: =SUM(I49:J49) -> 0 | N49: =SUM(L49:M49) -> 0 | O49: =IF(K49=0,"",N49/K49*100)
F50: 821200 | H50: Nabavka građevina | I50: =600000-391167+300000+4300+30000 -> 543133 | J50: 391167 | K50: =SUM(I50:J50) -> 934300 | N50: =SUM(L50:M50) -> 0 | O50: =IF(K50=0,"",N50/K50*100) -> 0
F51: 821300 | H51: Nabavka opreme | I51: =10006+145034 -> 155040 | J51: 0 | K51: =SUM(I51:J51) -> 155040 | N51: =SUM(L51:M51) -> 0 | O51: =IF(K51=0,"",N51/K51*100) -> 0
F52: 821500 | H52: Nabavka stalnih sredstava u obliku prava | I52: 30000 | J52: 0 | K52: =SUM(I52:J52) -> 30000 | N52: =SUM(L52:M52) -> 0 | O52: =IF(K52=0,"",N52/K52*100) -> 0
O53: =IF(K53=0,"",N53/K53*100)
H54: Ukupan broj zaposlenih: | I54: 8 | K54: 8
H55: Ukupno za potrošačku jedinicu: | I55: =I11+I16+I21+I24+I37+I45+I48 -> 3883043 | J55: =J11+J16+J21+J24+J37+J45+J48 -> 441167 | K55: =K11+K16+K21+K24+K37+K45+K48 -> 4324210 | L55: =L11+L16+L21+L24+L37+L45+L48 -> 0 | M55: =M11+M16+M21+M24+M37+M45+M48 -> 0 | N55: =N11+N16+N21+N24+N37+N45+N48 -> 0 | O55: =IF(K55=0,"",N55/K55*100) -> 0
H56: Ukupno za proračunsku instituciju: | I56: =I57 -> 5320193 | J56: =J57 -> 441167 | K56: =K57 -> 5761360 | L56: =L57 -> 0 | M56: =M57 -> 0 | N56: =N57 -> 0 | O56: =IF(K56=0,"",N56/K56*100) -> 0
H57: Ukupno za ministarstvo (razdjel): | I57: =I55+I84+I113+I142+I174+I203 -> 5320193 | J57: =J55+J84+J113+J142+J174+J203 -> 441167 | K57: =K55+K84+K113+K142+K174+K203 -> 5761360 | L57: =L55+L84+L113+L142+L174+L203 -> 0 | M57: =M55+M84+M113+M142+M174+M203 -> 0 | N57: =N55+N84+N113+N142+N174+N203 -> 0 | O57: =IF(K57=0,"",N57/K57*100) -> 0
O59: =IF(K59=0,"",N59/K59*100)
B60: 11 | C60: 01 | D60: 0003 | E60: 0111 | H60: URED ZA ZAKONODAVSTVO VLADE ŽP | O60: =IF(K60=0,"",N60/K60*100)
F61: 611000 | H61: Plaće i naknade troškova zaposlenih | I61: =SUM(I62:I64) -> 75190 | J61: =SUM(J62:J64) -> 0 | K61: =SUM(K62:K64) -> 75190 | L61: =SUM(L62:L64) -> 0 | M61: =SUM(M62:M64) -> 0 | N61: =SUM(N62:N64) -> 0 | O61: =IF(K61=0,"",N61/K61*100) -> 0
F62: 611100 | H62: Bruto plaće i naknade plaća | I62: =41510+200+9*2250+2450 -> 64410 | J62: 0 | K62: =SUM(I62:J62) -> 64410 | N62: =SUM(L62:M62) -> 0 | O62: =IF(K62=0,"",N62/K62*100) -> 0
F63: 611200 | H63: Naknade troškova zaposlenih | I63: =5380+850+4550 -> 10780 | J63: 0 | K63: =SUM(I63:J63) -> 10780 | N63: =SUM(L63:M63) -> 0 | O63: =IF(K63=0,"",N63/K63*100) -> 0
O64: =IF(K64=0,"",N64/K64*100)
F65: 612000 | H65: Doprinosi poslodavca i ostali doprinosi | I65: =I66 -> 3350 | J65: =J66 -> 0 | K65: =K66 -> 3350 | L65: =L66 -> 0 | M65: =M66 -> 0 | N65: =N66 -> 0 | O65: =IF(K65=0,"",N65/K65*100) -> 0
F66: 612100 | H66: Doprinosi poslodavca | I66: =2070+30+9*120+30+140 -> 3350 | J66: 0 | K66: =SUM(I66:J66) -> 3350 | N66: =SUM(L66:M66) -> 0 | O66: =IF(K66=0,"",N66/K66*100) -> 0
O67: =IF(K67=0,"",N67/K67*100)
F68: 613000 | H68: Izdaci za materijal, sitan inv. i usluge | I68: =SUM(I69:I77) -> 2000 | J68: =SUM(J69:J77) -> 0 | K68: =SUM(K69:K77) -> 2000 | L68: =SUM(L69:L77) -> 0 | M68: =SUM(M69:M77) -> 0 | N68: =SUM(N69:N77) -> 0 | O68: =IF(K68=0,"",N68/K68*100) -> 0
F69: 613100 | H69: Putni troškovi | I69: 500 | J69: 0 | K69: =SUM(I69:J69) -> 500 | N69: =SUM(L69:M69) -> 0 | O69: =IF(K69=0,"",N69/K69*100) -> 0
F70: 613200 | H70: Izdaci za energiju | I70: 0 | J70: 0 | K70: =SUM(I70:J70) -> 0 | N70: =SUM(L70:M70) -> 0 | O70: =IF(K70=0,"",N70/K70*100)
F71: 613300 | H71: Izdaci za komunikaciju i komunalne usluge | I71: 200 | J71: 0 | K71: =SUM(I71:J71) -> 200 | N71: =SUM(L71:M71) -> 0 | O71: =IF(K71=0,"",N71/K71*100) -> 0
F72: 613400 | H72: Nabavka materijala i sitnog inventara | I72: 0 | J72: 0 | K72: =SUM(I72:J72) -> 0 | N72: =SUM(L72:M72) -> 0 | O72: =IF(K72=0,"",N72/K72*100)
F73: 613500 | H73: Izdaci za usluge prijevoza i goriva | I73: 0 | J73: 0 | K73: =SUM(I73:J73) -> 0 | N73: =SUM(L73:M73) -> 0 | O73: =IF(K73=0,"",N73/K73*100)
F74: 613600 | H74: Unajmljivanje imovine, opreme i nemat.imovine | I74: 0 | J74: 0 | K74: =SUM(I74:J74) -> 0 | N74: =SUM(L74:M74) -> 0 | O74: =IF(K74=0,"",N74/K74*100)
F75: 613700 | H75: Izdaci za tekuće održavanje | I75: 300 | J75: 0 | K75: =SUM(I75:J75) -> 300 | N75: =SUM(L75:M75) -> 0 | O75: =IF(K75=0,"",N75/K75*100) -> 0
F76: 613800 | H76: Izdaci osiguranja, bank. usluga i usluga p.p. | I76: 0 | J76: 0 | K76: =SUM(I76:J76) -> 0 | N76: =SUM(L76:M76) -> 0 | O76: =IF(K76=0,"",N76/K76*100)
F77: 613900 | H77: Ugovorene i druge posebne usluge | I77: 1000 | J77: 0 | K77: =SUM(I77:J77) -> 1000 | N77: =SUM(L77:M77) -> 0 | O77: =IF(K77=0,"",N77/K77*100) -> 0
O78: =IF(K78=0,"",N78/K78*100)
F79: 821000 | H79: Izdaci za nabavku stalnih sredstava | I79: =SUM(I80:I81) -> 1000 | J79: =SUM(J80:J81) -> 0 | K79: =SUM(K80:K81) -> 1000 | L79: =SUM(L80:L81) -> 0 | M79: =SUM(M80:M81) -> 0 | N79: =SUM(N80:N81) -> 0 | O79: =IF(K79=0,"",N79/K79*100) -> 0
F80: 821200 | H80: Nabavka građevina | I80: 0 | J80: 0 | K80: =SUM(I80:J80) -> 0 | N80: =SUM(L80:M80) -> 0 | O80: =IF(K80=0,"",N80/K80*100)
F81: 821300 | H81: Nabavka opreme | I81: 1000 | J81: 0 | K81: =SUM(I81:J81) -> 1000 | N81: =SUM(L81:M81) -> 0 | O81: =IF(K81=0,"",N81/K81*100) -> 0
O82: =IF(K82=0,"",N82/K82*100)
H83: Ukupan broj zaposlenih: | I83: 2 | K83: 2
H84: Ukupno za potrošačku jedinicu: | I84: =I61+I65+I68+I79 -> 81540 | J84: =J61+J65+J68+J79 -> 0 | K84: =K61+K65+K68+K79 -> 81540 | L84: =L61+L65+L68+L79 -> 0 | M84: =M61+M65+M68+M79 -> 0 | N84: =N61+N65+N68+N79 -> 0 | O84: =IF(K84=0,"",N84/K84*100) -> 0
H85: Ukupno za proračunsku instituciju: | O85: =IF(K85=0,"",N85/K85*100)
H86: Ukupno za ministarstvo (razdjel): | O86: =IF(K86=0,"",N86/K86*100)
O87: =IF(K87=0,"",N87/K87*100)
O88: =IF(K88=0,"",N88/K88*100)
B89: 11 | C89: 01 | D89: 0004 | E89: 0111 | H89: SLUŽBA ZA ODNOSE S JAVNOŠĆU VLADE ŽP | O89: =IF(K89=0,"",N89/K89*100)
F90: 611000 | H90: Plaće i naknade troškova zaposlenih | I90: =SUM(I91:I93) -> 110660 | J90: =SUM(J91:J93) -> 0 | K90: =SUM(K91:K93) -> 110660 | L90: =SUM(L91:L93) -> 0 | M90: =SUM(M91:M93) -> 0 | N90: =SUM(N91:N93) -> 0 | O90: =IF(K90=0,"",N90/K90*100) -> 0
F91: 611100 | H91: Bruto plaće i naknade plaća | I91: =88840+300+5070 -> 94210 | J91: 0 | K91: =SUM(I91:J91) -> 94210 | N91: =SUM(L91:M91) -> 0 | O91: =IF(K91=0,"",N91/K91*100) -> 0
F92: 611200 | H92: Naknade troškova zaposlenih | I92: =16450 -> 16450 | J92: 0 | K92: =SUM(I92:J92) -> 16450 | N92: =SUM(L92:M92) -> 0 | O92: =IF(K92=0,"",N92/K92*100) -> 0
O93: =IF(K93=0,"",N93/K93*100)
F94: 612000 | H94: Doprinosi poslodavca i ostali doprinosi | I94: =I95 -> 4650 | J94: =J95 -> 0 | K94: =K95 -> 4650 | L94: =L95 -> 0 | M94: =M95 -> 0 | N94: =N95 -> 0 | O94: =IF(K94=0,"",N94/K94*100) -> 0
F95: 612100 | H95: Doprinosi poslodavca | I95: =4400+250 -> 4650 | J95: 0 | K95: =SUM(I95:J95) -> 4650 | N95: =SUM(L95:M95) -> 0 | O95: =IF(K95=0,"",N95/K95*100) -> 0
O96: =IF(K96=0,"",N96/K96*100)
F97: 613000 | H97: Izdaci za materijal, sitan inv. i usluge | I97: =SUM(I98:I106) -> 7650 | J97: =SUM(J98:J106) -> 0 | K97: =SUM(K98:K106) -> 7650 | L97: =SUM(L98:L106) -> 0 | M97: =SUM(M98:M106) -> 0 | N97: =SUM(N98:N106) -> 0 | O97: =IF(K97=0,"",N97/K97*100) -> 0
F98: 613100 | H98: Putni troškovi | I98: 750 | J98: 0 | K98: =SUM(I98:J98) -> 750 | N98: =SUM(L98:M98) -> 0 | O98: =IF(K98=0,"",N98/K98*100) -> 0
F99: 613200 | H99: Izdaci za energiju | I99: 0 | J99: 0 | K99: =SUM(I99:J99) -> 0 | N99: =SUM(L99:M99) -> 0 | O99: =IF(K99=0,"",N99/K99*100)
F100: 613300 | H100: Izdaci za komunikaciju i komunalne usluge | I100: 3500 | J100: 0 | K100: =SUM(I100:J100) -> 3500 | N100: =SUM(L100:M100) -> 0 | O100: =IF(K100=0,"",N100/K100*100) -> 0
F101: 613400 | H101: Nabavka materijala i sitnog inventara | I101: 550 | J101: 0 | K101: =SUM(I101:J101) -> 550 | N101: =SUM(L101:M101) -> 0 | O101: =IF(K101=0,"",N101/K101*100) -> 0
F102: 613500 | H102: Izdaci za usluge prijevoza i goriva | I102: 0 | J102: 0 | K102: =SUM(I102:J102) -> 0 | N102: =SUM(L102:M102) -> 0 | O102: =IF(K102=0,"",N102/K102*100)
F103: 613600 | H103: Unajmljivanje imovine, opreme i nemat.imovine | I103: 0 | J103: 0 | K103: =SUM(I103:J103) -> 0 | N103: =SUM(L103:M103) -> 0 | O103: =IF(K103=0,"",N103/K103*100)
...

Sheet 12
B1: ZAHTJEV ZA IZMJENE I DOPUNE PRORAČUNA ZA 2026. GODINU
M2: Datum zahtjeva:
B3: NAZIV RAZDJELA: | F3: ZAJEDNIČKA SLUŽBA VLADE ŽUPANIJE POSAVSKE
B5: RAZDJEL: | D5: 12
B7: Ministarstvo (razdjel) | C7: Proračunska institucija | D7: Potrošačka jedinica | E7: Funkcija | F7: Ekon. kod | G7: Subanalitika | H7: OPIS | I7: PRORAČUN za 2026./ (poveć./smanj.) | L7: ZAHTJEV za Izmjene i dopune Proračuna za 2026. | O7: INDEKS
I8: iz prorač. sredstava | J8: iz ostalih izvora | K8: UKUPNO | L8: iz prorač. sredstava | M8: iz ostalih izvora | N8: UKUPNO
B9: 1 | C9: 2 | D9: 3 | E9: 4 | F9: 5 | G9: 6 | H9: 7 | I9: 8 | J9: 9 | K9: 10=8+9 | L9: 11 | M9: 12 | N9: 13=11+12 | O9: 14=13/10
B10: 12 | C10: 01 | D10: 0001 | E10: 0133 | H10: ZAJEDNIČKA SLUŽBA VLADE ŽP | O10: =IF(K10=0,"",N10/K10*100)
F11: 611000 | H11: Plaće i naknade troškova zaposlenih | I11: =I12+I13 -> 657720 | J11: =SUM(J12:J14) -> 0 | K11: =SUM(K12:K14) -> 657720 | L11: =SUM(L12:L14) -> 0 | M11: =SUM(M12:M14) -> 0 | N11: =SUM(N12:N14) -> 0 | O11: =IF(K11=0,"",N11/K11*100) -> 0
F12: 611100 | H12: Bruto plaće i naknade plaća | I12: =528750-16200+1820+730+29800 -> 544900 | J12: 0 | K12: =SUM(I12:J12) -> 544900 | N12: =SUM(L12:M12) -> 0 | O12: =IF(K12=0,"",N12/K12*100) -> 0
F13: 611200 | H13: Naknade troškova zaposlenih | I13: =112230-850-4230+4050+1620 -> 112820 | J13: 0 | K13: =SUM(I13:J13) -> 112820 | N13: =SUM(L13:M13) -> 0 | O13: =IF(K13=0,"",N13/K13*100) -> 0
O14: =IF(K14=0,"",N14/K14*100)
F15: 612000 | H15: Doprinosi poslodavca i ostali doprinosi | I15: =I16 -> 27300 | J15: =J16 -> 0 | K15: =K16 -> 27300 | L15: =L16 -> 0 | M15: =M16 -> 0 | N15: =N16 -> 0 | O15: =IF(K15=0,"",N15/K15*100) -> 0
F16: 612100 | H16: Doprinosi poslodavca | I16: =26290-820+300+120+1410 -> 27300 | J16: 0 | K16: =SUM(I16:J16) -> 27300 | N16: =SUM(L16:M16) -> 0 | O16: =IF(K16=0,"",N16/K16*100) -> 0
O17: =IF(K17=0,"",N17/K17*100)
F18: 613000 | H18: Izdaci za materijal, sitan inv. i usluge | I18: =SUM(I19:I27) -> 499000 | J18: =SUM(J19:J27) -> 0 | K18: =SUM(K19:K27) -> 499000 | L18: =SUM(L19:L27) -> 0 | M18: =SUM(M19:M27) -> 0 | N18: =SUM(N19:N27) -> 0 | O18: =IF(K18=0,"",N18/K18*100) -> 0
F19: 613100 | H19: Putni troškovi | I19: 13000 | J19: 0 | K19: =SUM(I19:J19) -> 13000 | N19: =SUM(L19:M19) -> 0 | O19: =IF(K19=0,"",N19/K19*100) -> 0
F20: 613200 | H20: Izdaci za energiju | I20: 95000 | J20: 0 | K20: =SUM(I20:J20) -> 95000 | N20: =SUM(L20:M20) -> 0 | O20: =IF(K20=0,"",N20/K20*100) -> 0
F21: 613300 | H21: Izdaci za komunikaciju i komunalne usluge | I21: 60000 | J21: 0 | K21: =SUM(I21:J21) -> 60000 | N21: =SUM(L21:M21) -> 0 | O21: =IF(K21=0,"",N21/K21*100) -> 0
F22: 613400 | H22: Nabavka materijala i sitnog inventara | I22: 105000 | J22: 0 | K22: =SUM(I22:J22) -> 105000 | N22: =SUM(L22:M22) -> 0 | O22: =IF(K22=0,"",N22/K22*100) -> 0
F23: 613500 | H23: Izdaci za usluge prijevoza i goriva | I23: 80000 | J23: 0 | K23: =SUM(I23:J23) -> 80000 | N23: =SUM(L23:M23) -> 0 | O23: =IF(K23=0,"",N23/K23*100) -> 0
F24: 613600 | H24: Unajmljivanje imovine, opreme i nemat.imovine | I24: 0 | J24: 0 | K24: =SUM(I24:J24) -> 0 | N24: =SUM(L24:M24) -> 0 | O24: =IF(K24=0,"",N24/K24*100)
F25: 613700 | H25: Izdaci za tekuće održavanje | I25: 40000 | J25: 0 | K25: =SUM(I25:J25) -> 40000 | N25: =SUM(L25:M25) -> 0 | O25: =IF(K25=0,"",N25/K25*100) -> 0
F26: 613800 | H26: Izdaci osiguranja, bank. usluga i usluga p.p. | I26: 16000 | J26: 0 | K26: =SUM(I26:J26) -> 16000 | N26: =SUM(L26:M26) -> 0 | O26: =IF(K26=0,"",N26/K26*100) -> 0
F27: 613900 | H27: Ugovorene i druge posebne usluge | I27: 90000 | J27: 0 | K27: =SUM(I27:J27) -> 90000 | N27: =SUM(L27:M27) -> 0 | O27: =IF(K27=0,"",N27/K27*100) -> 0
O28: =IF(K28=0,"",N28/K28*100)
F29: 821000 | H29: Izdaci za nabavku stalnih sredstava | I29: =SUM(I30:I31) -> 24000 | J29: =SUM(J30:J31) -> 0 | K29: =SUM(K30:K31) -> 24000 | L29: =SUM(L30:L31) -> 0 | M29: =SUM(M30:M31) -> 0 | N29: =SUM(N30:N31) -> 0 | O29: =IF(K29=0,"",N29/K29*100) -> 0
F30: 821200 | H30: Nabavka građevina | I30: 0 | J30: 0 | K30: =SUM(I30:J30) -> 0 | N30: =SUM(L30:M30) -> 0 | O30: =IF(K30=0,"",N30/K30*100)
F31: 821300 | H31: Nabavka opreme | I31: 24000 | J31: 0 | K31: =SUM(I31:J31) -> 24000 | N31: =SUM(L31:M31) -> 0 | O31: =IF(K31=0,"",N31/K31*100) -> 0
O32: =IF(K32=0,"",N32/K32*100)
H33: Ukupan broj zaposlenih: | I33: 20 | K33: 20
H34: Ukupno za potrošačku jedinicu: | I34: =I11+I15+I18+I29 -> 1208020 | J34: =J11+J15+J18+J29 -> 0 | K34: =K11+K15+K18+K29 -> 1208020 | L34: =L11+L15+L18+L29 -> 0 | M34: =M11+M15+M18+M29 -> 0 | N34: =N11+N15+N18+N29 -> 0 | O34: =IF(K34=0,"",N34/K34*100) -> 0
H35: Ukupno za proračunsku instituciju: | I35: =I34 -> 1208020 | J35: =J34 -> 0 | K35: =K34 -> 1208020 | L35: =L34 -> 0 | M35: =M34 -> 0 | N35: =N34 -> 0 | O35: =IF(K35=0,"",N35/K35*100) -> 0
H36: Ukupno za ministarstvo (razdjel): | I36: =I35 -> 1208020 | J36: =J35 -> 0 | K36: =K35 -> 1208020 | L36: =L35 -> 0 | M36: =M35 -> 0 | N36: =N35 -> 0 | O36: =IF(K36=0,"",N36/K36*100) -> 0
O38: =IF(K38=0,"",N38/K38*100)

Sheet 13
B1: ZAHTJEV ZA IZMJENE I DOPUNE PRORAČUNA ZA 2026. GODINU
M2: Datum zahtjeva:
B3: NAZIV RAZDJELA: | F3: MINISTARSTVO UNUTARNJIH POSLOVA ŽUPANIJE POSAVSKE
B5: RAZDJEL: | D5: 13
B7: Ministarstvo (razdjel) | C7: Proračunska institucija | D7: Potrošačka jedinica | E7: Funkcija | F7: Ekon. kod | G7: Subanalitika | H7: OPIS | I7: PRORAČUN za 2026./ (poveć./smanj.) | L7: ZAHTJEV za Izmjene i dopune Proračuna za 2026. | O7: INDEKS
I8: iz prorač. sredstava | J8: iz ostalih izvora | K8: UKUPNO | L8: iz prorač. sredstava | M8: iz ostalih izvora | N8: UKUPNO
B9: 1 | C9: 2 | D9: 3 | E9: 4 | F9: 5 | G9: 6 | H9: 7 | I9: 8 | J9: 9 | K9: 10=8+9 | L9: 11 | M9: 12 | N9: 13=11+12 | O9: 14=13/10
B10: 13 | C10: 01 | D10: 0001 | E10: 0310 | H10: MINISTARSTVO UNUTARNJIH POSLOVA ŽP | O10: =IF(K10=0,"",N10/K10*100)
F11: 611000 | H11: Plaće i naknade troškova zaposlenih | I11: =I12+I13 -> 9146370 | J11: =SUM(J12:J14) -> 0 | K11: =SUM(K12:K14) -> 9146370 | L11: =SUM(L12:L14) -> 0 | M11: =SUM(M12:M14) -> 0 | N11: =SUM(N12:N14) -> 0 | O11: =IF(K11=0,"",N11/K11*100) -> 0
F12: 611100 | H12: Bruto plaće i naknade plaća | I12: =7249000+10*730+1280+14*1820+31010+11890+413150 -> 7739110 | J12: 0 | K12: =SUM(I12:J12) -> 7739110 | N12: =SUM(L12:M12) -> 0 | O12: =IF(K12=0,"",N12/K12*100) -> 0
F13: 611200 | H13: Naknade troškova zaposlenih | I13: =1195400+10*1620+2840+14*4050+136120 -> 1407260 | J13: 0 | K13: =SUM(I13:J13) -> 1407260 | N13: =SUM(L13:M13) -> 0 | O13: =IF(K13=0,"",N13/K13*100) -> 0
O14: =IF(K14=0,"",N14/K14*100)
F15: 612000 | H15: Doprinosi poslodavca i ostali doprinosi | I15: =I16+I17+I18 -> 757160 | J15: =J16+J17 -> 0 | K15: =K16+K17 -> 757160 | L15: =L16+L17 -> 0 | M15: =M16+M17 -> 0 | N15: =N16+N17 -> 0 | O15: =IF(K15=0,"",N15/K15*100) -> 0
F16: 612100 | H16: Doprinosi poslodavca | I16: 753660 | J16: 0 | K16: =SUM(I16:J16) -> 753660 | N16: =SUM(L16:M16) -> 0 | O16: =IF(K16=0,"",N16/K16*100) -> 0
F17: 612100 | G17: DA6002 | H17: Ostali doprinosi iz ranijih razdoblja | I17: 3500 | J17: 0 | K17: =SUM(I17:J17) -> 3500 | N17: =SUM(L17:M17) -> 0 | O17: =IF(K17=0,"",N17/K17*100) -> 0
O18: =IF(K18=0,"",N18/K18*100)
F19: 613000 | H19: Izdaci za materijal, sitan inv. i usluge | I19: =SUM(I20:I28) -> 1216500 | J19: =SUM(J20:J28) -> 0 | K19: =SUM(K20:K28) -> 1216500 | L19: =SUM(L20:L28) -> 0 | M19: =SUM(M20:M28) -> 0 | N19: =SUM(N20:N28) -> 0 | O19: =IF(K19=0,"",N19/K19*100) -> 0
F20: 613100 | H20: Putni troškovi | I20: 17000 | J20: 0 | K20: =SUM(I20:J20) -> 17000 | N20: =SUM(L20:M20) -> 0 | O20: =IF(K20=0,"",N20/K20*100) -> 0
F21: 613200 | H21: Izdaci za energiju | I21: 95000 | J21: 0 | K21: =SUM(I21:J21) -> 95000 | N21: =SUM(L21:M21) -> 0 | O21: =IF(K21=0,"",N21/K21*100) -> 0
F22: 613300 | H22: Izdaci za komunikaciju i komunalne usluge | I22: 82000 | J22: 0 | K22: =SUM(I22:J22) -> 82000 | N22: =SUM(L22:M22) -> 0 | O22: =IF(K22=0,"",N22/K22*100) -> 0
F23: 613400 | H23: Nabavka materijala i sitnog inventara | I23: 448000 | J23: 0 | K23: =SUM(I23:J23) -> 448000 | N23: =SUM(L23:M23) -> 0 | O23: =IF(K23=0,"",N23/K23*100) -> 0
F24: 613500 | H24: Izdaci za usluge prijevoza i goriva | I24: 132000 | J24: 0 | K24: =SUM(I24:J24) -> 132000 | N24: =SUM(L24:M24) -> 0 | O24: =IF(K24=0,"",N24/K24*100) -> 0
F25: 613600 | H25: Unajmljivanje imovine, opreme i nemat.imovine | I25: 0 | J25: 0 | K25: =SUM(I25:J25) -> 0 | N25: =SUM(L25:M25) -> 0 | O25: =IF(K25=0,"",N25/K25*100)
F26: 613700 | H26: Izdaci za tekuće održavanje | I26: 130000 | J26: 0 | K26: =SUM(I26:J26) -> 130000 | N26: =SUM(L26:M26) -> 0 | O26: =IF(K26=0,"",N26/K26*100) -> 0
F27: 613800 | H27: Izdaci osiguranja, bank. usluga i usluga p.p. | I27: 39000 | J27: 0 | K27: =SUM(I27:J27) -> 39000 | N27: =SUM(L27:M27) -> 0 | O27: =IF(K27=0,"",N27/K27*100) -> 0
F28: 613900 | H28: Ugovorene i druge posebne usluge | I28: 273500 | J28: 0 | K28: =SUM(I28:J28) -> 273500 | N28: =SUM(L28:M28) -> 0 | O28: =IF(K28=0,"",N28/K28*100) -> 0
O29: =IF(K29=0,"",N29/K29*100)
F30: 821000 | H30: Izdaci za nabavku stalnih sredstava | I30: =SUM(I31:I32) -> 530000 | J30: =SUM(J31:J32) -> 0 | K30: =SUM(K31:K32) -> 530000 | L30: =SUM(L31:L32) -> 0 | M30: =SUM(M31:M32) -> 0 | N30: =SUM(N31:N32) -> 0 | O30: =IF(K30=0,"",N30/K30*100) -> 0
F31: 821200 | H31: Nabavka građevina | I31: 30000 | J31: 0 | K31: =SUM(I31:J31) -> 30000 | N31: =SUM(L31:M31) -> 0 | O31: =IF(K31=0,"",N31/K31*100) -> 0
F32: 821300 | H32: Nabavka opreme | I32: 500000 | J32: 0 | K32: =SUM(I32:J32) -> 500000 | N32: =SUM(L32:M32) -> 0 | O32: =IF(K32=0,"",N32/K32*100) -> 0
O33: =IF(K33=0,"",N33/K33*100)
H34: Ukupan broj zaposlenih: | I34: 204 (205) | K34: 204 (205)
H35: Ukupno za potrošačku jedinicu: | I35: =I11+I15+I19+I30 -> 11650030 | J35: =J11+J15+J19+J30 -> 0 | K35: =K11+K15+K19+K30 -> 11650030 | L35: =L11+L15+L19+L30 -> 0 | M35: =M11+M15+M19+M30 -> 0 | N35: =N11+N15+N19+N30 -> 0 | O35: =IF(K35=0,"",N35/K35*100) -> 0
H36: Ukupno za proračunsku instituciju: | I36: =I35 -> 11650030 | J36: =J35 -> 0 | K36: =K35 -> 11650030 | L36: =L35 -> 0 | M36: =M35 -> 0 | N36: =N35 -> 0 | O36: =IF(K36=0,"",N36/K36*100) -> 0
H37: Ukupno za ministarstvo (razdjel): | I37: =I36 -> 11650030 | J37: =J36 -> 0 | K37: =K36 -> 11650030 | L37: =L36 -> 0 | M37: =M36 -> 0 | N37: =N36 -> 0 | O37: =IF(K37=0,"",N37/K37*100) -> 0
O39: =IF(K39=0,"",N39/K39*100)

Sheet 14
B1: ZAHTJEV ZA IZMJENE I DOPUNE PRORAČUNA ZA 2026. GODINU
M2: Datum zahtjeva:
B3: NAZIV RAZDJELA: | F3: MINISTARSTVO PRAVOSUĐA I UPRAVE ŽUPANIJE POSAVSKE
B5: RAZDJEL: | D5: 14
B7: Ministarstvo (razdjel) | C7: Proračunska institucija | D7: Potrošačka jedinica | E7: Funkcija | F7: Ekon. kod | G7: Subanalitika | H7: OPIS | I7: PRORAČUN za 2026./ (poveć./smanj.) | L7: ZAHTJEV za Izmjene i dopune Proračuna za 2026. | O7: INDEKS
I8: iz prorač. sredstava | J8: iz ostalih izvora | K8: UKUPNO | L8: iz prorač. sredstava | M8: iz ostalih izvora | N8: UKUPNO
B9: 1 | C9: 2 | D9: 3 | E9: 4 | F9: 5 | G9: 6 | H9: 7 | I9: 8 | J9: 9 | K9: 10=8+9 | L9: 11 | M9: 12 | N9: 13=11+12 | O9: 14=13/10
B10: 14 | C10: 01 | D10: 0001 | E10: 0360 | H10: MINISTARSTVO PRAVOSUĐA I UPRAVE ŽP | O10: =IF(K10=0,"",N10/K10*100)
F11: 611000 | H11: Plaće i naknade troškova zaposlenih | I11: =SUM(I12:I14) -> 315030 | J11: =SUM(J12:J14) -> 0 | K11: =SUM(K12:K14) -> 315030 | L11: =SUM(L12:L14) -> 0 | M11: =SUM(M12:M14) -> 0 | N11: =SUM(N12:N14) -> 0 | O11: =IF(K11=0,"",N11/K11*100) -> 0
F12: 611100 | H12: Bruto plaće i naknade plaća | I12: =239020+730+7*1800+13630 -> 265980 | J12: 0 | K12: =SUM(I12:J12) -> 265980 | N12: =SUM(L12:M12) -> 0 | O12: =IF(K12=0,"",N12/K12*100) -> 0
F13: 611200 | H13: Naknade troškova zaposlenih | I13: =43050+1620+850+3530 -> 49050 | J13: 0 | K13: =SUM(I13:J13) -> 49050 | N13: =SUM(L13:M13) -> 0 | O13: =IF(K13=0,"",N13/K13*100) -> 0
O14: =IF(K14=0,"",N14/K14*100)
F15: 612000 | H15: Doprinosi poslodavca i ostali doprinosi | I15: =I16 -> 13300 | J15: =J16 -> 0 | K15: =K16 -> 13300 | L15: =L16 -> 0 | M15: =M16 -> 0 | N15: =N16 -> 0 | O15: =IF(K15=0,"",N15/K15*100) -> 0
F16: 612100 | H16: Doprinosi poslodavca | I16: =11870+120+7*90+680 -> 13300 | J16: 0 | K16: =SUM(I16:J16) -> 13300 | N16: =SUM(L16:M16) -> 0 | O16: =IF(K16=0,"",N16/K16*100) -> 0
O17: =IF(K17=0,"",N17/K17*100)
F18: 613000 | H18: Izdaci za materijal, sitan inv. i usluge | I18: =SUM(I19:I29) -> 238800 | J18: =SUM(J19:J29) -> 0 | K18: =SUM(K19:K29) -> 238800 | L18: =SUM(L19:L29) -> 0 | M18: =SUM(M19:M29) -> 0 | N18: =SUM(N19:N29) -> 0 | O18: =IF(K18=0,"",N18/K18*100) -> 0
F19: 613100 | H19: Putni troškovi | I19: 3500 | J19: 0 | K19: =SUM(I19:J19) -> 3500 | N19: =SUM(L19:M19) -> 0 | O19: =IF(K19=0,"",N19/K19*100) -> 0
F20: 613200 | H20: Izdaci za energiju | I20: 0 | J20: 0 | K20: =SUM(I20:J20) -> 0 | N20: =SUM(L20:M20) -> 0 | O20: =IF(K20=0,"",N20/K20*100)
F21: 613300 | H21: Izdaci za komunikaciju i komunalne usluge | I21: 2800 | J21: 0 | K21: =SUM(I21:J21) -> 2800 | N21: =SUM(L21:M21) -> 0 | O21: =IF(K21=0,"",N21/K21*100) -> 0
F22: 613400 | H22: Nabavka materijala i sitnog inventara | I22: 3000 | J22: 0 | K22: =SUM(I22:J22) -> 3000 | N22: =SUM(L22:M22) -> 0 | O22: =IF(K22=0,"",N22/K22*100) -> 0
F23: 613500 | H23: Izdaci za usluge prijevoza i goriva | I23: 0 | J23: 0 | K23: =SUM(I23:J23) -> 0 | N23: =SUM(L23:M23) -> 0 | O23: =IF(K23=0,"",N23/K23*100)
F24: 613600 | H24: Unajmljivanje imovine, opreme i nemat.imovine | I24: 0 | J24: 0 | K24: =SUM(I24:J24) -> 0 | N24: =SUM(L24:M24) -> 0 | O24: =IF(K24=0,"",N24/K24*100)
F25: 613700 | H25: Izdaci za tekuće održavanje | I25: 5000 | J25: 0 | K25: =SUM(I25:J25) -> 5000 | N25: =SUM(L25:M25) -> 0 | O25: =IF(K25=0,"",N25/K25*100) -> 0
F26: 613800 | H26: Izdaci osiguranja, bank. usluga i usluga p.p. | I26: 0 | J26: 0 | K26: =SUM(I26:J26) -> 0 | N26: =SUM(L26:M26) -> 0 | O26: =IF(K26=0,"",N26/K26*100)
F27: 613900 | H27: Ugovorene i druge posebne usluge | I27: 30000 | J27: 0 | K27: =SUM(I27:J27) -> 30000 | N27: =SUM(L27:M27) -> 0 | O27: =IF(K27=0,"",N27/K27*100) -> 0
F28: 613900 | G28: EA6001 | H28: Povjerenstva po Zakonu o drž.službenicima i namještenic. | I28: 44500 | J28: 0 | K28: =SUM(I28:J28) -> 44500 | N28: =SUM(L28:M28) -> 0 | O28: =IF(K28=0,"",N28/K28*100) -> 0
F29: 613900 | G29: EA6002 | H29: Ugovorene i dr.pos.usluge - troškovi izvršenja mjere pritvora | I29: 150000 | J29: 0 | K29: =SUM(I29:J29) -> 150000 | N29: =SUM(L29:M29) -> 0 | O29: =IF(K29=0,"",N29/K29*100) -> 0
O30: =IF(K30=0,"",N30/K30*100)
F31: 821000 | H31: Izdaci za nabavku stalnih sredstava | I31: =SUM(I32:I33) -> 5000 | J31: =SUM(J32:J33) -> 0 | K31: =SUM(K32:K33) -> 5000 | L31: =SUM(L32:L33) -> 0 | M31: =SUM(M32:M33) -> 0 | N31: =SUM(N32:N33) -> 0 | O31: =IF(K31=0,"",N31/K31*100) -> 0
F32: 821200 | H32: Nabavka građevina | I32: 0 | J32: 0 | K32: =SUM(I32:J32) -> 0 | N32: =SUM(L32:M32) -> 0 | O32: =IF(K32=0,"",N32/K32*100)
F33: 821300 | H33: Nabavka opreme | I33: 5000 | J33: 0 | K33: =SUM(I33:J33) -> 5000 | N33: =SUM(L33:M33) -> 0 | O33: =IF(K33=0,"",N33/K33*100) -> 0
O34: =IF(K34=0,"",N34/K34*100)
H35: Ukupan broj zaposlenih: | I35: 7 (8) | K35: 7 (8)
H36: Ukupno za potrošačku jedinicu: | I36: =I11+I15+I18+I31 -> 572130 | J36: =J11+J15+J18+J31 -> 0 | K36: =K11+K15+K18+K31 -> 572130 | L36: =L11+L15+L18+L31 -> 0 | M36: =M11+M15+M18+M31 -> 0 | N36: =N11+N15+N18+N31 -> 0 | O36: =IF(K36=0,"",N36/K36*100) -> 0
H37: Ukupno za proračunsku instituciju: | I37: =I36 -> 572130 | J37: =J36 -> 0 | K37: =K36 -> 572130 | L37: =L36 -> 0 | M37: =M36 -> 0 | N37: =N36 -> 0 | O37: =IF(K37=0,"",N37/K37*100) -> 0
H38: Ukupno za ministarstvo (razdjel): | I38: =I36+I67+I96+I125+I154+I183 -> 3531480 | J38: =J36+J67+J96+J125+J154+J183 -> 0 | K38: =K36+K67+K96+K125+K154+K183 -> 3531480 | L38: =L36+L67+L96+L125+L154+L183 -> 0 | M38: =M36+M67+M96+M125+M154+M183 -> 0 | N38: =N36+N67+N96+N125+N154+N183 -> 0 | O38: =IF(K38=0,"",N38/K38*100) -> 0
O40: =IF(K40=0,"",N40/K40*100)
B41: 14 | C41: 02 | D41: 0003 | E41: 0330 | H41: OPĆINSKI SUD U ORAŠJU | O41: =IF(K41=0,"",N41/K41*100)
F42: 611000 | H42: Plaće i naknade troškova zaposlenih | I42: =SUM(I43:I45) -> 1949310 | J42: =SUM(J43:J45) -> 0 | K42: =SUM(K43:K45) -> 1949310 | L42: =SUM(L43:L45) -> 0 | M42: =SUM(M43:M45) -> 0 | N42: =SUM(N43:N45) -> 0 | O42: =IF(K42=0,"",N42/K42*100) -> 0
F43: 611100 | H43: Bruto plaće i naknade plaća | I43: =1526200+730+4*1820+10*6100+86990 -> 1682200 | J43: 0 | K43: =SUM(I43:J43) -> 1682200 | N43: =SUM(L43:M43) -> 0 | O43: =IF(K43=0,"",N43/K43*100) -> 0
F44: 611200 | H44: Naknade troškova zaposlenih | I44: =242140+1620+4*4050+2100+5050 -> 267110 | J44: 0 | K44: =SUM(I44:J44) -> 267110 | N44: =SUM(L44:M44) -> 0 | O44: =IF(K44=0,"",N44/K44*100) -> 0
O45: =IF(K45=0,"",N45/K45*100)
F46: 612000 | H46: Doprinosi poslodavca i ostali doprinosi | I46: =I47 -> 84700 | J46: =J47 -> 0 | K46: =K47 -> 84700 | L46: =L47 -> 0 | M46: =M47 -> 0 | N46: =N47 -> 0 | O46: =IF(K46=0,"",N46/K46*100) -> 0
F47: 612100 | H47: Doprinosi poslodavca | I47: =75950+120+4*300+10*310+4330 -> 84700 | J47: 0 | K47: =SUM(I47:J47) -> 84700 | N47: =SUM(L47:M47) -> 0 | O47: =IF(K47=0,"",N47/K47*100) -> 0
O48: =IF(K48=0,"",N48/K48*100)
F49: 613000 | H49: Izdaci za materijal, sitan inv. i usluge | I49: =SUM(I50:I58) -> 461000 | J49: =SUM(J50:J58) -> 0 | K49: =SUM(K50:K58) -> 461000 | L49: =SUM(L50:L58) -> 0 | M49: =SUM(M50:M58) -> 0 | N49: =SUM(N50:N58) -> 0 | O49: =IF(K49=0,"",N49/K49*100) -> 0
F50: 613100 | H50: Putni troškovi | I50: 7000 | J50: 0 | K50: =SUM(I50:J50) -> 7000 | N50: =SUM(L50:M50) -> 0 | O50: =IF(K50=0,"",N50/K50*100) -> 0
F51: 613200 | H51: Izdaci za energiju | I51: 18000 | J51: 0 | K51: =SUM(I51:J51) -> 18000 | N51: =SUM(L51:M51) -> 0 | O51: =IF(K51=0,"",N51/K51*100) -> 0
F52: 613300 | H52: Izdaci za komunikaciju i komunalne usluge | I52: 70000 | J52: 0 | K52: =SUM(I52:J52) -> 70000 | N52: =SUM(L52:M52) -> 0 | O52: =IF(K52=0,"",N52/K52*100) -> 0
F53: 613400 | H53: Nabavka materijala i sitnog inventara | I53: 14000 | J53: 0 | K53: =SUM(I53:J53) -> 14000 | N53: =SUM(L53:M53) -> 0 | O53: =IF(K53=0,"",N53/K53*100) -> 0
F54: 613500 | H54: Izdaci za usluge prijevoza i goriva | I54: 15000 | J54: 0 | K54: =SUM(I54:J54) -> 15000 | N54: =SUM(L54:M54) -> 0 | O54: =IF(K54=0,"",N54/K54*100) -> 0
F55: 613600 | H55: Unajmljivanje imovine, opreme i nemat.imovine | I55: 0 | J55: 0 | K55: =SUM(I55:J55) -> 0 | N55: =SUM(L55:M55) -> 0 | O55: =IF(K55=0,"",N55/K55*100)
F56: 613700 | H56: Izdaci za tekuće održavanje | I56: 30000 | J56: 0 | K56: =SUM(I56:J56) -> 30000 | N56: =SUM(L56:M56) -> 0 | O56: =IF(K56=0,"",N56/K56*100) -> 0
F57: 613800 | H57: Izdaci osiguranja, bank. usluga i usluga p.p. | I57: 7000 | J57: 0 | K57: =SUM(I57:J57) -> 7000 | N57: =SUM(L57:M57) -> 0 | O57: =IF(K57=0,"",N57/K57*100) -> 0
F58: 613900 | H58: Ugovorene i druge posebne usluge | I58: 300000 | J58: 0 | K58: =SUM(I58:J58) -> 300000 | N58: =SUM(L58:M58) -> 0 | O58: =IF(K58=0,"",N58/K58*100) -> 0
O59: =IF(K59=0,"",N59/K59*100)
O60: =IF(K60=0,"",N60/K60*100)
F61: 821000 | H61: Izdaci za nabavku stalnih sredstava | I61: =I62+I63+I64 -> 55000 | J61: =J62+J63+J64 -> 0 | K61: =K62+K63+K64 -> 55000 | L61: =L62+L63+L64 -> 0 | M61: =M62+M63+M64 -> 0 | N61: =N62+N63+N64 -> 0 | O61: =IF(K61=0,"",N61/K61*100) -> 0
F62: 821200 | H62: Nabavka građevina | I62: 5000 | J62: 0 | K62: =SUM(I62:J62) -> 5000 | N62: =SUM(L62:M62) -> 0 | O62: =IF(K62=0,"",N62/K62*100) -> 0
F63: 821300 | H63: Nabavka opreme | I63: 50000 | J63: 0 | K63: =SUM(I63:J63) -> 50000 | N63: =SUM(L63:M63) -> 0 | O63: =IF(K63=0,"",N63/K63*100) -> 0
F64: 821500 | H64: Nabavka stalnih sredstava u obliku prava | I64: 0 | J64: 0 | K64: =SUM(I64:J64) -> 0 | N64: =SUM(L64:M64) -> 0 | O64: =IF(K64=0,"",N64/K64*100)
O65: =IF(K65=0,"",N65/K65*100)
H66: Ukupan broj zaposlenih: | I66: 42 | K66: 42
H67: Ukupno za potrošačku jedinicu: | I67: =I42+I46+I49+I61 -> 2550010 | J67: =J42+J46+J49+J61 -> 0 | K67: =K42+K46+K49+K61 -> 2550010 | L67: =L42+L46+L49+L61 -> 0 | M67: =M42+M46+M49+M61 -> 0 | N67: =N42+N46+N49+N61 -> 0 | O67: =IF(K67=0,"",N67/K67*100) -> 0
H68: Ukupno za proračunsku instituciju: | I68: =I67 -> 2550010 | J68: =J67 -> 0 | K68: =K67 -> 2550010 | L68: =L67 -> 0 | M68: =M67 -> 0 | N68: =N67 -> 0 | O68: =IF(K68=0,"",N68/K68*100) -> 0
H69: Ukupno za ministarstvo (razdjel): | O69: =IF(K69=0,"",N69/K69*100)
O70: =IF(K70=0,"",N70/K70*100)
O71: =IF(K71=0,"",N71/K71*100)
B72: 14 | C72: 05 | D72: 0001 | E72: 0330 | H72: GRADSKO PRAVOBRANITELJSTVO ORAŠJE | O72: =IF(K72=0,"",N72/K72*100)
F73: 611000 | H73: Plaće i naknade troškova zaposlenih | I73: =I74+I75 -> 58100 | J73: =SUM(J74:J76) -> 0 | K73: =SUM(K74:K76) -> 58100 | L73: =SUM(L74:L76) -> 0 | M73: =SUM(M74:M76) -> 0 | N73: =SUM(N74:N76) -> 0 | O73: =IF(K73=0,"",N73/K73*100) -> 0
F74: 611100 | H74: Bruto plaće i naknade plaća | I74: =49850+2850 -> 52700 | J74: 0 | K74: =SUM(I74:J74) -> 52700 | N74: =SUM(L74:M74) -> 0 | O74: =IF(K74=0,"",N74/K74*100) -> 0
F75: 611200 | H75: Naknade troškova zaposlenih | I75: =5400 -> 5400 | J75: 0 | K75: =SUM(I75:J75) -> 5400 | N75: =SUM(L75:M75) -> 0 | O75: =IF(K75=0,"",N75/K75*100) -> 0
O76: =IF(K76=0,"",N76/K76*100)
F77: 612000 | H77: Doprinosi poslodavca i ostali doprinosi | I77: =I78 -> 2650 | J77: =J78 -> 0 | K77: =K78 -> 2650 | L77: =L78 -> 0 | M77: =M78 -> 0 | N77: =N78 -> 0 | O77: =IF(K77=0,"",N77/K77*100) -> 0
F78: 612100 | H78: Doprinosi poslodavca | I78: =2500+150 -> 2650 | J78: 0 | K78: =SUM(I78:J78) -> 2650 | N78: =SUM(L78:M78) -> 0 | O78: =IF(K78=0,"",N78/K78*100) -> 0
O79: =IF(K79=0,"",N79/K79*100)
F80: 613000 | H80: Izdaci za materijal, sitan inv. i usluge | I80: =SUM(I81:I89) -> 3500 | J80: =SUM(J81:J89) -> 0 | K80: =SUM(K81:K89) -> 3500 | L80: =SUM(L81:L89) -> 0 | M80: =SUM(M81:M89) -> 0 | N80: =SUM(N81:N89) -> 0 | O80: =IF(K80=0,"",N80/K80*100) -> 0
F81: 613100 | H81: Putni troškovi | I81: 500 | J81: 0 | K81: =SUM(I81:J81) -> 500 | N81: =SUM(L81:M81) -> 0 | O81: =IF(K81=0,"",N81/K81*100) -> 0
F82: 613200 | H82: Izdaci za energiju | I82: 0 | J82: 0 | K82: =SUM(I82:J82) -> 0 | N82: =SUM(L82:M82) -> 0 | O82: =IF(K82=0,"",N82/K82*100)
F83: 613300 | H83: Izdaci za komunikaciju i komunalne usluge | I83: 1000 | J83: 0 | K83: =SUM(I83:J83) -> 1000 | N83: =SUM(L83:M83) -> 0 | O83: =IF(K83=0,"",N83/K83*100) -> 0
F84: 613400 | H84: Nabavka materijala i sitnog inventara | I84: 1000 | J84: 0 | K84: =SUM(I84:J84) -> 1000 | N84: =SUM(L84:M84) -> 0 | O84: =IF(K84=0,"",N84/K84*100) -> 0
F85: 613500 | H85: Izdaci za usluge prijevoza i goriva | I85: 0 | J85: 0 | K85: =SUM(I85:J85) -> 0 | N85: =SUM(L85:M85) -> 0 | O85: =IF(K85=0,"",N85/K85*100)
F86: 613600 | H86: Unajmljivanje imovine, opreme i nemat.imovine | I86: 0 | J86: 0 | K86: =SUM(I86:J86) -> 0 | N86: =SUM(L86:M86) -> 0 | O86: =IF(K86=0,"",N86/K86*100)
F87: 613700 | H87: Izdaci za tekuće održavanje | I87: 0 | J87: 0 | K87: =SUM(I87:J87) -> 0 | N87: =SUM(L87:M87) -> 0 | O87: =IF(K87=0,"",N87/K87*100)
F88: 613800 | H88: Izdaci osiguranja, bank. usluga i usluga p.p. | I88: 0 | J88: 0 | K88: =SUM(I88:J88) -> 0 | N88: =SUM(L88:M88) -> 0 | O88: =IF(K88=0,"",N88/K88*100)
F89: 613900 | H89: Ugovorene i druge posebne usluge | I89: 1000 | J89: 0 | K89: =SUM(I89:J89) -> 1000 | N89: =SUM(L89:M89) -> 0 | O89: =IF(K89=0,"",N89/K89*100) -> 0
O90: =IF(K90=0,"",N90/K90*100)
F91: 821000 | H91: Izdaci za nabavku stalnih sredstava | I91: =SUM(I92:I93) -> 1000 | J91: =SUM(J92:J93) -> 0 | K91: =SUM(K92:K93) -> 1000 | L91: =SUM(L92:L93) -> 0 | M91: =SUM(M92:M93) -> 0 | N91: =SUM(N92:N93) -> 0 | O91: =IF(K91=0,"",N91/K91*100) -> 0
F92: 821200 | H92: Nabavka građevina | I92: 0 | J92: 0 | K92: =SUM(I92:J92) -> 0 | N92: =SUM(L92:M92) -> 0 | O92: =IF(K92=0,"",N92/K92*100)
F93: 821300 | H93: Nabavka opreme | I93: 1000 | J93: 0 | K93: =SUM(I93:J93) -> 1000 | N93: =SUM(L93:M93) -> 0 | O93: =IF(K93=0,"",N93/K93*100) -> 0
O94: =IF(K94=0,"",N94/K94*100)
H95: Ukupan broj zaposlenih: | I95: 1 | K95: 1
H96: Ukupno za potrošačku jedinicu: | I96: =I73+I77+I80+I91 -> 65250 | J96: =J73+J77+J80+J91 -> 0 | K96: =K73+K77+K80+K91 -> 65250 | L96: =L73+L77+L80+L91 -> 0 | M96: =M73+M77+M80+M91 -> 0 | N96: =N73+N77+N80+N91 -> 0 | O96: =IF(K96=0,"",N96/K96*100) -> 0
H97: Ukupno za proračunsku instituciju: | O97: =IF(K97=0,"",N97/K97*100)
H98: Ukupno za ministarstvo (razdjel): | O98: =IF(K98=0,"",N98/K98*100)
O99: =IF(K99=0,"",N99/K99*100)
O100: =IF(K100=0,"",N100/K100*100)
B101: 14 | C101: 05 | D101: 0002 | E101: 0330 | H101: OPĆINSKO PRAVOBRANITELJSTVO ODŽAK | O101: =IF(K101=0,"",N101/K101*100)
F102: 611000 | H102: Plaće i naknade troškova zaposlenih | I102: =SUM(I103:I105) -> 90320 | J102: =SUM(J103:J105) -> 0 | K102: =SUM(K103:K105) -> 90320 | L102: =SUM(L103:L105) -> 0 | M102: =SUM(M103:M105) -> 0 | N102: =SUM(N103:N105) -> 0 | O102: =IF(K102=0,"",N102/K102*100) -> 0
F103: 611100 | H103: Bruto plaće i naknade plaća | I103: =102660-12*2500+5700 -> 78360 | J103: 0 | K103: =SUM(I103:J103) -> 78360 | N103: =SUM(L103:M103) -> 0 | O103: =IF(K103=0,"",N103/K103*100) -> 0
...

Sheet 15
B1: ZAHTJEV ZA IZMJENE I DOPUNE PRORAČUNA ZA 2026. GODINU
M2: Datum zahtjeva:
B3: NAZIV RAZDJELA: | F3: MINISTARSTVO GOSPODARSTVA, RADA I PROSTORNOG UREĐENJA ŽUPANIJE POSAVSKE
B5: RAZDJEL: | D5: 15
B7: Ministarstvo (razdjel) | C7: Proračunska institucija | D7: Potrošačka jedinica | E7: Funkcija | F7: Ekon. kod | G7: Subanalitika | H7: OPIS | I7: PRORAČUN za 2026./ (poveć./smanj.) | L7: ZAHTJEV za Izmjene i dopune Proračuna za 2026. | O7: INDEKS
I8: iz prorač. sredstava | J8: iz ostalih izvora | K8: UKUPNO | L8: iz prorač. sredstava | M8: iz ostalih izvora | N8: UKUPNO
B9: 1 | C9: 2 | D9: 3 | E9: 4 | F9: 5 | G9: 6 | H9: 7 | I9: 8 | J9: 9 | K9: 10=8+9 | L9: 11 | M9: 12 | N9: 13=11+12 | O9: 14=13/10
B10: 15 | C10: 01 | D10: 0001 | E10: 0490 | H10: MINIST.GOSPODARSTVA, RADA I PROST.UREĐENJA | O10: =IF(K10=0,"",N10/K10*100)
F11: 611000 | H11: Plaće i naknade troškova zaposlenih | I11: =SUM(I12:I13) -> 522540 | J11: =SUM(J12:J13) -> 0 | K11: =SUM(K12:K13) -> 522540 | L11: =SUM(L12:L13) -> 0 | M11: =SUM(M12:M13) -> 0 | N11: =SUM(N12:N13) -> 0 | O11: =IF(K11=0,"",N11/K11*100) -> 0
F12: 611100 | H12: Bruto plaće i naknade plaća | I12: 448900 | J12: 0 | K12: =SUM(I12:J12) -> 448900 | N12: =SUM(L12:M12) -> 0 | O12: =IF(K12=0,"",N12/K12*100) -> 0
F13: 611200 | H13: Naknade troškova zaposlenih | I13: 73640 | J13: 0 | K13: =SUM(I13:J13) -> 73640 | N13: =SUM(L13:M13) -> 0 | O13: =IF(K13=0,"",N13/K13*100) -> 0
O14: =IF(K14=0,"",N14/K14*100)
F15: 612000 | H15: Doprinosi poslodavca i ostali doprinosi | I15: =I16 -> 21980 | J15: =J16 -> 0 | K15: =K16 -> 21980 | L15: =L16 -> 0 | M15: =M16 -> 0 | N15: =N16 -> 0 | O15: =IF(K15=0,"",N15/K15*100) -> 0
F16: 612100 | H16: Doprinosi poslodavca | I16: 21980 | J16: 0 | K16: =SUM(I16:J16) -> 21980 | N16: =SUM(L16:M16) -> 0 | O16: =IF(K16=0,"",N16/K16*100) -> 0
O17: =IF(K17=0,"",N17/K17*100)
F18: 613000 | H18: Izdaci za materijal, sitan inv. i usluge | I18: =SUM(I19:I28) -> 50600 | J18: =SUM(J19:J28) -> 0 | K18: =SUM(K19:K28) -> 50600 | L18: =SUM(L19:L28) -> 0 | M18: =SUM(M19:M28) -> 0 | N18: =SUM(N19:N28) -> 0 | O18: =IF(K18=0,"",N18/K18*100) -> 0
F19: 613100 | H19: Putni troškovi | I19: 4500 | J19: 0 | K19: =SUM(I19:J19) -> 4500 | N19: =SUM(L19:M19) -> 0 | O19: =IF(K19=0,"",N19/K19*100) -> 0
F20: 613200 | H20: Izdaci za energiju | I20: 0 | J20: 0 | K20: =SUM(I20:J20) -> 0 | N20: =SUM(L20:M20) -> 0 | O20: =IF(K20=0,"",N20/K20*100)
F21: 613300 | H21: Izdaci za komunikaciju i komunalne usluge | I21: 4000 | J21: 0 | K21: =SUM(I21:J21) -> 4000 | N21: =SUM(L21:M21) -> 0 | O21: =IF(K21=0,"",N21/K21*100) -> 0
F22: 613400 | H22: Nabavka materijala i sitnog inventara | I22: 100 | J22: 0 | K22: =SUM(I22:J22) -> 100 | N22: =SUM(L22:M22) -> 0 | O22: =IF(K22=0,"",N22/K22*100) -> 0
F23: 613500 | H23: Izdaci za usluge prijevoza i goriva | I23: 0 | J23: 0 | K23: =SUM(I23:J23) -> 0 | N23: =SUM(L23:M23) -> 0 | O23: =IF(K23=0,"",N23/K23*100)
F24: 613600 | H24: Unajmljivanje imovine, opreme i nemat.imovine | I24: 0 | J24: 0 | K24: =SUM(I24:J24) -> 0 | N24: =SUM(L24:M24) -> 0 | O24: =IF(K24=0,"",N24/K24*100)
F25: 613700 | H25: Izdaci za tekuće održavanje | I25: 1000 | J25: 0 | K25: =SUM(I25:J25) -> 1000 | N25: =SUM(L25:M25) -> 0 | O25: =IF(K25=0,"",N25/K25*100) -> 0
F26: 613800 | H26: Izdaci osiguranja, bank. usluga i usluga p.p. | I26: 0 | J26: 0 | K26: =SUM(I26:J26) -> 0 | N26: =SUM(L26:M26) -> 0 | O26: =IF(K26=0,"",N26/K26*100)
F27: 613900 | H27: Ugovorene i druge posebne usluge | I27: 41000 | J27: 0 | K27: =SUM(I27:J27) -> 41000 | N27: =SUM(L27:M27) -> 0 | O27: =IF(K27=0,"",N27/K27*100) -> 0
F28: 613900 | G28: FA6002 | H28: Ugovorene i druge posebne usluge-prostorni plan | I28: 0 | J28: 0 | K28: =SUM(I28:J28) -> 0 | N28: =SUM(L28:M28) -> 0 | O28: =IF(K28=0,"",N28/K28*100)
O29: =IF(K29=0,"",N29/K29*100)
F30: 614000 | H30: Tekući grantovi i drugi tekući rashodi | I30: =SUM(I31:I32) -> 1590000 | J30: =SUM(J31:J32) -> 0 | K30: =SUM(K31:K32) -> 1590000 | L30: =SUM(L31:L32) -> 0 | M30: =SUM(M31:M32) -> 0 | N30: =SUM(N31:N32) -> 0 | O30: =IF(K30=0,"",N30/K30*100) -> 0
F31: 614100 | G31: FA6003 | H31: Grant za razvoj turizma | I31: 90000 | J31: 0 | K31: =SUM(I31:J31) -> 90000 | N31: =SUM(L31:M31) -> 0 | O31: =IF(K31=0,"",N31/K31*100) -> 0
F32: 614500 | G32: FA6001 | H32: Grant za razvoj poduzetništva, obrta i zadruga | I32: 1500000 | J32: 0 | K32: =SUM(I32:J32) -> 1500000 | N32: =SUM(L32:M32) -> 0 | O32: =IF(K32=0,"",N32/K32*100) -> 0
O33: =IF(K33=0,"",N33/K33*100)
F34: 615000 | H34: Kapitalni grantovi | I34: =I35+I36 -> 800000 | J34: =J35+J36 -> 500000 | K34: =K35+K36 -> 1300000 | L34: =L35+L36 -> 0 | M34: =M35+M36 -> 0 | N34: =N35+N36 -> 0 | O34: =IF(K34=0,"",N34/K34*100) -> 0
F35: 615100 | G35: FA6005 | H35: Kapitalni grant jedinicama lokalne samouprave za razvoj poduzetničke infratsrukture | I35: 0 | J35: 0 | K35: =SUM(I35:J35) -> 0 | N35: =SUM(L35:M35) -> 0 | O35: =IF(K35=0,"",N35/K35*100)
F36: 615500 | G36: FA6004 | H36: Kapitalni grant za razvoj poduzetništva, obrta i zadruga | I36: 800000 | J36: 500000 | K36: =SUM(I36:J36) -> 1300000 | N36: =SUM(L36:M36) -> 0 | O36: =IF(K36=0,"",N36/K36*100) -> 0
O37: =IF(K37=0,"",N37/K37*100)
F38: 821000 | H38: Izdaci za nabavku stalnih sredstava | I38: =SUM(I39:I40) -> 5000 | J38: =SUM(J39:J40) -> 0 | K38: =SUM(K39:K40) -> 5000 | L38: =SUM(L39:L40) -> 0 | M38: =SUM(M39:M40) -> 0 | N38: =SUM(N39:N40) -> 0 | O38: =IF(K38=0,"",N38/K38*100) -> 0
F39: 821200 | H39: Nabavka građevina | I39: 0 | J39: 0 | K39: =SUM(I39:J39) -> 0 | N39: =SUM(L39:M39) -> 0 | O39: =IF(K39=0,"",N39/K39*100)
F40: 821300 | H40: Nabavka opreme | I40: 5000 | J40: 0 | K40: =SUM(I40:J40) -> 5000 | N40: =SUM(L40:M40) -> 0 | O40: =IF(K40=0,"",N40/K40*100) -> 0
O41: =IF(K41=0,"",N41/K41*100)
H42: Ukupan broj zaposlenih: | I42: 12 (13) | K42: 12 (13)
H43: Ukupno za potrošačku jedinicu: | I43: =I11+I15+I18+I30+I34+I38 -> 2990120 | J43: =J11+J15+J18+J30+J34+J38 -> 500000 | K43: =K11+K15+K18+K30+K34+K38 -> 3490120 | L43: =L11+L15+L18+L30+L34+L38 -> 0 | M43: =M11+M15+M18+M30+M34+M38 -> 0 | N43: =N11+N15+N18+N30+N34+N38 -> 0 | O43: =IF(K43=0,"",N43/K43*100) -> 0
H44: Ukupno za proračunsku instituciju: | I44: =I43 -> 2990120 | J44: =J43 -> 500000 | K44: =K43 -> 3490120 | L44: =L43 -> 0 | M44: =M43 -> 0 | N44: =N43 -> 0 | O44: =IF(K44=0,"",N44/K44*100) -> 0
H45: Ukupno za ministarstvo (razdjel): | I45: =I44 -> 2990120 | J45: =J44 -> 500000 | K45: =K44 -> 3490120 | L45: =L44 -> 0 | M45: =M44 -> 0 | N45: =N44 -> 0 | O45: =IF(K45=0,"",N45/K45*100) -> 0
O47: =IF(K47=0,"",N47/K47*100)

Sheet 16
B1: ZAHTJEV ZA IZMJENE I DOPUNE PRORAČUNA ZA 2026. GODINU
M2: Datum zahtjeva:
B3: NAZIV RAZDJELA: | F3: MINISTARSTVO FINANCIJA ŽUPANIJE POSAVSKE
B5: RAZDJEL: | D5: 16
B7: Ministarstvo (razdjel) | C7: Proračunska institucija | D7: Potrošačka jedinica | E7: Funkcija | F7: Ekon. kod | G7: Subanalitika | H7: OPIS | I7: PRORAČUN za 2026./ (poveć./smanj.) | L7: ZAHTJEV za Izmjene i dopune Proračuna za 2026. | O7: INDEKS
I8: iz prorač. sredstava | J8: iz ostalih izvora | K8: UKUPNO | L8: iz prorač. sredstava | M8: iz ostalih izvora | N8: UKUPNO
B9: 1 | C9: 2 | D9: 3 | E9: 4 | F9: 5 | G9: 6 | H9: 7 | I9: 8 | J9: 9 | K9: 10=8+9 | L9: 11 | M9: 12 | N9: 13=11+12 | O9: 14=13/10
B10: 16 | C10: 01 | D10: 0001 | E10: 0112 | H10: MINISTARSTVO FINANCIJA ŽP | O10: =IF(K10=0,"",N10/K10*100)
F11: 600000 | H11: Rashodi - Tekuća pričuva | I11: =I12 -> 20000 | J11: =J12 -> 0 | K11: =K12 -> 20000 | L11: =L12 -> 0 | M11: =M12 -> 0 | N11: =N12 -> 0 | O11: =IF(K11=0,"",N11/K11*100) -> 0
F12: 600000 | H12: Tekuća pričuva ministra financija | I12: 20000 | J12: 0 | K12: =SUM(I12:J12) -> 20000 | M12: 0 | N12: =SUM(L12:M12) -> 0 | O12: =IF(K12=0,"",N12/K12*100) -> 0
O13: =IF(K13=0,"",N13/K13*100)
F14: 611000 | H14: Plaće i naknade troškova zaposlenih | I14: =SUM(I15:I16) -> 790790 | J14: =SUM(J15:J16) -> 0 | K14: =SUM(K15:K16) -> 790790 | L14: =SUM(L15:L16) -> 0 | M14: =SUM(M15:M16) -> 0 | N14: =SUM(N15:N16) -> 0 | O14: =IF(K14=0,"",N14/K14*100) -> 0
F15: 611100 | H15: Bruto plaće i naknade plaća | I15: =584810+12*2300+1280+2*730+1160+7*1800+35000 -> 663910 | J15: 0 | K15: =SUM(I15:J15) -> 663910 | M15: 0 | N15: =SUM(L15:M15) -> 0 | O15: =IF(K15=0,"",N15/K15*100) -> 0
F16: 611200 | H16: Naknade troškova zaposlenih | I16: =96260+850+5300+9000+2840+2*1620+2*1620+850+5300 -> 126880 | J16: 0 | K16: =SUM(I16:J16) -> 126880 | M16: 0 | N16: =SUM(L16:M16) -> 0 | O16: =IF(K16=0,"",N16/K16*100) -> 0
O17: =IF(K17=0,"",N17/K17*100)
F18: 612000 | H18: Doprinosi poslodavca i ostali doprinosi | I18: =I19+I20 -> 33420 | J18: =J19+J20 -> 0 | K18: =K19+K20 -> 33420 | L18: =L19+L20 -> 0 | M18: =M19+M20 -> 0 | N18: =N19+N20 -> 0 | O18: =IF(K18=0,"",N18/K18*100) -> 0
F19: 612100 | H19: Doprinosi poslodavca | I19: =29210+12*120+210+2*120+7*90+1690 -> 33420 | J19: 0 | K19: =SUM(I19:J19) -> 33420 | M19: 0 | N19: =SUM(L19:M19) -> 0 | O19: =IF(K19=0,"",N19/K19*100) -> 0
O20: =IF(K20=0,"",N20/K20*100)
F21: 613000 | H21: Izdaci za materijal, sitan inv. i usluge | I21: =SUM(I22:I31) -> 257300 | J21: =SUM(J22:J31) -> 0 | K21: =SUM(K22:K31) -> 257300 | L21: =SUM(L22:L31) -> 0 | M21: =SUM(M22:M31) -> 0 | N21: =SUM(N22:N31) -> 0 | O21: =IF(K21=0,"",N21/K21*100) -> 0
F22: 613100 | H22: Putni troškovi | I22: 7000 | J22: 0 | K22: =SUM(I22:J22) -> 7000 | N22: =SUM(L22:M22) -> 0 | O22: =IF(K22=0,"",N22/K22*100) -> 0
F23: 613200 | H23: Izdaci za energiju | I23: 0 | J23: 0 | K23: =SUM(I23:J23) -> 0 | N23: =SUM(L23:M23) -> 0 | O23: =IF(K23=0,"",N23/K23*100)
F24: 613300 | H24: Izdaci za komunikaciju i komunalne usluge | I24: 10300 | J24: 0 | K24: =SUM(I24:J24) -> 10300 | N24: =SUM(L24:M24) -> 0 | O24: =IF(K24=0,"",N24/K24*100) -> 0
F25: 613400 | H25: Nabavka materijala i sitnog inventara | I25: 3500 | J25: 0 | K25: =SUM(I25:J25) -> 3500 | N25: =SUM(L25:M25) -> 0 | O25: =IF(K25=0,"",N25/K25*100) -> 0
F26: 613500 | H26: Izdaci za usluge prijevoza i goriva | I26: 0 | J26: 0 | K26: =SUM(I26:J26) -> 0 | N26: =SUM(L26:M26) -> 0 | O26: =IF(K26=0,"",N26/K26*100)
F27: 613600 | H27: Unajmljivanje imovine, opreme i nemat.imovine | I27: 0 | J27: 0 | K27: =SUM(I27:J27) -> 0 | N27: =SUM(L27:M27) -> 0 | O27: =IF(K27=0,"",N27/K27*100)
F28: 613700 | H28: Izdaci za tekuće održavanje | I28: 5000 | J28: 0 | K28: =SUM(I28:J28) -> 5000 | N28: =SUM(L28:M28) -> 0 | O28: =IF(K28=0,"",N28/K28*100) -> 0
F29: 613800 | H29: Izdaci osiguranja, bank. usluga i usluga p.p. | I29: 15500 | J29: 0 | K29: =SUM(I29:J29) -> 15500 | N29: =SUM(L29:M29) -> 0 | O29: =IF(K29=0,"",N29/K29*100) -> 0
F30: 613900 | H30: Ugovorene i druge posebne usluge | I30: 21000 | J30: 0 | K30: =SUM(I30:J30) -> 21000 | N30: =SUM(L30:M30) -> 0 | O30: =IF(K30=0,"",N30/K30*100) -> 0
F31: 613900 | G31: GA6003 | H31: Potpora riznici | I31: 195000 | J31: 0 | K31: =SUM(I31:J31) -> 195000 | N31: =SUM(L31:M31) -> 0 | O31: =IF(K31=0,"",N31/K31*100) -> 0
O32: =IF(K32=0,"",N32/K32*100)
F33: 614000 | H33: Tekući grantovi i drugi tekući rashodi | I33: =SUM(I34:I36) -> 1135000 | J33: =SUM(J34:J36) -> 0 | K33: =SUM(K34:K36) -> 1135000 | L33: =SUM(L34:L36) -> 0 | M33: =SUM(M34:M36) -> 0 | N33: =SUM(N34:N36) -> 0 | O33: =IF(K33=0,"",N33/K33*100) -> 0
F34: 614100 | G34: GA6002 | H34: Grant nižim razinama vlasti | I34: 1000000 | J34: 0 | K34: =SUM(I34:J34) -> 1000000 | N34: =SUM(L34:M34) -> 0 | O34: =IF(K34=0,"",N34/K34*100) -> 0
F35: 614800 | G35: GA6005 | H35: Ostali grantovi-povrat i drugo | I35: 130000 | J35: 0 | K35: =SUM(I35:J35) -> 130000 | N35: =SUM(L35:M35) -> 0 | O35: =IF(K35=0,"",N35/K35*100) -> 0
F36: 614800 | G36: GA6006 | H36: Ostali grantovi-izvršenje sudskih presuda i rješenja o izvršenju | I36: 5000 | J36: 0 | K36: =SUM(I36:J36) -> 5000 | N36: =SUM(L36:M36) -> 0 | O36: =IF(K36=0,"",N36/K36*100) -> 0
O37: =IF(K37=0,"",N37/K37*100)
F38: 616000 | H38: Izdaci za kamate | I38: =SUM(I39:I40) -> 10850 | J38: =SUM(J39:J40) -> 0 | K38: =SUM(K39:K40) -> 10850 | L38: =SUM(L39:L40) -> 0 | M38: =SUM(M39:M40) -> 0 | N38: =SUM(N39:N40) -> 0 | O38: =IF(K38=0,"",N38/K38*100) -> 0
F39: 616200 | G39: GA6008 | H39: Izdaci za inozemne kamate-Koreja | I39: 10850 | J39: 0 | K39: =SUM(I39:J39) -> 10850 | N39: =SUM(L39:M39) -> 0 | O39: =IF(K39=0,"",N39/K39*100) -> 0
F40: 616200 | G40: GA6009 | H40: Izdaci za inozemne kamate-Austrija | I40: 0 | J40: 0 | K40: =SUM(I40:J40) -> 0 | N40: =SUM(L40:M40) -> 0 | O40: =IF(K40=0,"",N40/K40*100)
O41: =IF(K41=0,"",N41/K41*100)
F42: 821000 | H42: Izdaci za nabavku stalnih sredstava | I42: =SUM(I43:I44) -> 15000 | J42: =SUM(J43:J44) -> 0 | K42: =SUM(K43:K44) -> 15000 | L42: =SUM(L43:L44) -> 0 | M42: =SUM(M43:M44) -> 0 | N42: =SUM(N43:N44) -> 0 | O42: =IF(K42=0,"",N42/K42*100) -> 0
F43: 821200 | H43: Nabavka građevina | I43: 0 | J43: 0 | K43: =SUM(I43:J43) -> 0 | N43: =SUM(L43:M43) -> 0 | O43: =IF(K43=0,"",N43/K43*100)
F44: 821300 | H44: Nabavka opreme | I44: 15000 | J44: 0 | K44: =SUM(I44:J44) -> 15000 | N44: =SUM(L44:M44) -> 0 | O44: =IF(K44=0,"",N44/K44*100) -> 0
O45: =IF(K45=0,"",N45/K45*100)
F46: 823000 | H46: Izdaci za otplate dugova | I46: =SUM(I47:I48) -> 512990 | J46: =SUM(J47:J48) -> 0 | K46: =SUM(K47:K48) -> 512990 | L46: =SUM(L47:L48) -> 0 | M46: =SUM(M47:M48) -> 0 | N46: =SUM(N47:N48) -> 0 | O46: =IF(K46=0,"",N46/K46*100) -> 0
F47: 823200 | G47: GA6008 | H47: Vanjske otplate-Koreja | I47: 82700 | J47: 0 | K47: =SUM(I47:J47) -> 82700 | N47: =SUM(L47:M47) -> 0 | O47: =IF(K47=0,"",N47/K47*100) -> 0
F48: 823200 | G48: GA6009 | H48: Vanjske otplate-Austrija | I48: 430290 | J48: 0 | K48: =SUM(I48:J48) -> 430290 | N48: =SUM(L48:M48) -> 0 | O48: =IF(K48=0,"",N48/K48*100) -> 0
O49: =IF(K49=0,"",N49/K49*100)
H50: Ukupan broj zaposlenih: | I50: 18 (19) | K50: 18 (19)
H51: Ukupno za potrošačku jedinicu: | I51: =I11+I14+I18+I21+I33+I38+I42+I46 -> 2775350 | J51: =J11+J14+J18+J21+J33+J38+J42+J46 -> 0 | K51: =K11+K14+K18+K21+K33+K38+K42+K46 -> 2775350 | L51: =L11+L14+L18+L21+L33+L38+L42+L46 -> 0 | M51: =M11+M14+M18+M21+M33+M38+M42+M46 -> 0 | N51: =N11+N14+N18+N21+N33+N38+N42+N46 -> 0 | O51: =IF(K51=0,"",N51/K51*100) -> 0
H52: Ukupno za proračunsku instituciju: | I52: =I51 -> 2775350 | J52: =J51 -> 0 | K52: =K51 -> 2775350 | L52: =L51 -> 0 | M52: =M51 -> 0 | N52: =N51 -> 0 | O52: =IF(K52=0,"",N52/K52*100) -> 0
H53: Ukupno za ministarstvo (razdjel): | I53: =I52 -> 2775350 | J53: =J52 -> 0 | K53: =K52 -> 2775350 | L53: =L52 -> 0 | M53: =M52 -> 0 | N53: =N52 -> 0 | O53: =IF(K53=0,"",N53/K53*100) -> 0
O55: =IF(K55=0,"",N55/K55*100)

Sheet 17
B1: ZAHTJEV ZA IZMJENE I DOPUNE PRORAČUNA ZA 2026. GODINU
M2: Datum zahtjeva:
B3: NAZIV RAZDJELA: | F3: MINISTARSTVO ZDRAVSTVA I SOCIJALNE POLITIKE ŽUPANIJE POSAVSKE
B5: RAZDJEL: | D5: 17
B7: Ministarstvo (razdjel) | C7: Proračunska institucija | D7: Potrošačka jedinica | E7: Funkcija | F7: Ekon. kod | G7: Subanalitika | H7: OPIS | I7: PRORAČUN za 2026./ (poveć./smanj.) | L7: ZAHTJEV za Izmjene i dopune Proračuna za 2026. | O7: INDEKS
I8: iz prorač. sredstava | J8: iz ostalih izvora | K8: UKUPNO | L8: iz prorač. sredstava | M8: iz ostalih izvora | N8: UKUPNO
B9: 1 | C9: 2 | D9: 3 | E9: 4 | F9: 5 | G9: 6 | H9: 7 | I9: 8 | J9: 9 | K9: 10=8+9 | L9: 11 | M9: 12 | N9: 13=11+12 | O9: 14=13/10
B10: 17 | C10: 01 | D10: 0001 | E10: 1090 | H10: MINISTARSTVO ZDRAVSTVA I SOC.POLITIKE ŽP | O10: =IF(K10=0,"",N10/K10*100)
F11: 611000 | H11: Plaće i naknade troškova zaposlenih | I11: =I12+I13 -> 533370 | J11: =SUM(J12:J14) -> 0 | K11: =SUM(K12:K14) -> 533370 | L11: =SUM(L12:L14) -> 0 | M11: =SUM(M12:M14) -> 0 | N11: =SUM(N12:N14) -> 0 | O11: =IF(K11=0,"",N11/K11*100) -> 0
F12: 611100 | H12: Bruto plaće i naknade plaća | I12: =428540+1280+24430 -> 454250 | J12: 0 | K12: =SUM(I12:J12) -> 454250 | N12: =SUM(L12:M12) -> 0 | O12: =IF(K12=0,"",N12/K12*100) -> 0
F13: 611200 | H13: Naknade troškova zaposlenih | I13: =76280+2840 -> 79120 | J13: 0 | K13: =SUM(I13:J13) -> 79120 | N13: =SUM(L13:M13) -> 0 | O13: =IF(K13=0,"",N13/K13*100) -> 0
O14: =IF(K14=0,"",N14/K14*100)
F15: 612000 | H15: Doprinosi poslodavca i ostali doprinosi | I15: =I16 -> 22970 | J15: =J16 -> 0 | K15: =K16 -> 22970 | L15: =L16 -> 0 | M15: =M16 -> 0 | N15: =N16 -> 0 | O15: =IF(K15=0,"",N15/K15*100) -> 0
F16: 612100 | H16: Doprinosi poslodavca | I16: =21530+210+1230 -> 22970 | J16: 0 | K16: =SUM(I16:J16) -> 22970 | N16: =SUM(L16:M16) -> 0 | O16: =IF(K16=0,"",N16/K16*100) -> 0
O17: =IF(K17=0,"",N17/K17*100)
F18: 613000 | H18: Izdaci za materijal, sitan inv. i usluge | I18: =SUM(I19:I27) -> 96500 | J18: =SUM(J19:J27) -> 0 | K18: =SUM(K19:K27) -> 96500 | L18: =SUM(L19:L27) -> 0 | M18: =SUM(M19:M27) -> 0 | N18: =SUM(N19:N27) -> 0 | O18: =IF(K18=0,"",N18/K18*100) -> 0
F19: 613100 | H19: Putni troškovi | I19: 4500 | J19: 0 | K19: =SUM(I19:J19) -> 4500 | N19: =SUM(L19:M19) -> 0 | O19: =IF(K19=0,"",N19/K19*100) -> 0
F20: 613200 | H20: Izdaci za energiju | I20: 0 | J20: 0 | K20: =SUM(I20:J20) -> 0 | N20: =SUM(L20:M20) -> 0 | O20: =IF(K20=0,"",N20/K20*100)
F21: 613300 | H21: Izdaci za komunikaciju i komunalne usluge | I21: 17000 | J21: 0 | K21: =SUM(I21:J21) -> 17000 | N21: =SUM(L21:M21) -> 0 | O21: =IF(K21=0,"",N21/K21*100) -> 0
F22: 613400 | H22: Nabavka materijala i sitnog inventara | I22: 4000 | J22: 0 | K22: =SUM(I22:J22) -> 4000 | N22: =SUM(L22:M22) -> 0 | O22: =IF(K22=0,"",N22/K22*100) -> 0
F23: 613500 | H23: Izdaci za usluge prijevoza i goriva | I23: 0 | J23: 0 | K23: =SUM(I23:J23) -> 0 | N23: =SUM(L23:M23) -> 0 | O23: =IF(K23=0,"",N23/K23*100)
F24: 613600 | H24: Unajmljivanje imovine, opreme i nemat.imovine | I24: 0 | J24: 0 | K24: =SUM(I24:J24) -> 0 | N24: =SUM(L24:M24) -> 0 | O24: =IF(K24=0,"",N24/K24*100)
F25: 613700 | H25: Izdaci za tekuće održavanje | I25: 1000 | J25: 0 | K25: =SUM(I25:J25) -> 1000 | N25: =SUM(L25:M25) -> 0 | O25: =IF(K25=0,"",N25/K25*100) -> 0
F26: 613800 | H26: Izdaci osiguranja, bank. usluga i usluga p.p. | I26: 0 | J26: 0 | K26: =SUM(I26:J26) -> 0 | N26: =SUM(L26:M26) -> 0 | O26: =IF(K26=0,"",N26/K26*100)
F27: 613900 | H27: Ugovorene i druge posebne usluge | I27: 70000 | J27: 0 | K27: =SUM(I27:J27) -> 70000 | N27: =SUM(L27:M27) -> 0 | O27: =IF(K27=0,"",N27/K27*100) -> 0
O28: =IF(K28=0,"",N28/K28*100)
F29: 614000 | H29: Tekući grantovi i drugi tekući rashodi | I29: =SUM(I30:I33) -> 7075000 | J29: =SUM(J30:J33) -> 245000 | K29: =SUM(K30:K33) -> 7320000 | L29: =SUM(L30:L33) -> 0 | M29: =SUM(M30:M33) -> 0 | N29: =SUM(N30:N33) -> 0 | O29: =IF(K29=0,"",N29/K29*100) -> 0
F30: 614100 | H30: Grant za zdravstvene institucije i centre za soc.rad | I30: 1400000 | J30: 0 | K30: =SUM(I30:J30) -> 1400000 | N30: =SUM(L30:M30) -> 0 | O30: =IF(K30=0,"",N30/K30*100) -> 0
F31: 614200 | G31: HA6003 | H31: Grant za zdravstvene potrebe | I31: 200000 | J31: 0 | K31: =SUM(I31:J31) -> 200000 | N31: =SUM(L31:M31) -> 0 | O31: =IF(K31=0,"",N31/K31*100) -> 0
F32: 614200 | G32: HA6004 | H32: Grant za socijalne potrebe | I32: =5065000+100000+160000 -> 5325000 | J32: 245000 | K32: =SUM(I32:J32) -> 5570000 | N32: =SUM(L32:M32) -> 0 | O32: =IF(K32=0,"",N32/K32*100) -> 0
F33: 614300 | G33: HA6005 | H33: Grant za udruge roditelja djece s posebnim potrebama | I33: 150000 | J33: 0 | K33: =SUM(I33:J33) -> 150000 | N33: =SUM(L33:M33) -> 0 | O33: =IF(K33=0,"",N33/K33*100) -> 0
O34: =IF(K34=0,"",N34/K34*100)
F35: 821000 | H35: Izdaci za nabavku stalnih sredstava | I35: =I36+I37+I38 -> 227794 | J35: =J36+J37+J38 -> 170000 | K35: =K36+K37+K38 -> 397794 | L35: =L36+L37+L38 -> 0 | M35: =M36+M37+M38 -> 0 | N35: =N36+N37+N38 -> 0 | O35: =IF(K35=0,"",N35/K35*100) -> 0
F36: 821200 | H36: Nabavka građevina | I36: 0 | J36: 0 | K36: =SUM(I36:J36) -> 0 | N36: =SUM(L36:M36) -> 0 | O36: =IF(K36=0,"",N36/K36*100)
F37: 821300 | H37: Nabavka opreme | I37: 4070 | J37: 0 | K37: =SUM(I37:J37) -> 4070 | N37: =SUM(L37:M37) -> 0 | O37: =IF(K37=0,"",N37/K37*100) -> 0
F38: 821500 | H38: Nabavka stalnih sredstava u obliku prava | I38: =62860+97934+930+62000 -> 223724 | J38: =100000+70000 -> 170000 | K38: =SUM(I38:J38) -> 393724 | N38: =SUM(L38:M38) -> 0 | O38: =IF(K38=0,"",N38/K38*100) -> 0
O39: =IF(K39=0,"",N39/K39*100)
H40: Ukupan broj zaposlenih: | I40: 11 (13) | K40: 11 (13)
H41: Ukupno za potrošačku jedinicu: | I41: =I11+I15+I18+I29+I35 -> 7955634 | J41: =J11+J15+J18+J29+J35 -> 415000 | K41: =K11+K15+K18+K29+K35 -> 8370634 | L41: =L11+L15+L18+L29+L35 -> 0 | M41: =M11+M15+M18+M29+M35 -> 0 | N41: =N11+N15+N18+N29+N35 -> 0 | O41: =IF(K41=0,"",N41/K41*100) -> 0
H42: Ukupno za proračunsku instituciju: | I42: =I41 -> 7955634 | J42: =J41 -> 415000 | K42: =K41 -> 8370634 | L42: =L41 -> 0 | M42: =M41 -> 0 | N42: =N41 -> 0 | O42: =IF(K42=0,"",N42/K42*100) -> 0
H43: Ukupno za ministarstvo (razdjel): | I43: =I42 -> 7955634 | J43: =J42 -> 415000 | K43: =K42 -> 8370634 | L43: =L42 -> 0 | M43: =M42 -> 0 | N43: =N42 -> 0 | O43: =IF(K43=0,"",N43/K43*100) -> 0
O45: =IF(K45=0,"",N45/K45*100)

Sheet 18
B1: ZAHTJEV ZA IZMJENE I DOPUNE PRORAČUNA ZA 2026. GODINU
M2: Datum zahtjeva:
B3: NAZIV RAZDJELA: | F3: MINISTARSTVO PROMETA, VEZA I ZAŠTITE OKOLIŠA ŽUPANIJE POSAVSKE
B5: RAZDJEL: | D5: 18
B7: Ministarstvo (razdjel) | C7: Proračunska institucija | D7: Potrošačka jedinica | E7: Funkcija | F7: Ekon. kod | G7: Subanalitika | H7: OPIS | I7: PRORAČUN za 2026./ (poveć./smanj.) | L7: ZAHTJEV za Izmjene i dopune Proračuna za 2026. | O7: INDEKS
I8: iz prorač. sredstava | J8: iz ostalih izvora | K8: UKUPNO | L8: iz prorač. sredstava | M8: iz ostalih izvora | N8: UKUPNO
B9: 1 | C9: 2 | D9: 3 | E9: 4 | F9: 5 | G9: 6 | H9: 7 | I9: 8 | J9: 9 | K9: 10=8+9 | L9: 11 | M9: 12 | N9: 13=11+12 | O9: 14=13/10
B10: 18 | C10: 01 | D10: 0001 | E10: 0490 | H10: MINIST.PROMETA, VEZA I ZAŠTITE OKOLIŠA ŽP | O10: =IF(K10=0,"",N10/K10*100)
F11: 611000 | H11: Plaće i naknade troškova zaposlenih | I11: =SUM(I12:I14) -> 540630 | J11: =SUM(J12:J14) -> 0 | K11: =SUM(K12:K14) -> 540630 | L11: =SUM(L12:L14) -> 0 | M11: =SUM(M12:M14) -> 0 | N11: =SUM(N12:N14) -> 0 | O11: =IF(K11=0,"",N11/K11*100) -> 0
F12: 611100 | H12: Bruto plaće i naknade plaća | I12: =416330+730+1280+7*1800+12*500+23740 -> 460680 | J12: 0 | K12: =SUM(I12:J12) -> 460680 | N12: =SUM(L12:M12) -> 0 | O12: =IF(K12=0,"",N12/K12*100) -> 0
F13: 611200 | H13: Naknade troškova zaposlenih | I13: =70940+1620+2840+850+3700 -> 79950 | J13: 0 | K13: =SUM(I13:J13) -> 79950 | N13: =SUM(L13:M13) -> 0 | O13: =IF(K13=0,"",N13/K13*100) -> 0
O14: =IF(K14=0,"",N14/K14*100)
F15: 612000 | H15: Doprinosi poslodavca i ostali doprinosi | I15: =I16 -> 21570 | J15: =J16 -> 0 | K15: =K16 -> 21570 | L15: =L16 -> 0 | M15: =M16 -> 0 | N15: =N16 -> 0 | O15: =IF(K15=0,"",N15/K15*100) -> 0
F16: 612100 | H16: Doprinosi poslodavca | I16: =19150+120+210+7*90+12*30+1100 -> 21570 | J16: 0 | K16: =SUM(I16:J16) -> 21570 | N16: =SUM(L16:M16) -> 0 | O16: =IF(K16=0,"",N16/K16*100) -> 0
O17: =IF(K17=0,"",N17/K17*100)
F18: 613000 | H18: Izdaci za materijal, sitan inv. i usluge | I18: =SUM(I19:I28) -> 116500 | J18: =SUM(J19:J28) -> 769260 | K18: =SUM(K19:K28) -> 885760 | L18: =SUM(L19:L28) -> 0 | M18: =SUM(M19:M28) -> 0 | N18: =SUM(N19:N28) -> 0 | O18: =IF(K18=0,"",N18/K18*100) -> 0
F19: 613100 | H19: Putni troškovi | I19: 5500 | J19: 5760 | K19: =SUM(I19:J19) -> 11260 | N19: =SUM(L19:M19) -> 0 | O19: =IF(K19=0,"",N19/K19*100) -> 0
F20: 613200 | H20: Izdaci za energiju | I20: 0 | J20: 0 | K20: =SUM(I20:J20) -> 0 | N20: =SUM(L20:M20) -> 0 | O20: =IF(K20=0,"",N20/K20*100)
F21: 613300 | H21: Izdaci za komunikaciju i komunalne usluge | I21: 7000 | J21: 0 | K21: =SUM(I21:J21) -> 7000 | N21: =SUM(L21:M21) -> 0 | O21: =IF(K21=0,"",N21/K21*100) -> 0
F22: 613400 | H22: Nabavka materijala i sitnog inventara | I22: 4000 | J22: 7900 | K22: =SUM(I22:J22) -> 11900 | N22: =SUM(L22:M22) -> 0 | O22: =IF(K22=0,"",N22/K22*100) -> 0
F23: 613500 | H23: Izdaci za usluge prijevoza i goriva | I23: 0 | J23: 0 | K23: =SUM(I23:J23) -> 0 | N23: =SUM(L23:M23) -> 0 | O23: =IF(K23=0,"",N23/K23*100)
F24: 613600 | H24: Unajmljivanje imovine, opreme i nemat.imovine | I24: 0 | J24: 0 | K24: =SUM(I24:J24) -> 0 | N24: =SUM(L24:M24) -> 0 | O24: =IF(K24=0,"",N24/K24*100)
F25: 613700 | H25: Izdaci za tekuće održavanje | I25: 10000 | J25: 0 | K25: =SUM(I25:J25) -> 10000 | N25: =SUM(L25:M25) -> 0 | O25: =IF(K25=0,"",N25/K25*100) -> 0
F26: 613700 | G26: IA6004 | H26: Tekuće održavanje cesta | I26: 0 | J26: 720000 | K26: =SUM(I26:J26) -> 720000 | N26: =SUM(L26:M26) -> 0 | O26: =IF(K26=0,"",N26/K26*100) -> 0
F27: 613800 | H27: Izdaci osiguranja, bank. usluga i usluga p.p. | I27: 0 | J27: 0 | K27: =SUM(I27:J27) -> 0 | N27: =SUM(L27:M27) -> 0 | O27: =IF(K27=0,"",N27/K27*100)
F28: 613900 | H28: Ugovorene i druge posebne usluge | I28: 90000 | J28: 35600 | K28: =SUM(I28:J28) -> 125600 | N28: =SUM(L28:M28) -> 0 | O28: =IF(K28=0,"",N28/K28*100) -> 0
O29: =IF(K29=0,"",N29/K29*100)
F30: 614000 | H30: Tekući grantovi i drugi tekući rashodi | I30: =I31 -> 275603 | J30: =SUM(J31:J31) -> 510740 | K30: =SUM(K31:K31) -> 786343 | L30: =SUM(L31:L31) -> 0 | M30: =SUM(M31:M31) -> 0 | N30: =SUM(N31:N31) -> 0 | O30: =IF(K30=0,"",N30/K30*100) -> 0
F31: 614100 | G31: IA6002 | H31: Grant za zaštitu okoliša | I31: =176343+5760+7900+35600+50000 -> 275603 | J31: =399287+111453 -> 510740 | K31: =SUM(I31:J31) -> 786343 | N31: =SUM(L31:M31) -> 0 | O31: =IF(K31=0,"",N31/K31*100) -> 0
O32: =IF(K32=0,"",N32/K32*100)
F33: 821000 | H33: Izdaci za nabavku stalnih sredstava | I33: =SUM(I34:I37) -> 43870 | J33: =SUM(J34:J37) -> 1466130 | K33: =SUM(K34:K37) -> 1510000 | L33: =SUM(L34:L37) -> 0 | M33: =SUM(M34:M37) -> 0 | N33: =SUM(N34:N37) -> 0 | O33: =IF(K33=0,"",N33/K33*100) -> 0
F34: 821200 | H34: Nabavka građevina | I34: 0 | J34: 0 | K34: =SUM(I34:J34) -> 0 | N34: =SUM(L34:M34) -> 0 | O34: =IF(K34=0,"",N34/K34*100)
F35: 821300 | H35: Nabavka opreme | I35: 10000 | J35: 0 | K35: =SUM(I35:J35) -> 10000 | N35: =SUM(L35:M35) -> 0 | O35: =IF(K35=0,"",N35/K35*100) -> 0
F36: 821500 | G36: IA6005 | H36: Rekonstrukcija i investicijsko održavanje lokalnih cesta | I36: 33870 | J36: =1066130+130000 -> 1196130 | K36: =SUM(I36:J36) -> 1230000 | N36: =SUM(L36:M36) -> 0 | O36: =IF(K36=0,"",N36/K36*100) -> 0
F37: 821600 | G37: IA6006 | H37: Rekonstrukcija i investicijsko održavanje regionalnih cesta | I37: 0 | J37: =400000-130000 -> 270000 | K37: =SUM(I37:J37) -> 270000 | N37: =SUM(L37:M37) -> 0 | O37: =IF(K37=0,"",N37/K37*100) -> 0
O38: =IF(K38=0,"",N38/K38*100)
H39: Ukupan broj zaposlenih: | I39: 13 (14) | K39: 13 (14)
H40: Ukupno za potrošačku jedinicu: | I40: =I11+I15+I18+I30+I33 -> 998173 | J40: =J11+J15+J18+J30+J33 -> 2746130 | K40: =K11+K15+K18+K30+K33 -> 3744303 | L40: =L11+L15+L18+L30+L33 -> 0 | M40: =M11+M15+M18+M30+M33 -> 0 | N40: =N11+N15+N18+N30+N33 -> 0 | O40: =IF(K40=0,"",N40/K40*100) -> 0
H41: Ukupno za proračunsku instituciju: | I41: =I40 -> 998173 | J41: =J40 -> 2746130 | K41: =K40 -> 3744303 | L41: =L40 -> 0 | M41: =M40 -> 0 | N41: =N40 -> 0 | O41: =IF(K41=0,"",N41/K41*100) -> 0
H42: Ukupno za ministarstvo (razdjel): | I42: =I41 -> 998173 | J42: =J41 -> 2746130 | K42: =K41 -> 3744303 | L42: =L41 -> 0 | M42: =M41 -> 0 | N42: =N41 -> 0 | O42: =IF(K42=0,"",N42/K42*100) -> 0
O44: =IF(K44=0,"",N44/K44*100)

Sheet 19
B1: ZAHTJEV ZA IZMJENE I DOPUNE PRORAČUNA ZA 2026. GODINU
M2: Datum zahtjeva:
B3: NAZIV RAZDJELA: | F3: MINISTARSTVO POLJOPRIVREDE, VODOPRIVREDE I ŠUMARSTVA ŽUPANIJE POSAVSKE
B5: RAZDJEL: | D5: 19
B7: Ministarstvo (razdjel) | C7: Proračunska institucija | D7: Potrošačka jedinica | E7: Funkcija | F7: Ekon. kod | G7: Subanalitika | H7: OPIS | I7: PRORAČUN za 2026./ (poveć./smanj.) | L7: ZAHTJEV za Izmjene i dopune Proračuna za 2026. | O7: INDEKS
I8: iz prorač. sredstava | J8: iz ostalih izvora | K8: UKUPNO | L8: iz prorač. sredstava | M8: iz ostalih izvora | N8: UKUPNO
B9: 1 | C9: 2 | D9: 3 | E9: 4 | F9: 5 | G9: 6 | H9: 7 | I9: 8 | J9: 9 | K9: 10=8+9 | L9: 11 | M9: 12 | N9: 13=11+12 | O9: 14=13/10
B10: 19 | C10: 01 | D10: 0001 | E10: 0421 | H10: MINIST.POLJOPR.,VODOPR.I ŠUMARSTVA ŽP | O10: =IF(K10=0,"",N10/K10*100)
F11: 611000 | H11: Plaće i naknade troškova zaposlenih | I11: =I12+I13 -> 1281080 | J11: =SUM(J12:J14) -> 0 | K11: =SUM(K12:K14) -> 1281080 | L11: =SUM(L12:L14) -> 0 | M11: =SUM(M12:M14) -> 0 | N11: =SUM(N12:N14) -> 0 | O11: =IF(K11=0,"",N11/K11*100) -> 0
F12: 611100 | H12: Bruto plaće i naknade plaća | I12: =985020+12*2300+3*1280+1820+1510+56150 -> 1075940 | J12: 0 | K12: =SUM(I12:J12) -> 1075940 | N12: =SUM(L12:M12) -> 0 | O12: =IF(K12=0,"",N12/K12*100) -> 0
F13: 611200 | H13: Naknade troškova zaposlenih | I13: =177170+850+5550+3*2840+4050+9000 -> 205140 | J13: 0 | K13: =SUM(I13:J13) -> 205140 | N13: =SUM(L13:M13) -> 0 | O13: =IF(K13=0,"",N13/K13*100) -> 0
O14: =IF(K14=0,"",N14/K14*100)
F15: 612000 | H15: Doprinosi poslodavca i ostali doprinosi | I15: =I16 -> 55860 | J15: =J16 -> 0 | K15: =K16 -> 55860 | L15: =L16 -> 0 | M15: =M16 -> 0 | N15: =N16 -> 0 | O15: =IF(K15=0,"",N15/K15*100) -> 0
F16: 612100 | H16: Doprinosi poslodavca | I16: =50590+12*120+3*210+300+2900 -> 55860 | J16: 0 | K16: =SUM(I16:J16) -> 55860 | N16: =SUM(L16:M16) -> 0 | O16: =IF(K16=0,"",N16/K16*100) -> 0
O17: =IF(K17=0,"",N17/K17*100)
F18: 613000 | H18: Izdaci za materijal, sitan inv. i usluge | I18: =SUM(I19:I27) -> 99000 | J18: =SUM(J19:J27) -> 0 | K18: =SUM(K19:K27) -> 99000 | L18: =SUM(L19:L27) -> 0 | M18: =SUM(M19:M27) -> 0 | N18: =SUM(N19:N27) -> 0 | O18: =IF(K18=0,"",N18/K18*100) -> 0
F19: 613100 | H19: Putni troškovi | I19: 8000 | J19: 0 | K19: =SUM(I19:J19) -> 8000 | N19: =SUM(L19:M19) -> 0 | O19: =IF(K19=0,"",N19/K19*100) -> 0
F20: 613200 | H20: Izdaci za energiju | I20: 4500 | J20: 0 | K20: =SUM(I20:J20) -> 4500 | N20: =SUM(L20:M20) -> 0 | O20: =IF(K20=0,"",N20/K20*100) -> 0
F21: 613300 | H21: Izdaci za komunikaciju i komunalne usluge | I21: 8000 | J21: 0 | K21: =SUM(I21:J21) -> 8000 | N21: =SUM(L21:M21) -> 0 | O21: =IF(K21=0,"",N21/K21*100) -> 0
F22: 613400 | H22: Nabavka materijala i sitnog inventara | I22: 8000 | J22: 0 | K22: =SUM(I22:J22) -> 8000 | N22: =SUM(L22:M22) -> 0 | O22: =IF(K22=0,"",N22/K22*100) -> 0
F23: 613500 | H23: Izdaci za usluge prijevoza i goriva | I23: 1000 | J23: 0 | K23: =SUM(I23:J23) -> 1000 | N23: =SUM(L23:M23) -> 0 | O23: =IF(K23=0,"",N23/K23*100) -> 0
F24: 613600 | H24: Unajmljivanje imovine, opreme i nemat.imovine | I24: 0 | J24: 0 | K24: =SUM(I24:J24) -> 0 | N24: =SUM(L24:M24) -> 0 | O24: =IF(K24=0,"",N24/K24*100)
F25: 613700 | H25: Izdaci za tekuće održavanje | I25: 1500 | J25: 0 | K25: =SUM(I25:J25) -> 1500 | N25: =SUM(L25:M25) -> 0 | O25: =IF(K25=0,"",N25/K25*100) -> 0
F26: 613800 | H26: Izdaci osiguranja, bank. usluga i usluga p.p. | I26: 0 | J26: 0 | K26: =SUM(I26:J26) -> 0 | N26: =SUM(L26:M26) -> 0 | O26: =IF(K26=0,"",N26/K26*100)
F27: 613900 | H27: Ugovorene i druge posebne usluge | I27: 68000 | J27: 0 | K27: =SUM(I27:J27) -> 68000 | N27: =SUM(L27:M27) -> 0 | O27: =IF(K27=0,"",N27/K27*100) -> 0
O28: =IF(K28=0,"",N28/K28*100)
F29: 614000 | H29: Tekući grantovi i drugi tekući rashodi | I29: =SUM(I30:I33) -> 2050000 | J29: =SUM(J30:J33) -> 400000 | K29: =SUM(K30:K33) -> 2450000 | L29: =SUM(L30:L33) -> 0 | M29: =SUM(M30:M33) -> 0 | N29: =SUM(N30:N33) -> 0 | O29: =IF(K29=0,"",N29/K29*100) -> 0
F30: 614100 | G30: JA6008 | H30: Grant za šumarstvo | I30: 0 | J30: 200000 | K30: =SUM(I30:J30) -> 200000 | N30: =SUM(L30:M30) -> 0 | O30: =IF(K30=0,"",N30/K30*100) -> 0
F31: 614500 | G31: JA6004 | H31: Grant za poljoprivredu | I31: =1900000-50000 -> 1850000 | J31: 0 | K31: =SUM(I31:J31) -> 1850000 | N31: =SUM(L31:M31) -> 0 | O31: =IF(K31=0,"",N31/K31*100) -> 0
F32: 614500 | G32: JA6005 | H32: Grant za vodoprivredu | I32: 200000 | J32: 0 | K32: =SUM(I32:J32) -> 200000 | N32: =SUM(L32:M32) -> 0 | O32: =IF(K32=0,"",N32/K32*100) -> 0
F33: 614500 | G33: JA6007 | H33: Grant za uređenje poljoprivrednog zemljišta | I33: 0 | J33: 200000 | K33: =SUM(I33:J33) -> 200000 | N33: =SUM(L33:M33) -> 0 | O33: =IF(K33=0,"",N33/K33*100) -> 0
O34: =IF(K34=0,"",N34/K34*100)
F35: 615000 | H35: Kapitalni grantovi | I35: =SUM(I36:I37) -> 159610 | J35: =SUM(J36:J37) -> 490390 | K35: =SUM(K36:K37) -> 650000 | N35: =SUM(N36:N37) -> 0 | O35: =IF(K35=0,"",N35/K35*100) -> 0
F36: 615100 | G36: JA6009 | H36: Kapitalni grant za vodoprivredu | I36: =450000-340390+50000 -> 159610 | J36: 340390 | K36: =SUM(I36:J36) -> 500000 | N36: =SUM(L36:M36) -> 0 | O36: =IF(K36=0,"",N36/K36*100) -> 0
F37: 615100 | G37: JA6010 | H37: Kapitalni grant za uređenje poljoprivrednog zemljišta | I37: 0 | J37: 150000 | K37: =SUM(I37:J37) -> 150000 | N37: =SUM(L37:M37) -> 0 | O37: =IF(K37=0,"",N37/K37*100) -> 0
O38: =IF(K38=0,"",N38/K38*100)
F39: 821000 | H39: Izdaci za nabavku stalnih sredstava | I39: =SUM(I40:I42) -> 18000 | J39: =SUM(J40:J42) -> 50000 | K39: =SUM(K40:K42) -> 68000 | L39: =SUM(L40:L42) -> 0 | M39: =SUM(M40:M42) -> 0 | N39: =SUM(N40:N42) -> 0 | O39: =IF(K39=0,"",N39/K39*100) -> 0
F40: 821200 | H40: Nabavka građevina | I40: 0 | J40: 0 | K40: =SUM(I40:J40) -> 0 | N40: =SUM(L40:M40) -> 0 | O40: =IF(K40=0,"",N40/K40*100)
F41: 821300 | H41: Nabavka opreme | I41: 18000 | J41: 50000 | K41: =SUM(I41:J41) -> 68000 | N41: =SUM(L41:M41) -> 0 | O41: =IF(K41=0,"",N41/K41*100) -> 0
O42: =IF(K42=0,"",N42/K42*100)
H43: Ukupan broj zaposlenih: | I43: 29 (31) | K43: 29 (31)
H44: Ukupno za potrošačku jedinicu: | I44: =I11+I15+I18+I29+I35+I39 -> 3663550 | J44: =J11+J15+J18+J29+J35+J39 -> 940390 | K44: =K11+K15+K18+K29+K35+K39 -> 4603940 | L44: =L11+L15+L18+L29+L35+L39 -> 0 | M44: =M11+M15+M18+M29+M35+M39 -> 0 | N44: =N11+N15+N18+N29+N35+N39 -> 0 | O44: =IF(K44=0,"",N44/K44*100) -> 0
H45: Ukupno za proračunsku instituciju: | I45: =I44 -> 3663550 | J45: =J44 -> 940390 | K45: =K44 -> 4603940 | L45: =L44 -> 0 | M45: =M44 -> 0 | N45: =N44 -> 0 | O45: =IF(K45=0,"",N45/K45*100) -> 0
H46: Ukupno za ministarstvo (razdjel): | I46: =I45 -> 3663550 | J46: =J45 -> 940390 | K46: =K45 -> 4603940 | L46: =L45 -> 0 | M46: =M45 -> 0 | N46: =N45 -> 0 | O46: =IF(K46=0,"",N46/K46*100) -> 0
O48: =IF(K48=0,"",N48/K48*100)

Sheet 20
B1: ZAHTJEV ZA IZMJENE I DOPUNE PRORAČUNA ZA 2026. GODINU
M2: Datum zahtjeva:
B3: NAZIV RAZDJELA: | F3: MINISTARSTVO PROSVJETE, ZNANOSTI, KULTURE I SPORTA ŽUPANIJE POSAVSKE
B5: RAZDJEL: | D5: 20
B7: Ministarstvo (razdjel) | C7: Proračunska institucija | D7: Potrošačka jedinica | E7: Funkcija | F7: Ekon. kod | G7: Subanalitika | H7: OPIS | I7: PRORAČUN za 2026./ (poveć./smanj.) | L7: ZAHTJEV za Izmjene i dopune Proračuna za 2026. | O7: INDEKS
I8: iz prorač. sredstava | J8: iz ostalih izvora | K8: UKUPNO | L8: iz prorač. sredstava | M8: iz ostalih izvora | N8: UKUPNO
B9: 1 | C9: 2 | D9: 3 | E9: 4 | F9: 5 | G9: 6 | H9: 7 | I9: 8 | J9: 9 | K9: 10=8+9 | L9: 11 | M9: 12 | N9: 13=11+12 | O9: 14=13/10
B10: 20 | C10: 01 | D10: 0001 | E10: 0980 | H10: MINIST.PROSVJETE, ZNAN., KULTURE I SPORTA ŽP | O10: =IF(K10=0,"",N10/K10*100)
F11: 611000 | H11: Plaće i naknade troškova zaposlenih | I11: =I12+I13 -> 629020 | J11: =SUM(J12:J14) -> 0 | K11: =SUM(K12:K14) -> 629020 | L11: =SUM(L12:L14) -> 0 | M11: =SUM(M12:M14) -> 0 | N11: =SUM(N12:N14) -> 0 | O11: =IF(K11=0,"",N11/K11*100) -> 0
F12: 611100 | H12: Bruto plaće i naknade plaća | I12: =454120+12*2300+1820+2*730+7*800+25890+6*2350 -> 530590 | J12: 0 | K12: =SUM(I12:J12) -> 530590 | N12: =SUM(L12:M12) -> 0 | O12: =IF(K12=0,"",N12/K12*100) -> 0
F13: 611200 | H13: Naknade troškova zaposlenih | I13: =81590+5550+4050+2*1620+850+6*21*25 -> 98430 | J13: 0 | K13: =SUM(I13:J13) -> 98430 | N13: =SUM(L13:M13) -> 0 | O13: =IF(K13=0,"",N13/K13*100) -> 0
O14: =IF(K14=0,"",N14/K14*100)
F15: 612000 | H15: Doprinosi poslodavca i ostali doprinosi | I15: =I16 -> 26790 | J15: =J16 -> 0 | K15: =K16 -> 26790 | L15: =L16 -> 0 | M15: =M16 -> 0 | N15: =N16 -> 0 | O15: =IF(K15=0,"",N15/K15*100) -> 0
F16: 612100 | H16: Doprinosi poslodavca | I16: =22520+12*120+300+2*120+7*40+1290+6*120 -> 26790 | J16: 0 | K16: =SUM(I16:J16) -> 26790 | N16: =SUM(L16:M16) -> 0 | O16: =IF(K16=0,"",N16/K16*100) -> 0
O17: =IF(K17=0,"",N17/K17*100)
F18: 613000 | H18: Izdaci za materijal, sitan inv. i usluge | I18: =SUM(I19:I31) -> 1418350 | J18: =SUM(J19:J31) -> 0 | K18: =SUM(K19:K31) -> 1418350 | L18: =SUM(L19:L31) -> 0 | M18: =SUM(M19:M31) -> 0 | N18: =SUM(N19:N31) -> 0 | O18: =IF(K18=0,"",N18/K18*100) -> 0
F19: 613100 | H19: Putni troškovi | I19: 12000 | J19: 0 | K19: =SUM(I19:J19) -> 12000 | N19: =SUM(L19:M19) -> 0 | O19: =IF(K19=0,"",N19/K19*100) -> 0
F20: 613200 | H20: Izdaci za energiju | I20: 0 | J20: 0 | K20: =SUM(I20:J20) -> 0 | N20: =SUM(L20:M20) -> 0 | O20: =IF(K20=0,"",N20/K20*100)
F21: 613300 | H21: Izdaci za komunikaciju i komunalne usluge | I21: 3500 | J21: 0 | K21: =SUM(I21:J21) -> 3500 | N21: =SUM(L21:M21) -> 0 | O21: =IF(K21=0,"",N21/K21*100) -> 0
F22: 613400 | H22: Nabavka materijala i sitnog inventara | I22: 160000 | J22: 0 | K22: =SUM(I22:J22) -> 160000 | N22: =SUM(L22:M22) -> 0 | O22: =IF(K22=0,"",N22/K22*100) -> 0
E23: 0912 | F23: 613400 | G23: KA6014 | H23: Nab.mat.i sitn.invent.-obroci za djecu progr.predšk.i učen. | I23: 1093350 | J23: 0 | K23: =SUM(I23:J23) -> 1093350 | N23: =SUM(L23:M23) -> 0 | O23: =IF(K23=0,"",N23/K23*100) -> 0
F24: 613500 | H24: Izdaci za usluge prijevoza i goriva | I24: 0 | J24: 0 | K24: =SUM(I24:J24) -> 0 | N24: =SUM(L24:M24) -> 0 | O24: =IF(K24=0,"",N24/K24*100)
F25: 613600 | H25: Unajmljivanje imovine, opreme i nemat.imovine | I25: 0 | J25: 0 | K25: =SUM(I25:J25) -> 0 | N25: =SUM(L25:M25) -> 0 | O25: =IF(K25=0,"",N25/K25*100)
F26: 613700 | H26: Izdaci za tekuće održavanje | I26: 4000 | J26: 0 | K26: =SUM(I26:J26) -> 4000 | N26: =SUM(L26:M26) -> 0 | O26: =IF(K26=0,"",N26/K26*100) -> 0
F27: 613800 | H27: Izdaci osiguranja, bank. usluga i usluga p.p. | I27: 500 | J27: 0 | K27: =SUM(I27:J27) -> 500 | N27: =SUM(L27:M27) -> 0 | O27: =IF(K27=0,"",N27/K27*100) -> 0
F28: 613800 | H28: Izdaci za negativne tečajne razlike | I28: 0 | J28: 0 | K28: =SUM(I28:J28) -> 0 | N28: =SUM(L28:M28) -> 0 | O28: =IF(K28=0,"",N28/K28*100)
F29: 613900 | H29: Ugovorene i druge posebne usluge | I29: 40000 | J29: 0 | K29: =SUM(I29:J29) -> 40000 | N29: =SUM(L29:M29) -> 0 | O29: =IF(K29=0,"",N29/K29*100) -> 0
F30: 613900 | G30: KA6007 | H30: Vozački ispiti-vlastiti prihodi | I30: 55000 | J30: 0 | K30: =SUM(I30:J30) -> 55000 | N30: =SUM(L30:M30) -> 0 | O30: =IF(K30=0,"",N30/K30*100) -> 0
F31: 613900 | G31: KA6017 | H31: Ugovorene i dr.posebne usluge-obuke i seminari prosv.dj. | I31: 50000 | J31: 0 | K31: =SUM(I31:J31) -> 50000 | N31: =SUM(L31:M31) -> 0 | O31: =IF(K31=0,"",N31/K31*100) -> 0
O32: =IF(K32=0,"",N32/K32*100)
F33: 614000 | H33: Tekući grantovi i drugi tekući rashodi | I33: =SUM(I34:I42) -> 2227950 | J33: =SUM(J34:J42) -> 0 | K33: =SUM(K34:K42) -> 2227950 | L33: =SUM(L34:L42) -> 0 | M33: =SUM(M34:M42) -> 0 | N33: =SUM(N34:N42) -> 0 | O33: =IF(K33=0,"",N33/K33*100) -> 0
E34: 0941 | F34: 614100 | G34: KA6004 | H34: Grant za financiranje visokog obrazovanja | I34: 117950 | J34: 0 | K34: =SUM(I34:J34) -> 117950 | N34: =SUM(L34:M34) -> 0 | O34: =IF(K34=0,"",N34/K34*100) -> 0
F35: 614100 | G35: KA6009 | H35: Grant za sufinanciranje prijevoza učenika | I35: 450000 | J35: 0 | K35: =SUM(I35:J35) -> 450000 | N35: =SUM(L35:M35) -> 0 | O35: =IF(K35=0,"",N35/K35*100) -> 0
E36: 0941 | F36: 614200 | G36: KA6003 | H36: Isplate stipendija | I36: 200000 | J36: 0 | K36: =SUM(I36:J36) -> 200000 | N36: =SUM(L36:M36) -> 0 | O36: =IF(K36=0,"",N36/K36*100) -> 0
E37: 0912 0921 | F37: 614200 | G37: KA6016 | H37: Grant za predškolsko, osnovno i srednje obrazovanje | I37: 50000 | J37: 0 | K37: =SUM(I37:J37) -> 50000 | N37: =SUM(L37:M37) -> 0 | O37: =IF(K37=0,"",N37/K37*100) -> 0
E38: 0912 | F38: 614200 | G38: KA6015 | H38: Grant za sufinanciranje nabavke udžbenika učenicima | I38: 200000 | J38: 0 | K38: =SUM(I38:J38) -> 200000 | N38: =SUM(L38:M38) -> 0 | O38: =IF(K38=0,"",N38/K38*100) -> 0
E39: 0830 | F39: 614300 | G39: KA6001 | H39: Grant za informiranje | I39: 450000 | J39: 0 | K39: =SUM(I39:J39) -> 450000 | N39: =SUM(L39:M39) -> 0 | O39: =IF(K39=0,"",N39/K39*100) -> 0
E40: 0840 | F40: 614300 | G40: KA6006 | H40: Grant za financiranje vjerskih zajednica | I40: 60000 | J40: 0 | K40: =SUM(I40:J40) -> 60000 | N40: =SUM(L40:M40) -> 0 | O40: =IF(K40=0,"",N40/K40*100) -> 0
E41: 0810 | F41: 614300 | G41: KA6012 | H41: Grant za sport | I41: 500000 | J41: 0 | K41: =SUM(I41:J41) -> 500000 | N41: =SUM(L41:M41) -> 0 | O41: =IF(K41=0,"",N41/K41*100) -> 0
E42: 0820 | F42: 614300 | G42: KA6013 | H42: Grant za kulturu | I42: 200000 | J42: 0 | K42: =SUM(I42:J42) -> 200000 | N42: =SUM(L42:M42) -> 0 | O42: =IF(K42=0,"",N42/K42*100) -> 0
O43: =IF(K43=0,"",N43/K43*100)
F44: 615000 | H44: Kapitalni grantovi | I44: =I45 -> 250000 | J44: =J45 -> 0 | K44: =K45 -> 250000 | L44: =L45 -> 0 | M44: =M45 -> 0 | N44: =N45 -> 0 | O44: =IF(K44=0,"",N44/K44*100) -> 0
E45: 084 | F45: 615300 | H45: Kapitalni grant vjerskim zajednicama za realizaciju projekata obnove sakralnih objekata | I45: 250000 | J45: 0 | K45: =SUM(I45:J45) -> 250000 | N45: =SUM(L45:M45) -> 0 | O45: =IF(K45=0,"",N45/K45*100) -> 0
O46: =IF(K46=0,"",N46/K46*100)
F47: 821000 | H47: Izdaci za nabavku stalnih sredstava | I47: =SUM(I48:I49) -> 806717 | J47: =SUM(J48:J49) -> 769842 | K47: =SUM(K48:K49) -> 1576559 | L47: =SUM(L48:L49) -> 0 | M47: =SUM(M48:M49) -> 0 | N47: =SUM(N48:N49) -> 0 | O47: =IF(K47=0,"",N47/K47*100) -> 0
F48: 821200 | H48: Nabavka građevina | I48: =292717+288700+4700+193000+3500+17100 -> 799717 | J48: =660283+90000 -> 750283 | K48: =SUM(I48:J48) -> 1550000 | N48: =SUM(L48:M48) -> 0 | O48: =IF(K48=0,"",N48/K48*100) -> 0
F49: 821300 | H49: Nabavka opreme | I49: 7000 | J49: 19559 | K49: =SUM(I49:J49) -> 26559 | N49: =SUM(L49:M49) -> 0 | O49: =IF(K49=0,"",N49/K49*100) -> 0
O50: =IF(K50=0,"",N50/K50*100)
H51: Ukupan broj zaposlenih: | I51: 14 (15) | K51: 14 (15)
H52: Ukupno za potrošačku jedinicu: | I52: =I11+I15+I18+I33+I44+I47 -> 5358827 | J52: =J11+J15+J18+J33+J44+J47 -> 769842 | K52: =K11+K15+K18+K33+K44+K47 -> 6128669 | L52: =L11+L15+L18+L33+L44+L47 -> 0 | M52: =M11+M15+M18+M33+M44+M47 -> 0 | N52: =N11+N15+N18+N33+N44+N47 -> 0 | O52: =IF(K52=0,"",N52/K52*100) -> 0
H53: Ukupno za proračunsku instituciju: | I53: =I52 -> 5358827 | J53: =J52 -> 769842 | K53: =K52 -> 6128669 | L53: =L52 -> 0 | M53: =M52 -> 0 | N53: =N52 -> 0 | O53: =IF(K53=0,"",N53/K53*100) -> 0
H54: Ukupno za ministarstvo (razdjel): | I54: =I52+I81+I110+I139+I168+I197+I226+I255+I284+I313+I342 -> 24493119 | J54: =J52+J81+J110+J139+J168+J197+J226+J255+J284+J313+J342 -> 904430 | K54: =K52+K81+K110+K139+K168+K197+K226+K255+K284+K313+K342 -> 25397549 | L54: =L52+L81+L110+L139+L168+L197+L226+L255+L284+L313+L342 -> 0 | M54: =M52+M81+M110+M139+M168+M197+M226+M255+M284+M313+M342 -> 0 | N54: =N52+N81+N110+N139+N168+N197+N226+N255+N284+N313+N342 -> 0 | O54: =IF(K54=0,"",N54/K54*100) -> 0
O56: =IF(K56=0,"",N56/K56*100)
B57: 20 | C57: 02 | D57: 0002 | E57: 0922 | H57: SREDNJA ŠKOLA PERE ZEČEVIĆA U ODŽAKU | O57: =IF(K57=0,"",N57/K57*100)
F58: 611000 | H58: Plaće i naknade troškova zaposlenih | I58: =I59+I60 -> 1658560 | J58: =SUM(J59:J61) -> 0 | K58: =SUM(K59:K61) -> 1658560 | L58: =SUM(L59:L61) -> 0 | M58: =SUM(M59:M61) -> 0 | N58: =SUM(N59:N61) -> 0 | O58: =IF(K58=0,"",N58/K58*100) -> 0
F59: 611100 | H59: Bruto plaće i naknade plaća | I59: =1287580+730+1280+4060+4470+73400 -> 1371520 | J59: 0 | K59: =SUM(I59:J59) -> 1371520 | N59: =SUM(L59:M59) -> 0 | O59: =IF(K59=0,"",N59/K59*100) -> 0
F60: 611200 | H60: Naknade troškova zaposlenih | I60: =266800+1620+2840+2*7890 -> 287040 | J60: 0 | K60: =SUM(I60:J60) -> 287040 | N60: =SUM(L60:M60) -> 0 | O60: =IF(K60=0,"",N60/K60*100) -> 0
O61: =IF(K61=0,"",N61/K61*100)
F62: 612000 | H62: Doprinosi poslodavca i ostali doprinosi | I62: =I63 -> 68510 | J62: =J63 -> 0 | K62: =K63 -> 68510 | L62: =L63 -> 0 | M62: =M63 -> 0 | N62: =N63 -> 0 | O62: =IF(K62=0,"",N62/K62*100) -> 0
F63: 612100 | H63: Doprinosi poslodavca | I63: =64500+120+210+3680 -> 68510 | J63: 0 | K63: =SUM(I63:J63) -> 68510 | N63: =SUM(L63:M63) -> 0 | O63: =IF(K63=0,"",N63/K63*100) -> 0
O64: =IF(K64=0,"",N64/K64*100)
F65: 613000 | H65: Izdaci za materijal, sitan inv. i usluge | I65: =SUM(I66:I74) -> 187700 | J65: =SUM(J66:J74) -> 0 | K65: =SUM(K66:K74) -> 187700 | L65: =SUM(L66:L74) -> 0 | M65: =SUM(M66:M74) -> 0 | N65: =SUM(N66:N74) -> 0 | O65: =IF(K65=0,"",N65/K65*100) -> 0
F66: 613100 | H66: Putni troškovi | I66: 7000 | J66: 0 | K66: =SUM(I66:J66) -> 7000 | N66: =SUM(L66:M66) -> 0 | O66: =IF(K66=0,"",N66/K66*100) -> 0
F67: 613200 | H67: Izdaci za energiju | I67: 90000 | J67: 0 | K67: =SUM(I67:J67) -> 90000 | N67: =SUM(L67:M67) -> 0 | O67: =IF(K67=0,"",N67/K67*100) -> 0
F68: 613300 | H68: Izdaci za komunikaciju i komunalne usluge | I68: 12000 | J68: 0 | K68: =SUM(I68:J68) -> 12000 | N68: =SUM(L68:M68) -> 0 | O68: =IF(K68=0,"",N68/K68*100) -> 0
F69: 613400 | H69: Nabavka materijala i sitnog inventara | I69: 22000 | J69: 0 | K69: =SUM(I69:J69) -> 22000 | N69: =SUM(L69:M69) -> 0 | O69: =IF(K69=0,"",N69/K69*100) -> 0
F70: 613500 | H70: Izdaci za usluge prijevoza i goriva | I70: 3000 | J70: 0 | K70: =SUM(I70:J70) -> 3000 | N70: =SUM(L70:M70) -> 0 | O70: =IF(K70=0,"",N70/K70*100) -> 0
F71: 613600 | H71: Unajmljivanje imovine, opreme i nemat.imovine | I71: 0 | J71: 0 | K71: =SUM(I71:J71) -> 0 | N71: =SUM(L71:M71) -> 0 | O71: =IF(K71=0,"",N71/K71*100)
F72: 613700 | H72: Izdaci za tekuće održavanje | I72: 20000 | J72: 0 | K72: =SUM(I72:J72) -> 20000 | N72: =SUM(L72:M72) -> 0 | O72: =IF(K72=0,"",N72/K72*100) -> 0
F73: 613800 | H73: Izdaci osiguranja, bank. usluga i usluga p.p. | I73: 1700 | J73: 0 | K73: =SUM(I73:J73) -> 1700 | N73: =SUM(L73:M73) -> 0 | O73: =IF(K73=0,"",N73/K73*100) -> 0
F74: 613900 | H74: Ugovorene i druge posebne usluge | I74: 32000 | J74: 0 | K74: =SUM(I74:J74) -> 32000 | N74: =SUM(L74:M74) -> 0 | O74: =IF(K74=0,"",N74/K74*100) -> 0
O75: =IF(K75=0,"",N75/K75*100)
F76: 821000 | H76: Izdaci za nabavku stalnih sredstava | I76: =SUM(I77:I79) -> 399560 | J76: =SUM(J77:J79) -> 0 | K76: =SUM(K77:K79) -> 399560 | L76: =SUM(L77:L79) -> 0 | M76: =SUM(M77:M79) -> 0 | N76: =SUM(N77:N79) -> 0 | O76: =IF(K76=0,"",N76/K76*100) -> 0
F77: 821200 | H77: Nabavka građevina | I77: =351000+6000+10000+12560 -> 379560 | J77: 0 | K77: =SUM(I77:J77) -> 379560 | N77: =SUM(L77:M77) -> 0 | O77: =IF(K77=0,"",N77/K77*100) -> 0
F78: 821300 | H78: Nabavka opreme | I78: 20000 | J78: 0 | K78: =SUM(I78:J78) -> 20000 | N78: =SUM(L78:M78) -> 0 | O78: =IF(K78=0,"",N78/K78*100) -> 0
O79: =IF(K79=0,"",N79/K79*100)
H80: Ukupan broj zaposlenih: | I80: 43 (44) | K80: 43 (44)
H81: Ukupno za potrošačku jedinicu: | I81: =I58+I62+I65+I76 -> 2314330 | J81: =J58+J62+J65+J76 -> 0 | K81: =K58+K62+K65+K76 -> 2314330 | L81: =L58+L62+L65+L76 -> 0 | M81: =M58+M62+M65+M76 -> 0 | N81: =N58+N62+N65+N76 -> 0 | O81: =IF(K81=0,"",N81/K81*100) -> 0
H82: Ukupno za proračunsku instituciju: | O82: =IF(K82=0,"",N82/K82*100)
H83: Ukupno za ministarstvo (razdjel): | O83: =IF(K83=0,"",N83/K83*100)
O84: =IF(K84=0,"",N84/K84*100)
O85: =IF(K85=0,"",N85/K85*100)
B86: 20 | C86: 02 | D86: 0003 | E86: 0922 | H86: ŠKOLSKI CENTAR FRA M.NEDIĆA U ORAŠJU | O86: =IF(K86=0,"",N86/K86*100)
F87: 611000 | H87: Plaće i naknade troškova zaposlenih | I87: =I88+I89 -> 1467080 | J87: =SUM(J88:J90) -> 0 | K87: =SUM(K88:K90) -> 1467080 | L87: =SUM(L88:L90) -> 0 | M87: =SUM(M88:M90) -> 0 | N87: =SUM(N88:N90) -> 0 | O87: =IF(K87=0,"",N87/K87*100) -> 0
F88: 611100 | H88: Bruto plaće i naknade plaća | I88: =1154500+2*1280+1820+65800 -> 1224680 | J88: 0 | K88: =SUM(I88:J88) -> 1224680 | N88: =SUM(L88:M88) -> 0 | O88: =IF(K88=0,"",N88/K88*100) -> 0
F89: 611200 | H89: Naknade troškova zaposlenih | I89: =232670+2*2840+4050 -> 242400 | J89: 0 | K89: =SUM(I89:J89) -> 242400 | N89: =SUM(L89:M89) -> 0 | O89: =IF(K89=0,"",N89/K89*100) -> 0
O90: =IF(K90=0,"",N90/K90*100)
F91: 612000 | H91: Doprinosi poslodavca i ostali doprinosi | I91: =I92 -> 66470 | J91: =J92 -> 0 | K91: =K92 -> 66470 | L91: =L92 -> 0 | M91: =M92 -> 0 | N91: =N92 -> 0 | O91: =IF(K91=0,"",N91/K91*100) -> 0
F92: 612100 | H92: Doprinosi poslodavca | I92: =62200+2*210+300+3550 -> 66470 | J92: 0 | K92: =SUM(I92:J92) -> 66470 | N92: =SUM(L92:M92) -> 0 | O92: =IF(K92=0,"",N92/K92*100) -> 0
O93: =IF(K93=0,"",N93/K93*100)
F94: 613000 | H94: Izdaci za materijal, sitan inv. i usluge | I94: =SUM(I95:I103) -> 212000 | J94: =SUM(J95:J103) -> 0 | K94: =SUM(K95:K103) -> 212000 | L94: =SUM(L95:L103) -> 0 | M94: =SUM(M95:M103) -> 0 | N94: =SUM(N95:N103) -> 0 | O94: =IF(K94=0,"",N94/K94*100) -> 0
F95: 613100 | H95: Putni troškovi | I95: 8700 | J95: 0 | K95: =SUM(I95:J95) -> 8700 | N95: =SUM(L95:M95) -> 0 | O95: =IF(K95=0,"",N95/K95*100) -> 0
F96: 613200 | H96: Izdaci za energiju | I96: 100000 | J96: 0 | K96: =SUM(I96:J96) -> 100000 | N96: =SUM(L96:M96) -> 0 | O96: =IF(K96=0,"",N96/K96*100) -> 0
F97: 613300 | H97: Izdaci za komunikaciju i komunalne usluge | I97: 23000 | J97: 0 | K97: =SUM(I97:J97) -> 23000 | N97: =SUM(L97:M97) -> 0 | O97: =IF(K97=0,"",N97/K97*100) -> 0
F98: 613400 | H98: Nabavka materijala i sitnog inventara | I98: 20000 | J98: 0 | K98: =SUM(I98:J98) -> 20000 | N98: =SUM(L98:M98) -> 0 | O98: =IF(K98=0,"",N98/K98*100) -> 0
F99: 613500 | H99: Izdaci za usluge prijevoza i goriva | I99: 600 | J99: 0 | K99: =SUM(I99:J99) -> 600 | N99: =SUM(L99:M99) -> 0 | O99: =IF(K99=0,"",N99/K99*100) -> 0
F100: 613600 | H100: Unajmljivanje imovine, opreme i nemat.imovine | I100: 0 | J100: 0 | K100: =SUM(I100:J100) -> 0 | N100: =SUM(L100:M100) -> 0 | O100: =IF(K100=0,"",N100/K100*100)
F101: 613700 | H101: Izdaci za tekuće održavanje | I101: 28300 | J101: 0 | K101: =SUM(I101:J101) -> 28300 | N101: =SUM(L101:M101) -> 0 | O101: =IF(K101=0,"",N101/K101*100) -> 0
F102: 613800 | H102: Izdaci osiguranja, bank. usluga i usluga p.p. | I102: 1400 | J102: 0 | K102: =SUM(I102:J102) -> 1400 | N102: =SUM(L102:M102) -> 0 | O102: =IF(K102=0,"",N102/K102*100) -> 0
F103: 613900 | H103: Ugovorene i druge posebne usluge | I103: 30000 | J103: 0 | K103: =SUM(I103:J103) -> 30000 | N103: =SUM(L103:M103) -> 0 | O103: =IF(K103=0,"",N103/K103*100) -> 0
...

Sheet 21
B1: ZAHTJEV ZA IZMJENE I DOPUNE PRORAČUNA ZA 2026. GODINU
M2: Datum zahtjeva:
B3: NAZIV RAZDJELA: | F3: MINISTARSTVO BRANITELJA ŽUPANIJE POSAVSKE
B5: RAZDJEL: | D5: 21
B7: Ministarstvo (razdjel) | C7: Proračunska institucija | D7: Potrošačka jedinica | E7: Funkcija | F7: Ekon. kod | G7: Subanalitika | H7: OPIS | I7: PRORAČUN za 2026./ (poveć./smanj.) | L7: ZAHTJEV za Izmjene i dopune Proračuna za 2026. | O7: INDEKS
I8: iz prorač. sredstava | J8: iz ostalih izvora | K8: UKUPNO | L8: iz prorač. sredstava | M8: iz ostalih izvora | N8: UKUPNO
B9: 1 | C9: 2 | D9: 3 | E9: 4 | F9: 5 | G9: 6 | H9: 7 | I9: 8 | J9: 9 | K9: 10=8+9 | L9: 11 | M9: 12 | N9: 13=11+12 | O9: 14=13/10
B10: 21 | C10: 01 | D10: 0001 | E10: 1090 | H10: MINISTARSTVO BRANITELJA ŽP | O10: =IF(K10=0,"",N10/K10*100)
F11: 611000 | H11: Plaće i naknade troškova zaposlenih | I11: =SUM(I12:I13) -> 539910 | J11: =SUM(J12:J13) -> 0 | K11: =SUM(K12:K13) -> 539910 | L11: =SUM(L12:L13) -> 0 | M11: =SUM(M12:M13) -> 0 | N11: =SUM(N12:N13) -> 0 | O11: =IF(K11=0,"",N11/K11*100) -> 0
F12: 611100 | H12: Bruto plaće i naknade plaća | I12: =463000+730-12*3080+24300 -> 451070 | J12: 0 | K12: =SUM(I12:J12) -> 451070 | N12: =SUM(L12:M12) -> 0 | O12: =IF(K12=0,"",N12/K12*100) -> 0
F13: 611200 | H13: Naknade troškova zaposlenih | I13: =93150+1620-850-5080 -> 88840 | J13: 0 | K13: =SUM(I13:J13) -> 88840 | N13: =SUM(L13:M13) -> 0 | O13: =IF(K13=0,"",N13/K13*100) -> 0
O14: =IF(K14=0,"",N14/K14*100)
F15: 612000 | H15: Doprinosi poslodavca i ostali doprinosi | I15: =I16 -> 22300 | J15: =J16 -> 0 | K15: =K16 -> 22300 | L15: =L16 -> 0 | M15: =M16 -> 0 | N15: =N16 -> 0 | O15: =IF(K15=0,"",N15/K15*100) -> 0
F16: 612100 | H16: Doprinosi poslodavca | I16: =22790+120-12*150+1190 -> 22300 | J16: 0 | K16: =SUM(I16:J16) -> 22300 | N16: =SUM(L16:M16) -> 0 | O16: =IF(K16=0,"",N16/K16*100) -> 0
O17: =IF(K17=0,"",N17/K17*100)
F18: 613000 | H18: Izdaci za materijal, sitan inv. i usluge | I18: =SUM(I19:I27) -> 29300 | J18: =SUM(J19:J27) -> 0 | K18: =SUM(K19:K27) -> 29300 | L18: =SUM(L19:L27) -> 0 | M18: =SUM(M19:M27) -> 0 | N18: =SUM(N19:N27) -> 0 | O18: =IF(K18=0,"",N18/K18*100) -> 0
F19: 613100 | H19: Putni troškovi | I19: 3000 | J19: 0 | K19: =SUM(I19:J19) -> 3000 | N19: =SUM(L19:M19) -> 0 | O19: =IF(K19=0,"",N19/K19*100) -> 0
F20: 613200 | H20: Izdaci za energiju | I20: 0 | J20: 0 | K20: =SUM(I20:J20) -> 0 | N20: =SUM(L20:M20) -> 0 | O20: =IF(K20=0,"",N20/K20*100)
F21: 613300 | H21: Izdaci za komunikaciju i komunalne usluge | I21: 3000 | J21: 0 | K21: =SUM(I21:J21) -> 3000 | N21: =SUM(L21:M21) -> 0 | O21: =IF(K21=0,"",N21/K21*100) -> 0
F22: 613400 | H22: Nabavka materijala i sitnog inventara | I22: 1500 | J22: 0 | K22: =SUM(I22:J22) -> 1500 | N22: =SUM(L22:M22) -> 0 | O22: =IF(K22=0,"",N22/K22*100) -> 0
F23: 613500 | H23: Izdaci za usluge prijevoza i goriva | I23: 0 | J23: 0 | K23: =SUM(I23:J23) -> 0 | N23: =SUM(L23:M23) -> 0 | O23: =IF(K23=0,"",N23/K23*100)
F24: 613600 | H24: Unajmljivanje imovine, opreme i nemat.imovine | I24: 0 | J24: 0 | K24: =SUM(I24:J24) -> 0 | N24: =SUM(L24:M24) -> 0 | O24: =IF(K24=0,"",N24/K24*100)
F25: 613700 | H25: Izdaci za tekuće održavanje | I25: 1000 | J25: 0 | K25: =SUM(I25:J25) -> 1000 | N25: =SUM(L25:M25) -> 0 | O25: =IF(K25=0,"",N25/K25*100) -> 0
F26: 613800 | H26: Izdaci osiguranja, bank. usluga i usluga p.p. | I26: 800 | J26: 0 | K26: =SUM(I26:J26) -> 800 | N26: =SUM(L26:M26) -> 0 | O26: =IF(K26=0,"",N26/K26*100) -> 0
F27: 613900 | H27: Ugovorene i druge posebne usluge | I27: 20000 | J27: 0 | K27: =SUM(I27:J27) -> 20000 | N27: =SUM(L27:M27) -> 0 | O27: =IF(K27=0,"",N27/K27*100) -> 0
O28: =IF(K28=0,"",N28/K28*100)
F29: 614000 | H29: Tekući grantovi i drugi tekući rashodi | I29: =I30+I31 -> 2270000 | J29: =J30+J31 -> 0 | K29: =K30+K31 -> 2270000 | L29: =L30+L31 -> 0 | M29: =M30+M31 -> 0 | N29: =N30+N31 -> 0 | O29: =IF(K29=0,"",N29/K29*100) -> 0
F30: 614200 | G30: LA6001 | H30: Grant za branitelje i stradalnike Domovinskog rata | I30: 2050000 | J30: 0 | K30: =SUM(I30:J30) -> 2050000 | N30: =SUM(L30:M30) -> 0 | O30: =IF(K30=0,"",N30/K30*100) -> 0
F31: 614300 | H31: Grant za obilježavanje značajnih datuma i drug.aktivnosti vezano za Domovinski rat | I31: 220000 | J31: 0 | K31: =SUM(I31:J31) -> 220000 | N31: =SUM(L31:M31) -> 0 | O31: =IF(K31=0,"",N31/K31*100) -> 0
O32: =IF(K32=0,"",N32/K32*100)
F33: 821000 | H33: Izdaci za nabavku stalnih sredstava | I33: =SUM(I34:I35) -> 9000 | J33: =SUM(J34:J35) -> 0 | K33: =SUM(K34:K35) -> 9000 | L33: =SUM(L34:L35) -> 0 | M33: =SUM(M34:M35) -> 0 | N33: =SUM(N34:N35) -> 0 | O33: =IF(K33=0,"",N33/K33*100) -> 0
F34: 821200 | H34: Nabavka građevina | I34: 0 | J34: 0 | K34: =SUM(I34:J34) -> 0 | N34: =SUM(L34:M34) -> 0 | O34: =IF(K34=0,"",N34/K34*100)
F35: 821300 | H35: Nabavka opreme | I35: 9000 | J35: 0 | K35: =SUM(I35:J35) -> 9000 | N35: =SUM(L35:M35) -> 0 | O35: =IF(K35=0,"",N35/K35*100) -> 0
O36: =IF(K36=0,"",N36/K36*100)
H37: Ukupan broj zaposlenih: | I37: 12 (13) | K37: 12 (13)
H38: Ukupno za potrošačku jedinicu: | I38: =I11+I15+I18+I29+I33 -> 2870510 | J38: =J11+J15+J18+J29+J33 -> 0 | K38: =K11+K15+K18+K29+K33 -> 2870510 | L38: =L11+L15+L18+L29+L33 -> 0 | M38: =M11+M15+M18+M29+M33 -> 0 | N38: =N11+N15+N18+N29+N33 -> 0 | O38: =IF(K38=0,"",N38/K38*100) -> 0
H39: Ukupno za proračunsku instituciju: | I39: =I38 -> 2870510 | J39: =J38 -> 0 | K39: =K38 -> 2870510 | L39: =L38 -> 0 | M39: =M38 -> 0 | N39: =N38 -> 0 | O39: =IF(K39=0,"",N39/K39*100) -> 0
H40: Ukupno za ministarstvo (razdjel): | I40: =I39 -> 2870510 | J40: =J39 -> 0 | K40: =K39 -> 2870510 | L40: =L39 -> 0 | M40: =M39 -> 0 | N40: =N39 -> 0 | O40: =IF(K40=0,"",N40/K40*100) -> 0
O42: =IF(K42=0,"",N42/K42*100)

Sheet 22
B1: ZAHTJEV ZA IZMJENE I DOPUNE PRORAČUNA ZA 2026. GODINU
M2: Datum zahtjeva:
B3: NAZIV RAZDJELA: | F3: AGENCIJA ZA PRIVATIZACIJU U ŽUPANIJI POSAVSKOJ
B5: RAZDJEL: | D5: 22
B7: Ministarstvo (razdjel) | C7: Proračunska institucija | D7: Potrošačka jedinica | E7: Funkcija | F7: Ekon. kod | G7: Subanalitika | H7: OPIS | I7: PRORAČUN za 2026./ (poveć./smanj.) | L7: ZAHTJEV za Izmjene i dopune Proračuna za 2026. | O7: INDEKS
I8: iz prorač. sredstava | J8: iz ostalih izvora | K8: UKUPNO | L8: iz prorač. sredstava | M8: iz ostalih izvora | N8: UKUPNO
B9: 1 | C9: 2 | D9: 3 | E9: 4 | F9: 5 | G9: 6 | H9: 7 | I9: 8 | J9: 9 | K9: 10=8+9 | L9: 11 | M9: 12 | N9: 13=11+12 | O9: 14=13/10
B10: 22 | C10: 01 | D10: 0001 | E10: 0490 | H10: AGENCIJA ZA PRIVATIZACIJU U ŽP | O10: =IF(K10=0,"",N10/K10*100)
F11: 611000 | H11: Plaće i naknade troškova zaposlenih | I11: =SUM(I12:I13) -> 115620 | J11: =SUM(J12:J13) -> 0 | K11: =SUM(K12:K13) -> 115620 | L11: =SUM(L12:L13) -> 0 | M11: =SUM(M12:M13) -> 0 | N11: =SUM(N12:N13) -> 0 | O11: =IF(K11=0,"",N11/K11*100) -> 0
F12: 611100 | H12: Bruto plaće i naknade plaća | I12: =108630-6*2500+5950 -> 99580 | J12: 0 | K12: =SUM(I12:J12) -> 99580 | N12: =SUM(L12:M12) -> 0 | O12: =IF(K12=0,"",N12/K12*100) -> 0
F13: 611200 | H13: Naknade troškova zaposlenih | I13: 16040 | J13: 0 | K13: =SUM(I13:J13) -> 16040 | N13: =SUM(L13:M13) -> 0 | O13: =IF(K13=0,"",N13/K13*100) -> 0
O14: =IF(K14=0,"",N14/K14*100)
F15: 612000 | H15: Doprinosi poslodavca i ostali doprinosi | I15: =I16 -> 4990 | J15: =J16 -> 0 | K15: =K16 -> 4990 | L15: =L16 -> 0 | M15: =M16 -> 0 | N15: =N16 -> 0 | O15: =IF(K15=0,"",N15/K15*100) -> 0
F16: 612100 | H16: Doprinosi poslodavca | I16: =5450-6*125+290 -> 4990 | J16: 0 | K16: =SUM(I16:J16) -> 4990 | N16: =SUM(L16:M16) -> 0 | O16: =IF(K16=0,"",N16/K16*100) -> 0
O17: =IF(K17=0,"",N17/K17*100)
F18: 613000 | H18: Izdaci za materijal, sitan inv. i usluge | I18: =SUM(I19:I27) -> 32800 | J18: =SUM(J19:J27) -> 0 | K18: =SUM(K19:K27) -> 32800 | L18: =SUM(L19:L27) -> 0 | M18: =SUM(M19:M27) -> 0 | N18: =SUM(N19:N27) -> 0 | O18: =IF(K18=0,"",N18/K18*100) -> 0
F19: 613100 | H19: Putni troškovi | I19: 800 | J19: 0 | K19: =SUM(I19:J19) -> 800 | N19: =SUM(L19:M19) -> 0 | O19: =IF(K19=0,"",N19/K19*100) -> 0
F20: 613200 | H20: Izdaci za energiju | I20: 9900 | J20: 0 | K20: =SUM(I20:J20) -> 9900 | N20: =SUM(L20:M20) -> 0 | O20: =IF(K20=0,"",N20/K20*100) -> 0
F21: 613300 | H21: Izdaci za komunikaciju i komunalne usluge | I21: 3600 | J21: 0 | K21: =SUM(I21:J21) -> 3600 | N21: =SUM(L21:M21) -> 0 | O21: =IF(K21=0,"",N21/K21*100) -> 0
F22: 613400 | H22: Nabavka materijala i sitnog inventara | I22: 1900 | J22: 0 | K22: =SUM(I22:J22) -> 1900 | N22: =SUM(L22:M22) -> 0 | O22: =IF(K22=0,"",N22/K22*100) -> 0
F23: 613500 | H23: Izdaci za usluge prijevoza i goriva | I23: 0 | J23: 0 | K23: =SUM(I23:J23) -> 0 | N23: =SUM(L23:M23) -> 0 | O23: =IF(K23=0,"",N23/K23*100)
F24: 613600 | H24: Unajmljivanje imovine, opreme i nemat.imovine | I24: 0 | J24: 0 | K24: =SUM(I24:J24) -> 0 | N24: =SUM(L24:M24) -> 0 | O24: =IF(K24=0,"",N24/K24*100)
F25: 613700 | H25: Izdaci za tekuće održavanje | I25: 1600 | J25: 0 | K25: =SUM(I25:J25) -> 1600 | N25: =SUM(L25:M25) -> 0 | O25: =IF(K25=0,"",N25/K25*100) -> 0
F26: 613800 | H26: Izdaci osiguranja, bank. usluga i usluga p.p. | I26: 0 | J26: 0 | K26: =SUM(I26:J26) -> 0 | N26: =SUM(L26:M26) -> 0 | O26: =IF(K26=0,"",N26/K26*100)
F27: 613900 | H27: Ugovorene i druge posebne usluge | I27: 15000 | J27: 0 | K27: =SUM(I27:J27) -> 15000 | N27: =SUM(L27:M27) -> 0 | O27: =IF(K27=0,"",N27/K27*100) -> 0
O28: =IF(K28=0,"",N28/K28*100)
F29: 821000 | H29: Izdaci za nabavku stalnih sredstava | I29: =SUM(I30:I31) -> 0 | J29: =SUM(J30:J31) -> 0 | K29: =SUM(K30:K31) -> 0 | L29: =SUM(L30:L31) -> 0 | M29: =SUM(M30:M31) -> 0 | N29: =SUM(N30:N31) -> 0 | O29: =IF(K29=0,"",N29/K29*100)
F30: 821200 | H30: Nabavka građevina | I30: 0 | J30: 0 | K30: =SUM(I30:J30) -> 0 | N30: =SUM(L30:M30) -> 0 | O30: =IF(K30=0,"",N30/K30*100)
F31: 821300 | H31: Nabavka opreme | I31: 0 | J31: 0 | K31: =SUM(I31:J31) -> 0 | N31: =SUM(L31:M31) -> 0 | O31: =IF(K31=0,"",N31/K31*100)
O32: =IF(K32=0,"",N32/K32*100)
H33: Ukupan broj zaposlenih: | I33: 2 | K33: 2
H34: Ukupno za potrošačku jedinicu: | I34: =I11+I15+I18+I29 -> 153410 | J34: =J11+J15+J18+J29 -> 0 | K34: =K11+K15+K18+K29 -> 153410 | L34: =L11+L15+L18+L29 -> 0 | M34: =M11+M15+M18+M29 -> 0 | N34: =N11+N15+N18+N29 -> 0 | O34: =IF(K34=0,"",N34/K34*100) -> 0
H35: Ukupno za proračunsku instituciju: | I35: =I34 -> 153410 | J35: =J34 -> 0 | K35: =K34 -> 153410 | L35: =L34 -> 0 | M35: =M34 -> 0 | N35: =N34 -> 0 | O35: =IF(K35=0,"",N35/K35*100) -> 0
H36: Ukupno za ministarstvo (razdjel): | I36: =I35 -> 153410 | J36: =J35 -> 0 | K36: =K35 -> 153410 | L36: =L35 -> 0 | M36: =M35 -> 0 | N36: =N35 -> 0 | O36: =IF(K36=0,"",N36/K36*100) -> 0
O38: =IF(K38=0,"",N38/K38*100)

Sheet 23
B1: ZAHTJEV ZA IZMJENE I DOPUNE PRORAČUNA ZA 2026. GODINU
M2: Datum zahtjeva:
B3: NAZIV RAZDJELA: | F3: ŽUPANIJSKA UPRAVA CIVILNE ZAŠTITE
B5: RAZDJEL: | D5: 23
B7: Ministarstvo (razdjel) | C7: Proračunska institucija | D7: Potrošačka jedinica | E7: Funkcija | F7: Ekon. kod | G7: Subanalitika | H7: OPIS | I7: PRORAČUN za 2026./ (poveć./smanj.) | L7: ZAHTJEV za Izmjene i dopune Proračuna za 2026. | O7: INDEKS
I8: iz prorač. sredstava | J8: iz ostalih izvora | K8: UKUPNO | L8: iz prorač. sredstava | M8: iz ostalih izvora | N8: UKUPNO
B9: 1 | C9: 2 | D9: 3 | E9: 4 | F9: 5 | G9: 6 | H9: 7 | I9: 8 | J9: 9 | K9: 10=8+9 | L9: 11 | M9: 12 | N9: 13=11+12 | O9: 14=13/10
B10: 23 | C10: 01 | D10: 0001 | E10: 0320 | H10: ŽUPANIJSKA UPRAVA CIVILNE ZAŠTITE | O10: =IF(K10=0,"",N10/K10*100)
F11: 611000 | H11: Plaće i naknade troškova zaposlenih | I11: =SUM(I12:I14) -> 1419690 | J11: =SUM(J12:J14) -> 0 | K11: =SUM(K12:K14) -> 1419690 | L11: =SUM(L12:L14) -> 0 | M11: =SUM(M12:M14) -> 0 | N11: =SUM(N12:N14) -> 0 | O11: =IF(K11=0,"",N11/K11*100) -> 0
F12: 611100 | H12: Bruto plaće i naknade plaća | I12: =1078230+4*10*1560+61460 -> 1202090 | J12: 0 | K12: =SUM(I12:J12) -> 1202090 | N12: =SUM(L12:M12) -> 0 | O12: =IF(K12=0,"",N12/K12*100) -> 0
F13: 611200 | H13: Naknade troškova zaposlenih | I13: =195280+4*850+4*4730 -> 217600 | J13: 0 | K13: =SUM(I13:J13) -> 217600 | N13: =SUM(L13:M13) -> 0 | O13: =IF(K13=0,"",N13/K13*100) -> 0
O14: =IF(K14=0,"",N14/K14*100)
F15: 612000 | H15: Doprinosi poslodavca i ostali doprinosi | I15: =I16 -> 87700 | J15: =J16 -> 0 | K15: =K16 -> 87700 | L15: =L16 -> 0 | M15: =M16 -> 0 | N15: =N16 -> 0 | O15: =IF(K15=0,"",N15/K15*100) -> 0
F16: 612100 | H16: Doprinosi poslodavca | I16: =76100+4*10*180+4400 -> 87700 | J16: 0 | K16: =SUM(I16:J16) -> 87700 | N16: =SUM(L16:M16) -> 0 | O16: =IF(K16=0,"",N16/K16*100) -> 0
O17: =IF(K17=0,"",N17/K17*100)
F18: 613000 | H18: Izdaci za materijal, sitan inv. i usluge | I18: =SUM(I19:I27) -> 196000 | J18: =SUM(J19:J27) -> 0 | K18: =SUM(K19:K27) -> 196000 | L18: =SUM(L19:L27) -> 0 | M18: =SUM(M19:M27) -> 0 | N18: =SUM(N19:N27) -> 0 | O18: =IF(K18=0,"",N18/K18*100) -> 0
F19: 613100 | H19: Putni troškovi | I19: 3000 | J19: 0 | K19: =SUM(I19:J19) -> 3000 | N19: =SUM(L19:M19) -> 0 | O19: =IF(K19=0,"",N19/K19*100) -> 0
F20: 613200 | H20: Izdaci za energiju | I20: 26000 | J20: 0 | K20: =SUM(I20:J20) -> 26000 | N20: =SUM(L20:M20) -> 0 | O20: =IF(K20=0,"",N20/K20*100) -> 0
F21: 613300 | H21: Izdaci za komunikaciju i komunalne usluge | I21: 11000 | J21: 0 | K21: =SUM(I21:J21) -> 11000 | N21: =SUM(L21:M21) -> 0 | O21: =IF(K21=0,"",N21/K21*100) -> 0
F22: 613400 | H22: Nabavka materijala i sitnog inventara | I22: 53000 | J22: 0 | K22: =SUM(I22:J22) -> 53000 | N22: =SUM(L22:M22) -> 0 | O22: =IF(K22=0,"",N22/K22*100) -> 0
F23: 613500 | H23: Izdaci za usluge prijevoza i goriva | I23: 31000 | J23: 0 | K23: =SUM(I23:J23) -> 31000 | N23: =SUM(L23:M23) -> 0 | O23: =IF(K23=0,"",N23/K23*100) -> 0
F24: 613600 | H24: Unajmljivanje imovine, opreme i nemat.imovine | I24: 0 | J24: 0 | K24: =SUM(I24:J24) -> 0 | N24: =SUM(L24:M24) -> 0 | O24: =IF(K24=0,"",N24/K24*100)
F25: 613700 | H25: Izdaci za tekuće održavanje | I25: =30000+3000 -> 33000 | J25: 0 | K25: =SUM(I25:J25) -> 33000 | N25: =SUM(L25:M25) -> 0 | O25: =IF(K25=0,"",N25/K25*100) -> 0
F26: 613800 | H26: Izdaci osiguranja, bank. usluga i usluga p.p. | I26: 11000 | J26: 0 | K26: =SUM(I26:J26) -> 11000 | N26: =SUM(L26:M26) -> 0 | O26: =IF(K26=0,"",N26/K26*100) -> 0
F27: 613900 | H27: Ugovorene i druge posebne usluge | I27: 28000 | J27: 0 | K27: =SUM(I27:J27) -> 28000 | N27: =SUM(L27:M27) -> 0 | O27: =IF(K27=0,"",N27/K27*100) -> 0
O28: =IF(K28=0,"",N28/K28*100)
F29: 614000 | H29: Tekući grantovi i drugi tekući rashodi | I29: =I30+I31 -> 100000 | J29: =J30+J31 -> 261000 | K29: =K30+K31 -> 361000 | L29: =L30+L31 -> 0 | M29: =M30+M31 -> 0 | N29: =N30+N31 -> 0 | O29: =IF(K29=0,"",N29/K29*100) -> 0
F30: 614100 | G30: NA6005 | H30: Grant nižim razinama za uklanjanje posljedica pr.nesreća | I30: 0 | J30: 0 | K30: =SUM(I30:J30) -> 0 | N30: =SUM(L30:M30) -> 0 | O30: =IF(K30=0,"",N30/K30*100)
F31: 614200 | G31: NA6002 | H31: Grant za zaštitu od prirodnih i drugih nesreća | I31: 100000 | J31: =180000+81000 -> 261000 | K31: =SUM(I31:J31) -> 361000 | N31: =SUM(L31:M31) -> 0 | O31: =IF(K31=0,"",N31/K31*100) -> 0
O32: =IF(K32=0,"",N32/K32*100)
F33: 821000 | H33: Izdaci za nabavku stalnih sredstava | I33: =SUM(I34:I37) -> 386000 | J33: =SUM(J34:J37) -> 189000 | K33: =SUM(K34:K37) -> 575000 | L33: =SUM(L34:L37) -> 0 | M33: =SUM(M34:M37) -> 0 | N33: =SUM(N34:N37) -> 0 | O33: =IF(K33=0,"",N33/K33*100) -> 0
F34: 821200 | H34: Nabavka građevina | I34: 66000 | J34: 70000 | K34: =SUM(I34:J34) -> 136000 | N34: =SUM(L34:M34) -> 0 | O34: =IF(K34=0,"",N34/K34*100) -> 0
F35: 821300 | H35: Nabavka opreme | I35: 0 | J35: 119000 | K35: =SUM(I35:J35) -> 119000 | N35: =SUM(L35:M35) -> 0 | O35: =IF(K35=0,"",N35/K35*100) -> 0
F36: 821300 | G36: NA8001 | H36: Nabavka opreme - vatrogasna postrojba | I36: 320000 | J36: 0 | K36: =SUM(I36:J36) -> 320000 | N36: =SUM(L36:M36) -> 0 | O36: =IF(K36=0,"",N36/K36*100) -> 0
O37: =IF(K37=0,"",N37/K37*100)
H38: Ukupan broj zaposlenih: | I38: 40 | K38: 40
H39: Ukupno za potrošačku jedinicu: | I39: =I11+I15+I18+I29+I33 -> 2189390 | J39: =J11+J15+J18+J29+J33 -> 450000 | K39: =K11+K15+K18+K29+K33 -> 2639390 | L39: =L11+L15+L18+L29+L33 -> 0 | M39: =M11+M15+M18+M29+M33 -> 0 | N39: =N11+N15+N18+N29+N33 -> 0 | O39: =IF(K39=0,"",N39/K39*100) -> 0
H40: Ukupno za proračunsku instituciju: | I40: =I39 -> 2189390 | J40: =J39 -> 450000 | K40: =K39 -> 2639390 | L40: =L39 -> 0 | M40: =M39 -> 0 | N40: =N39 -> 0 | O40: =IF(K40=0,"",N40/K40*100) -> 0
H41: Ukupno za ministarstvo (razdjel): | I41: =I40 -> 2189390 | J41: =J40 -> 450000 | K41: =K40 -> 2639390 | L41: =L40 -> 0 | M41: =M40 -> 0 | N41: =N40 -> 0 | O41: =IF(K41=0,"",N41/K41*100) -> 0
O43: =IF(K43=0,"",N43/K43*100)

Sheet 24
B1: ZAHTJEV ZA IZMJENE I DOPUNE PRORAČUNA ZA 2026. GODINU
M2: Datum zahtjeva:
B3: NAZIV RAZDJELA: | F3: KANTONALNI SUD ODŽAK
B5: RAZDJEL: | D5: 24
B7: Ministarstvo (razdjel) | C7: Proračunska institucija | D7: Potrošačka jedinica | E7: Funkcija | F7: Ekon. kod | G7: Subanalitika | H7: OPIS | I7: PRORAČUN za 2026./ (poveć./smanj.) | L7: ZAHTJEV za Izmjene i dopune Proračuna za 2026. | O7: INDEKS
I8: iz prorač. sredstava | J8: iz ostalih izvora | K8: UKUPNO | L8: iz prorač. sredstava | M8: iz ostalih izvora | N8: UKUPNO
B9: 1 | C9: 2 | D9: 3 | E9: 4 | F9: 5 | G9: 6 | H9: 7 | I9: 8 | J9: 9 | K9: 10=8+9 | L9: 11 | M9: 12 | N9: 13=11+12 | O9: 14=13/10
B10: 24 | C10: 01 | D10: 0001 | E10: 0330 | H10: KANTONALNI SUD ODŽAK | O10: =IF(K10=0,"",N10/K10*100)
F11: 611000 | H11: Plaće i naknade troškova zaposlenih | I11: =I12+I13 -> 933190 | J11: =SUM(J12:J13) -> 0 | K11: =SUM(K12:K13) -> 933190 | L11: =SUM(L12:L13) -> 0 | M11: =SUM(M12:M13) -> 0 | N11: =SUM(N12:N13) -> 0 | O11: =IF(K11=0,"",N11/K11*100) -> 0
F12: 611100 | H12: Bruto plaće i naknade plaća | I12: 800850 | J12: 0 | K12: =SUM(I12:J12) -> 800850 | N12: =SUM(L12:M12) -> 0 | O12: =IF(K12=0,"",N12/K12*100) -> 0
F13: 611200 | H13: Naknade troškova zaposlenih | I13: 132340 | J13: 0 | K13: =SUM(I13:J13) -> 132340 | N13: =SUM(L13:M13) -> 0 | O13: =IF(K13=0,"",N13/K13*100) -> 0
O14: =IF(K14=0,"",N14/K14*100)
F15: 612000 | H15: Doprinosi poslodavca i ostali doprinosi | I15: =I16 -> 41520 | J15: =J16 -> 0 | K15: =K16 -> 41520 | L15: =L16 -> 0 | M15: =M16 -> 0 | N15: =N16 -> 0 | O15: =IF(K15=0,"",N15/K15*100) -> 0
F16: 612100 | H16: Doprinosi poslodavca | I16: =38850+2*120+210+2220 -> 41520 | J16: 0 | K16: =SUM(I16:J16) -> 41520 | N16: =SUM(L16:M16) -> 0 | O16: =IF(K16=0,"",N16/K16*100) -> 0
O17: =IF(K17=0,"",N17/K17*100)
F18: 613000 | H18: Izdaci za materijal, sitan inv. i usluge | I18: =SUM(I19:I27) -> 160000 | J18: =SUM(J19:J27) -> 0 | K18: =SUM(K19:K27) -> 160000 | L18: =SUM(L19:L27) -> 0 | M18: =SUM(M19:M27) -> 0 | N18: =SUM(N19:N27) -> 0 | O18: =IF(K18=0,"",N18/K18*100) -> 0
F19: 613100 | H19: Putni troškovi | I19: 9000 | J19: 0 | K19: =SUM(I19:J19) -> 9000 | N19: =SUM(L19:M19) -> 0 | O19: =IF(K19=0,"",N19/K19*100) -> 0
F20: 613200 | H20: Izdaci za energiju | I20: 25000 | J20: 0 | K20: =SUM(I20:J20) -> 25000 | N20: =SUM(L20:M20) -> 0 | O20: =IF(K20=0,"",N20/K20*100) -> 0
F21: 613300 | H21: Izdaci za komunikaciju i komunalne usluge | I21: 18000 | J21: 0 | K21: =SUM(I21:J21) -> 18000 | N21: =SUM(L21:M21) -> 0 | O21: =IF(K21=0,"",N21/K21*100) -> 0
F22: 613400 | H22: Nabavka materijala i sitnog inventara | I22: 8000 | J22: 0 | K22: =SUM(I22:J22) -> 8000 | N22: =SUM(L22:M22) -> 0 | O22: =IF(K22=0,"",N22/K22*100) -> 0
F23: 613500 | H23: Izdaci za usluge prijevoza i goriva | I23: 5000 | J23: 0 | K23: =SUM(I23:J23) -> 5000 | N23: =SUM(L23:M23) -> 0 | O23: =IF(K23=0,"",N23/K23*100) -> 0
F24: 613600 | H24: Unajmljivanje imovine, opreme i nemat.imovine | I24: 0 | J24: 0 | K24: =SUM(I24:J24) -> 0 | N24: =SUM(L24:M24) -> 0 | O24: =IF(K24=0,"",N24/K24*100)
F25: 613700 | H25: Izdaci za tekuće održavanje | I25: 10000 | J25: 0 | K25: =SUM(I25:J25) -> 10000 | N25: =SUM(L25:M25) -> 0 | O25: =IF(K25=0,"",N25/K25*100) -> 0
F26: 613800 | H26: Izdaci osiguranja, bank. usluga i usluga p.p. | I26: 5000 | J26: 0 | K26: =SUM(I26:J26) -> 5000 | N26: =SUM(L26:M26) -> 0 | O26: =IF(K26=0,"",N26/K26*100) -> 0
F27: 613900 | H27: Ugovorene i druge posebne usluge | I27: 80000 | J27: 0 | K27: =SUM(I27:J27) -> 80000 | N27: =SUM(L27:M27) -> 0 | O27: =IF(K27=0,"",N27/K27*100) -> 0
O28: =IF(K28=0,"",N28/K28*100)
F29: 821000 | H29: Izdaci za nabavku stalnih sredstava | I29: =SUM(I30:I31) -> 50000 | J29: =SUM(J30:J31) -> 0 | K29: =SUM(K30:K31) -> 50000 | L29: =SUM(L30:L31) -> 0 | M29: =SUM(M30:M31) -> 0 | N29: =SUM(N30:N31) -> 0 | O29: =IF(K29=0,"",N29/K29*100) -> 0
F30: 821200 | H30: Nabavka građevina | I30: 30000 | J30: 0 | K30: =SUM(I30:J30) -> 30000 | N30: =SUM(L30:M30) -> 0 | O30: =IF(K30=0,"",N30/K30*100) -> 0
F31: 821300 | H31: Nabavka opreme | I31: 20000 | J31: 0 | K31: =SUM(I31:J31) -> 20000 | N31: =SUM(L31:M31) -> 0 | O31: =IF(K31=0,"",N31/K31*100) -> 0
O32: =IF(K32=0,"",N32/K32*100)
H33: Ukupan broj zaposlenih: | I33: 16 | K33: 16
H34: Ukupno za potrošačku jedinicu: | I34: =I11+I15+I18+I29 -> 1184710 | J34: =J11+J15+J18+J29 -> 0 | K34: =K11+K15+K18+K29 -> 1184710 | L34: =L11+L15+L18+L29 -> 0 | M34: =M11+M15+M18+M29 -> 0 | N34: =N11+N15+N18+N29 -> 0 | O34: =IF(K34=0,"",N34/K34*100) -> 0
H35: Ukupno za proračunsku instituciju: | I35: =I34 -> 1184710 | J35: =J34 -> 0 | K35: =K34 -> 1184710 | L35: =L34 -> 0 | M35: =M34 -> 0 | N35: =N34 -> 0 | O35: =IF(K35=0,"",N35/K35*100) -> 0
H36: Ukupno za ministarstvo (razdjel): | I36: =I35 -> 1184710 | J36: =J35 -> 0 | K36: =K35 -> 1184710 | L36: =L35 -> 0 | M36: =M35 -> 0 | N36: =N35 -> 0 | O36: =IF(K36=0,"",N36/K36*100) -> 0
O38: =IF(K38=0,"",N38/K38*100)

Sheet 26
B1: ZAHTJEV ZA IZMJENE I DOPUNE PRORAČUNA ZA 2026. GODINU
M2: Datum zahtjeva:
B3: NAZIV RAZDJELA: | F3: ŽUPANIJSKO PRAVOBRANITELJSTVO
B5: RAZDJEL: | D5: 26
B7: Ministarstvo (razdjel) | C7: Proračunska institucija | D7: Potrošačka jedinica | E7: Funkcija | F7: Ekon. kod | G7: Subanalitika | H7: OPIS | I7: PRORAČUN za 2026./ (poveć./smanj.) | L7: ZAHTJEV za Izmjene i dopune Proračuna za 2026. | O7: INDEKS
I8: iz prorač. sredstava | J8: iz ostalih izvora | K8: UKUPNO | L8: iz prorač. sredstava | M8: iz ostalih izvora | N8: UKUPNO
B9: 1 | C9: 2 | D9: 3 | E9: 4 | F9: 5 | G9: 6 | H9: 7 | I9: 8 | J9: 9 | K9: 10=8+9 | L9: 11 | M9: 12 | N9: 13=11+12 | O9: 14=13/10
B10: 26 | C10: 01 | D10: 0001 | E10: 0330 | H10: ŽUPANIJSKO PRAVOBRANITELJSTVO | O10: =IF(K10=0,"",N10/K10*100)
F11: 611000 | H11: Plaće i naknade troškova zaposlenih | I11: =SUM(I12:I13) -> 120940 | J11: =SUM(J12:J13) -> 0 | K11: =SUM(K12:K13) -> 120940 | L11: =SUM(L12:L13) -> 0 | M11: =SUM(M12:M13) -> 0 | N11: =SUM(N12:N13) -> 0 | O11: =IF(K11=0,"",N11/K11*100) -> 0
F12: 611100 | H12: Bruto plaće i naknade plaća | I12: =98230+12*140+5600 -> 105510 | J12: 0 | K12: =SUM(I12:J12) -> 105510 | N12: =SUM(L12:M12) -> 0 | O12: =IF(K12=0,"",N12/K12*100) -> 0
F13: 611200 | H13: Naknade troškova zaposlenih | I13: =15430 -> 15430 | J13: 0 | K13: =SUM(I13:J13) -> 15430 | N13: =SUM(L13:M13) -> 0 | O13: =IF(K13=0,"",N13/K13*100) -> 0
O14: =IF(K14=0,"",N14/K14*100)
F15: 612000 | H15: Doprinosi poslodavca i ostali doprinosi | I15: =I16 -> 5290 | J15: =J16 -> 0 | K15: =K16 -> 5290 | L15: =L16 -> 0 | M15: =M16 -> 0 | N15: =N16 -> 0 | O15: =IF(K15=0,"",N15/K15*100) -> 0
F16: 612100 | H16: Doprinosi poslodavca | I16: =4890+12*10+280 -> 5290 | J16: 0 | K16: =SUM(I16:J16) -> 5290 | N16: =SUM(L16:M16) -> 0 | O16: =IF(K16=0,"",N16/K16*100) -> 0
O17: =IF(K17=0,"",N17/K17*100)
F18: 613000 | H18: Izdaci za materijal, sitan inv. i usluge | I18: =SUM(I19:I27) -> 13300 | J18: =SUM(J19:J27) -> 0 | K18: =SUM(K19:K27) -> 13300 | L18: =SUM(L19:L27) -> 0 | M18: =SUM(M19:M27) -> 0 | N18: =SUM(N19:N27) -> 0 | O18: =IF(K18=0,"",N18/K18*100) -> 0
F19: 613100 | H19: Putni troškovi | I19: 2000 | J19: 0 | K19: =SUM(I19:J19) -> 2000 | N19: =SUM(L19:M19) -> 0 | O19: =IF(K19=0,"",N19/K19*100) -> 0
F20: 613200 | H20: Izdaci za energiju | I20: 0 | J20: 0 | K20: =SUM(I20:J20) -> 0 | N20: =SUM(L20:M20) -> 0 | O20: =IF(K20=0,"",N20/K20*100)
F21: 613300 | H21: Izdaci za komunikaciju i komunalne usluge | I21: 4800 | J21: 0 | K21: =SUM(I21:J21) -> 4800 | N21: =SUM(L21:M21) -> 0 | O21: =IF(K21=0,"",N21/K21*100) -> 0
F22: 613400 | H22: Nabavka materijala i sitnog inventara | I22: 1500 | J22: 0 | K22: =SUM(I22:J22) -> 1500 | N22: =SUM(L22:M22) -> 0 | O22: =IF(K22=0,"",N22/K22*100) -> 0
F23: 613500 | H23: Izdaci za usluge prijevoza i goriva | I23: 0 | J23: 0 | K23: =SUM(I23:J23) -> 0 | N23: =SUM(L23:M23) -> 0 | O23: =IF(K23=0,"",N23/K23*100)
F24: 613600 | H24: Unajmljivanje imovine, opreme i nemat.imovine | I24: 0 | J24: 0 | K24: =SUM(I24:J24) -> 0 | N24: =SUM(L24:M24) -> 0 | O24: =IF(K24=0,"",N24/K24*100)
F25: 613700 | H25: Izdaci za tekuće održavanje | I25: 2000 | J25: 0 | K25: =SUM(I25:J25) -> 2000 | N25: =SUM(L25:M25) -> 0 | O25: =IF(K25=0,"",N25/K25*100) -> 0
F26: 613800 | H26: Izdaci osiguranja, bank. usluga i usluga p.p. | I26: 0 | J26: 0 | K26: =SUM(I26:J26) -> 0 | N26: =SUM(L26:M26) -> 0 | O26: =IF(K26=0,"",N26/K26*100)
F27: 613900 | H27: Ugovorene i druge posebne usluge | I27: 3000 | J27: 0 | K27: =SUM(I27:J27) -> 3000 | N27: =SUM(L27:M27) -> 0 | O27: =IF(K27=0,"",N27/K27*100) -> 0
O28: =IF(K28=0,"",N28/K28*100)
F29: 821000 | H29: Izdaci za nabavku stalnih sredstava | I29: =I30+I31 -> 2000 | J29: =J30+J31 -> 0 | K29: =K30+K31 -> 2000 | L29: =L30+L31 -> 0 | M29: =M30+M31 -> 0 | N29: =N30+N31 -> 0 | O29: =IF(K29=0,"",N29/K29*100) -> 0
F30: 821200 | H30: Nabavka građevina | I30: 0 | J30: 0 | K30: =SUM(I30:J30) -> 0 | N30: =SUM(L30:M30) -> 0 | O30: =IF(K30=0,"",N30/K30*100)
F31: 821300 | H31: Nabavka opreme | I31: 2000 | J31: 0 | K31: =SUM(I31:J31) -> 2000 | N31: =SUM(L31:M31) -> 0 | O31: =IF(K31=0,"",N31/K31*100) -> 0
O32: =IF(K32=0,"",N32/K32*100)
H33: Ukupan broj zaposlenih: | I33: 3 | K33: 3
H34: Ukupno za potrošačku jedinicu: | I34: =I11+I15+I18+I29 -> 141530 | J34: =J11+J15+J18+J29 -> 0 | K34: =K11+K15+K18+K29 -> 141530 | L34: =L11+L15+L18+L29 -> 0 | M34: =M11+M15+M18+M29 -> 0 | N34: =N11+N15+N18+N29 -> 0 | O34: =IF(K34=0,"",N34/K34*100) -> 0
H35: Ukupno za proračunsku instituciju: | I35: =I34 -> 141530 | J35: =J34 -> 0 | K35: =K34 -> 141530 | L35: =L34 -> 0 | M35: =M34 -> 0 | N35: =N34 -> 0 | O35: =IF(K35=0,"",N35/K35*100) -> 0
H36: Ukupno za ministarstvo (razdjel): | I36: =I35 -> 141530 | J36: =J35 -> 0 | K36: =K35 -> 141530 | L36: =L35 -> 0 | M36: =M35 -> 0 | N36: =N35 -> 0 | O36: =IF(K36=0,"",N36/K36*100) -> 0
O38: =IF(K38=0,"",N38/K38*100)

Sheet 27
B1: ZAHTJEV ZA IZMJENE I DOPUNE PRORAČUNA ZA 2026. GODINU
M2: Datum zahtjeva:
B3: NAZIV RAZDJELA: | F3: KANTONALNO TUŽITELJSTVO POSAVSKOG KANTONA ORAŠJE
B5: RAZDJEL: | D5: 27
B7: Ministarstvo (razdjel) | C7: Proračunska institucija | D7: Potrošačka jedinica | E7: Funkcija | F7: Ekon. kod | G7: Subanalitika | H7: OPIS | I7: PRORAČUN za 2026./ (poveć./smanj.) | L7: ZAHTJEV za Izmjene i dopune Proračuna za 2026. | O7: INDEKS
I8: iz prorač. sredstava | J8: iz ostalih izvora | K8: UKUPNO | L8: iz prorač. sredstava | M8: iz ostalih izvora | N8: UKUPNO
B9: 1 | C9: 2 | D9: 3 | E9: 4 | F9: 5 | G9: 6 | H9: 7 | I9: 8 | J9: 9 | K9: 10=8+9 | L9: 11 | M9: 12 | N9: 13=11+12 | O9: 14=13/10
B10: 27 | C10: 01 | D10: 0001 | E10: 0330 | H10: KANTONALNO TUŽITELJSTVO PK U ORAŠJU | O10: =IF(K10=0,"",N10/K10*100)
F11: 611000 | H11: Plaće i naknade troškova zaposlenih | I11: =SUM(I12:I13) -> 884580 | J11: =SUM(J12:J13) -> 0 | K11: =SUM(K12:K13) -> 884580 | L11: =SUM(L12:L13) -> 0 | M11: =SUM(M12:M13) -> 0 | N11: =SUM(N12:N13) -> 0 | O11: =IF(K11=0,"",N11/K11*100) -> 0
F12: 611100 | H12: Bruto plaće i naknade plaća | I12: =670780+3*1820+1280+730+10*3000+38240 -> 746490 | J12: 0 | K12: =SUM(I12:J12) -> 746490 | N12: =SUM(L12:M12) -> 0 | O12: =IF(K12=0,"",N12/K12*100) -> 0
F13: 611200 | H13: Naknade troškova zaposlenih | I13: =89590+3*4050+2840+1620+26000+850+5040 -> 138090 | J13: 0 | K13: =SUM(I13:J13) -> 138090 | N13: =SUM(L13:M13) -> 0 | O13: =IF(K13=0,"",N13/K13*100) -> 0
O14: =IF(K14=0,"",N14/K14*100)
F15: 612000 | H15: Doprinosi poslodavca i ostali doprinosi | I15: =I16 -> 37540 | J15: =J16 -> 0 | K15: =K16 -> 37540 | L15: =L16 -> 0 | M15: =M16 -> 0 | N15: =N16 -> 0 | O15: =IF(K15=0,"",N15/K15*100) -> 0
F16: 612100 | H16: Doprinosi poslodavca | I16: =32930+3*300+210+120+10*150+1880 -> 37540 | J16: 0 | K16: =SUM(I16:J16) -> 37540 | N16: =SUM(L16:M16) -> 0 | O16: =IF(K16=0,"",N16/K16*100) -> 0
O17: =IF(K17=0,"",N17/K17*100)
F18: 613000 | H18: Izdaci za materijal, sitan inv. i usluge | I18: =SUM(I19:I27) -> 114500 | J18: =SUM(J19:J27) -> 0 | K18: =SUM(K19:K27) -> 114500 | L18: =SUM(L19:L27) -> 0 | M18: =SUM(M19:M27) -> 0 | N18: =SUM(N19:N27) -> 0 | O18: =IF(K18=0,"",N18/K18*100) -> 0
F19: 613100 | H19: Putni troškovi | I19: 4200 | J19: 0 | K19: =SUM(I19:J19) -> 4200 | N19: =SUM(L19:M19) -> 0 | O19: =IF(K19=0,"",N19/K19*100) -> 0
F20: 613200 | H20: Izdaci za energiju | I20: 8500 | J20: 0 | K20: =SUM(I20:J20) -> 8500 | N20: =SUM(L20:M20) -> 0 | O20: =IF(K20=0,"",N20/K20*100) -> 0
F21: 613300 | H21: Izdaci za komunikaciju i komunalne usluge | I21: 13000 | J21: 0 | K21: =SUM(I21:J21) -> 13000 | N21: =SUM(L21:M21) -> 0 | O21: =IF(K21=0,"",N21/K21*100) -> 0
F22: 613400 | H22: Nabavka materijala i sitnog inventara | I22: 19500 | J22: 0 | K22: =SUM(I22:J22) -> 19500 | N22: =SUM(L22:M22) -> 0 | O22: =IF(K22=0,"",N22/K22*100) -> 0
F23: 613500 | H23: Izdaci za usluge prijevoza i goriva | I23: 4800 | J23: 0 | K23: =SUM(I23:J23) -> 4800 | N23: =SUM(L23:M23) -> 0 | O23: =IF(K23=0,"",N23/K23*100) -> 0
F24: 613600 | H24: Unajmljivanje imovine, opreme i nemat.imovine | I24: 0 | J24: 0 | K24: =SUM(I24:J24) -> 0 | N24: =SUM(L24:M24) -> 0 | O24: =IF(K24=0,"",N24/K24*100)
F25: 613700 | H25: Izdaci za tekuće održavanje | I25: 7500 | J25: 0 | K25: =SUM(I25:J25) -> 7500 | N25: =SUM(L25:M25) -> 0 | O25: =IF(K25=0,"",N25/K25*100) -> 0
F26: 613800 | H26: Izdaci osiguranja, bank. usluga i usluga p.p. | I26: 2500 | J26: 0 | K26: =SUM(I26:J26) -> 2500 | N26: =SUM(L26:M26) -> 0 | O26: =IF(K26=0,"",N26/K26*100) -> 0
F27: 613900 | H27: Ugovorene i druge posebne usluge | I27: 54500 | J27: 0 | K27: =SUM(I27:J27) -> 54500 | N27: =SUM(L27:M27) -> 0 | O27: =IF(K27=0,"",N27/K27*100) -> 0
O28: =IF(K28=0,"",N28/K28*100)
F29: 821000 | H29: Izdaci za nabavku stalnih sredstava | I29: =I30+I31 -> 54000 | J29: =J30+J31 -> 0 | K29: =K30+K31 -> 54000 | L29: =L30+L31 -> 0 | M29: =M30+M31 -> 0 | N29: =N30+N31 -> 0 | O29: =IF(K29=0,"",N29/K29*100) -> 0
F30: 821200 | H30: Nabavka građevina | I30: 25000 | J30: 0 | K30: =SUM(I30:J30) -> 25000 | N30: =SUM(L30:M30) -> 0 | O30: =IF(K30=0,"",N30/K30*100) -> 0
F31: 821300 | H31: Nabavka opreme | I31: 29000 | J31: 0 | K31: =SUM(I31:J31) -> 29000 | N31: =SUM(L31:M31) -> 0 | O31: =IF(K31=0,"",N31/K31*100) -> 0
O32: =IF(K32=0,"",N32/K32*100)
H33: Ukupan broj zaposlenih: | I33: 14 (15) | J33: 0 | K33: 14 (15)
H34: Ukupno za potrošačku jedinicu: | I34: =I11+I15+I18+I29 -> 1090620 | J34: =J11+J15+J18+J29 -> 0 | K34: =K11+K15+K18+K29 -> 1090620 | L34: =L11+L15+L18+L29 -> 0 | M34: =M11+M15+M18+M29 -> 0 | N34: =N11+N15+N18+N29 -> 0 | O34: =IF(K34=0,"",N34/K34*100) -> 0
H35: Ukupno za proračunsku instituciju: | I35: =I34 -> 1090620 | J35: =J34 -> 0 | K35: =K34 -> 1090620 | L35: =L34 -> 0 | M35: =M34 -> 0 | N35: =N34 -> 0 | O35: =IF(K35=0,"",N35/K35*100) -> 0
H36: Ukupno za ministarstvo (razdjel): | I36: =I35 -> 1090620 | J36: =J35 -> 0 | K36: =K35 -> 1090620 | L36: =L35 -> 0 | M36: =M35 -> 0 | N36: =N35 -> 0 | O36: =IF(K36=0,"",N36/K36*100) -> 0
O38: =IF(K38=0,"",N38/K38*100)

Sheet 28
B1: ZAHTJEV ZA IZMJENE I DOPUNE PRORAČUNA ZA 2026. GODINU
M2: Datum zahtjeva:
B3: NAZIV RAZDJELA: | F3: ŽUPANIJSKA UPRAVA ZA INSPEKCIJSKE POSLOVE
B5: RAZDJEL: | D5: 28
B7: Ministarstvo (razdjel) | C7: Proračunska institucija | D7: Potrošačka jedinica | E7: Funkcija | F7: Ekon. kod | G7: Subanalitika | H7: OPIS | I7: PRORAČUN za 2026./ (poveć./smanj.) | L7: ZAHTJEV za Izmjene i dopune Proračuna za 2026. | O7: INDEKS
I8: iz prorač. sredstava | J8: iz ostalih izvora | K8: UKUPNO | L8: iz prorač. sredstava | M8: iz ostalih izvora | N8: UKUPNO
B9: 1 | C9: 2 | D9: 3 | E9: 4 | F9: 5 | G9: 6 | H9: 7 | I9: 8 | J9: 9 | K9: 10=8+9 | L9: 11 | M9: 12 | N9: 13=11+12 | O9: 14=13/10
B10: 28 | C10: 01 | D10: 0001 | E10: 0490 | H10: ŽUP.UPRAVA ZA INSPEKCIJSKE POSLOVE | O10: =IF(K10=0,"",N10/K10*100)
F11: 611000 | H11: Plaće i naknade troškova zaposlenih | I11: =SUM(I12:I13) -> 662830 | J11: =SUM(J12:J13) -> 0 | K11: =SUM(K12:K13) -> 662830 | L11: =SUM(L12:L13) -> 0 | M11: =SUM(M12:M13) -> 0 | N11: =SUM(N12:N13) -> 0 | O11: =IF(K11=0,"",N11/K11*100) -> 0
F12: 611100 | H12: Bruto plaće i naknade plaća | I12: =488650+12*3000+9*3000+28800 -> 580450 | J12: 0 | K12: =SUM(I12:J12) -> 580450 | N12: =SUM(L12:M12) -> 0 | O12: =IF(K12=0,"",N12/K12*100) -> 0
F13: 611200 | H13: Naknade troškova zaposlenih | I13: =70400+850+5550+850+4730 -> 82380 | J13: 0 | K13: =SUM(I13:J13) -> 82380 | N13: =SUM(L13:M13) -> 0 | O13: =IF(K13=0,"",N13/K13*100) -> 0
O14: =IF(K14=0,"",N14/K14*100)
F15: 612000 | H15: Doprinosi poslodavca i ostali doprinosi | I15: =I16 -> 29650 | J15: =J16 -> 0 | K15: =K16 -> 29650 | L15: =L16 -> 0 | M15: =M16 -> 0 | N15: =N16 -> 0 | O15: =IF(K15=0,"",N15/K15*100) -> 0
F16: 612100 | H16: Doprinosi poslodavca | I16: =24970+12*150+9*150+1530 -> 29650 | J16: 0 | K16: =SUM(I16:J16) -> 29650 | N16: =SUM(L16:M16) -> 0 | O16: =IF(K16=0,"",N16/K16*100) -> 0
O17: =IF(K17=0,"",N17/K17*100)
F18: 613000 | H18: Izdaci za materijal, sitan inv. i usluge | I18: =SUM(I19:I27) -> 33300 | J18: =SUM(J19:J27) -> 0 | K18: =SUM(K19:K27) -> 33300 | L18: =SUM(L19:L27) -> 0 | M18: =SUM(M19:M27) -> 0 | N18: =SUM(N19:N27) -> 0 | O18: =IF(K18=0,"",N18/K18*100) -> 0
F19: 613100 | H19: Putni troškovi | I19: 1200 | J19: 0 | K19: =SUM(I19:J19) -> 1200 | N19: =SUM(L19:M19) -> 0 | O19: =IF(K19=0,"",N19/K19*100) -> 0
F20: 613200 | H20: Izdaci za energiju | I20: 7000 | J20: 0 | K20: =SUM(I20:J20) -> 7000 | N20: =SUM(L20:M20) -> 0 | O20: =IF(K20=0,"",N20/K20*100) -> 0
F21: 613300 | H21: Izdaci za komunikaciju i komunalne usluge | I21: 6000 | J21: 0 | K21: =SUM(I21:J21) -> 6000 | N21: =SUM(L21:M21) -> 0 | O21: =IF(K21=0,"",N21/K21*100) -> 0
F22: 613400 | H22: Nabavka materijala i sitnog inventara | I22: 1000 | J22: 0 | K22: =SUM(I22:J22) -> 1000 | N22: =SUM(L22:M22) -> 0 | O22: =IF(K22=0,"",N22/K22*100) -> 0
F23: 613500 | H23: Izdaci za usluge prijevoza i goriva | I23: 7000 | J23: 0 | K23: =SUM(I23:J23) -> 7000 | N23: =SUM(L23:M23) -> 0 | O23: =IF(K23=0,"",N23/K23*100) -> 0
F24: 613600 | H24: Unajmljivanje imovine, opreme i nemat.imovine | I24: 0 | J24: 0 | K24: =SUM(I24:J24) -> 0 | N24: =SUM(L24:M24) -> 0 | O24: =IF(K24=0,"",N24/K24*100)
F25: 613700 | H25: Izdaci za tekuće održavanje | I25: 4000 | J25: 0 | K25: =SUM(I25:J25) -> 4000 | N25: =SUM(L25:M25) -> 0 | O25: =IF(K25=0,"",N25/K25*100) -> 0
F26: 613800 | H26: Izdaci osiguranja, bank. usluga i usluga p.p. | I26: 2100 | J26: 0 | K26: =SUM(I26:J26) -> 2100 | N26: =SUM(L26:M26) -> 0 | O26: =IF(K26=0,"",N26/K26*100) -> 0
F27: 613900 | H27: Ugovorene i druge posebne usluge | I27: 5000 | J27: 0 | K27: =SUM(I27:J27) -> 5000 | N27: =SUM(L27:M27) -> 0 | O27: =IF(K27=0,"",N27/K27*100) -> 0
O28: =IF(K28=0,"",N28/K28*100)
F29: 821000 | H29: Izdaci za nabavku stalnih sredstava | I29: =SUM(I30:I31) -> 1500 | J29: =SUM(J30:J31) -> 0 | K29: =SUM(K30:K31) -> 1500 | L29: =SUM(L30:L31) -> 0 | M29: =SUM(M30:M31) -> 0 | N29: =SUM(N30:N31) -> 0 | O29: =IF(K29=0,"",N29/K29*100) -> 0
F30: 821200 | H30: Nabavka građevina | I30: 0 | J30: 0 | K30: =SUM(I30:J30) -> 0 | N30: =SUM(L30:M30) -> 0 | O30: =IF(K30=0,"",N30/K30*100)
F31: 821300 | H31: Nabavka opreme | I31: 1500 | J31: 0 | K31: =SUM(I31:J31) -> 1500 | N31: =SUM(L31:M31) -> 0 | O31: =IF(K31=0,"",N31/K31*100) -> 0
O32: =IF(K32=0,"",N32/K32*100)
H33: Ukupan broj zaposlenih: | I33: 14 | K33: 14
H34: Ukupno za potrošačku jedinicu: | I34: =I11+I15+I18+I29 -> 727280 | J34: =J11+J15+J18+J29 -> 0 | K34: =K11+K15+K18+K29 -> 727280 | L34: =L11+L15+L18+L29 -> 0 | M34: =M11+M15+M18+M29 -> 0 | N34: =N11+N15+N18+N29 -> 0 | O34: =IF(K34=0,"",N34/K34*100) -> 0
H35: Ukupno za proračunsku instituciju: | I35: =I34 -> 727280 | J35: =J34 -> 0 | K35: =K34 -> 727280 | L35: =L34 -> 0 | M35: =M34 -> 0 | N35: =N34 -> 0 | O35: =IF(K35=0,"",N35/K35*100) -> 0
H36: Ukupno za ministarstvo (razdjel): | I36: =I35 -> 727280 | J36: =J35 -> 0 | K36: =K35 -> 727280 | L36: =L35 -> 0 | M36: =M35 -> 0 | N36: =N35 -> 0 | O36: =IF(K36=0,"",N36/K36*100) -> 0

Sheet List1
C3: II - RASHODI I IZDACI | K3: ='10'!L5+'11'!L5+'12'!L5+'13'!L5+'14'!L5+'15'!L5+'16'!L5+'17'!L5+'18'!L5+'19'!L5+'20'!L5+'21'!L5+'22'!L5+'23'!L5+'24'!L5+'26'!L5+'27'!L5+'28'!L5 -> 0
B4: Ministarstvo (razdjel) | C4: Ekon. kod | D4: Subanalitika | E4: OPIS | F4: PRORAČUN za 2024./ Povećanje smanjenje | I4: ZAHTJEV za 2025. | L4: INDEKS
F5: iz prorač. sredstava | G5: iz ostalih izvora | H5: UKUPNO | I5: iz prorač. sredstava | J5: iz ostalih izvora | K5: UKUPNO
B6: 1 | C6: 1 | E6: 2 | F6: 3 | G6: 4 | H6: 5 | I6: 6 | J6: 7 | K6: 8=6+7 | L6: 9=8/4
E7: UKUPNI IZDACI | F7: =F9+F15+F21+F25+F51+F92+F100+F104+F113 -> 74613179 | G7: =G9+G15+G21+G25+G51+G92+G100+G104+G113 -> 6397117 | H7: =H9+H15+H21+H25+H51+H92+H100+H104+H113 -> 81010296 | I7: =I9+I15+I21+I25+I51+I92+I100+I104+I113 -> 0 | J7: =J9+J15+J21+J25+J51+J92+J100+J104+J113 -> 0 | K7: =K9+K15+K21+K25+K51+K92+K100+K104+K113 -> 0 | L7: =IF(H7=0,"",K7/H7*100) -> 0
L8: =IF(F8=0,"",K8/F8*100)
C9: 600000 | E9: Rashodi - Tekuća pričuva | F9: =F10+F11+F12+F13 -> 730000 | G9: =G10+G11+G12+G13 -> 0 | H9: =H10+H11+H12+H13 -> 730000 | I9: =I10+I11+I12+I13 -> 0 | J9: =J10+J11+J12+J13 -> 0 | K9: =K10+K11+K12+K13 -> 0 | L9: =IF(H9=0,"",K9/H9*100) -> 0
C10: 600000 | E10: Tekuća pričuva Vlade | F10: ='11'!I12 -> 650000 | G10: ='11'!J12 -> 0 | H10: =SUM(F10,G10) -> 650000 | I10: ='11'!L12 -> 0 | J10: 0 | K10: =SUM(I10,J10) -> 0 | L10: =IF(H10=0,"",K10/H10*100) -> 0
C11: 600000 | E11: Tekuća pričuva predsjednika Vlade | F11: ='11'!I13 -> 40000 | G11: ='11'!J13 -> 0 | H11: =SUM(F11,G11) -> 40000 | I11: ='11'!L13 -> 0 | J11: 0 | K11: =SUM(I11,J11) -> 0 | L11: =IF(H11=0,"",K11/H11*100) -> 0
C12: 600000 | E12: Tekuća pričuva zamjenika pred. Vlade | F12: ='11'!I14 -> 20000 | G12: ='11'!J14 -> 0 | H12: =SUM(F12,G12) -> 20000 | I12: ='11'!L14 -> 0 | J12: 0 | K12: =SUM(I12,J12) -> 0 | L12: =IF(H12=0,"",K12/H12*100) -> 0
C13: 600000 | E13: Tekuća pričuva ministra financija | F13: ='16'!I12 -> 20000 | G13: ='16'!J12 -> 0 | H13: =SUM(F13,G13) -> 20000 | I13: ='16'!L12 -> 0 | J13: 0 | K13: =SUM(I13,J13) -> 0 | L13: =IF(H13=0,"",K13/H13*100) -> 0
L14: =IF(H14=0,"",K14/H14*100)
C15: 611000 | E15: Plaće i naknade troškova zaposlenih | F15: =F16+F17 -> 39949130 | G15: =G16+G17 -> 0 | H15: =H16+H17 -> 39949130 | I15: =I16+I17 -> 0 | J15: =J16+J17 -> 0 | K15: =K16+K17 -> 0 | L15: =IF(H15=0,"",K15/H15*100) -> 0
C16: 611100 | E16: Bruto plaće i naknade plaća | F16: ='10'!I12+'11'!I17+'11'!I62+'11'!I91+'11'!I120+'11'!I149+'11'!I181+'12'!I12+'13'!I12+'14'!I12+'14'!I43+'14'!I74+'14'!I103+'14'!I132+'14'!I161+'15'!I12+'16'!I15+'17'!I12+'18'!I12+'19'!I12+'20'!I12+'20'!I59+'20'!I88+'20'!I117+'20'!I146+'20'!I175+'20'!I204+'20'!I233+'20'!I262+'20'!I291+'20'!I320+'21'!I12+'22'!I12+'23'!I12+'24'!I12+'26'!I12+'27'!I12+'28'!I12 -> 33677920 | G16: ='10'!J12+'11'!J17+'11'!J62+'11'!J91+'11'!J120+'11'!J149+'11'!J181+'12'!J12+'13'!J12+'14'!J12+'14'!J43+'14'!J74+'14'!J103+'14'!J132+'14'!J161+'15'!J12+'16'!J15+'17'!J12+'18'!J12+'19'!J12+'20'!J12+'20'!J59+'20'!J88+'20'!J117+'20'!J146+'20'!J175+'20'!J204+'20'!J233+'20'!J262+'20'!J291+'20'!J320+'21'!J12+'22'!J12+'23'!J12+'24'!J12+'26'!J12+'27'!J12+'28'!J12 -> 0 | H16: ='10'!K12+'11'!K17+'11'!K62+'11'!K91+'11'!K120+'11'!K149+'11'!K181+'12'!K12+'13'!K12+'14'!K12+'14'!K43+'14'!K74+'14'!K103+'14'!K132+'14'!K161+'15'!K12+'16'!K15+'17'!K12+'18'!K12+'19'!K12+'20'!K12+'20'!K59+'20'!K88+'20'!K117+'20'!K146+'20'!K175+'20'!K204+'20'!K233+'20'!K262+'20'!K291+'20'!K320+'21'!K12+'22'!K12+'23'!K12+'24'!K12+'26'!K12+'27'!K12+'28'!K12 -> 33677920 | I16: ='10'!L12+'11'!L17+'11'!L62+'11'!L91+'11'!L120+'11'!L149+'11'!L181+'12'!L12+'13'!L12+'14'!L12+'14'!L43+'14'!L74+'14'!L103+'14'!L132+'14'!L161+'15'!L12+'16'!L15+'17'!L12+'18'!L12+'19'!L12+'20'!L12+'20'!L59+'20'!L88+'20'!L117+'20'!L146+'20'!L175+'20'!L204+'20'!L233+'20'!L262+'20'!L291+'20'!L320+'21'!L12+'22'!L12+'23'!L12+'24'!L12+'26'!L12+'27'!L12+'28'!L12 -> 0 | J16: ='10'!M12+'11'!M17+'11'!M62+'11'!M91+'11'!M120+'11'!M149+'11'!M181+'12'!M12+'13'!M12+'14'!M12+'14'!M43+'14'!M74+'14'!M103+'14'!M132+'14'!M161+'15'!M12+'16'!M15+'17'!M12+'18'!M12+'19'!M12+'20'!M12+'20'!M59+'20'!M88+'20'!M117+'20'!M146+'20'!M175+'20'!M204+'20'!M233+'20'!M262+'20'!M291+'20'!M320+'21'!M12+'22'!M12+'23'!M12+'24'!M12+'26'!M12+'27'!M12+'28'!M12 -> 0 | K16: ='10'!N12+'11'!N17+'11'!N62+'11'!N91+'11'!N120+'11'!N149+'11'!N181+'12'!N12+'13'!N12+'14'!N12+'14'!N43+'14'!N74+'14'!N103+'14'!N132+'14'!N161+'15'!N12+'16'!N15+'17'!N12+'18'!N12+'19'!N12+'20'!N12+'20'!N59+'20'!N88+'20'!N117+'20'!N146+'20'!N175+'20'!N204+'20'!N233+'20'!N262+'20'!N291+'20'!N320+'21'!N12+'22'!N12+'23'!N12+'24'!N12+'26'!N12+'27'!N12+'28'!N12 -> 0 | L16: =IF(H16=0,"",K16/H16*100) -> 0
C17: 611200 | E17: Naknade troškova zaposlenih | F17: =F18+F19 -> 6271210 | G17: =G18+G19 -> 0 | H17: =F17+G17 -> 6271210 | I17: =I18+I19 -> 0 | J17: =J18+J19 -> 0 | K17: =I17+J17 -> 0 | L17: =IF(H17=0,"",K17/H17*100) -> 0
C18: 611200 | E18: o/č Naknade troškova zaposlenih | F18: ='10'!I13+'11'!I18+'11'!I63+'11'!I92+'11'!I121+'11'!I150+'11'!I182+'12'!I13+'13'!I13+'14'!I13+'14'!I44+'14'!I75+'14'!I104+'14'!I133+'14'!I162+'15'!I13+'16'!I16+'17'!I13+'18'!I13+'19'!I13+'20'!I13+'20'!I60+'20'!I89+'20'!I118+'20'!I147+'20'!I176+'20'!I205+'20'!I234+'20'!I263+'20'!I292+'20'!I321+'21'!I13+'22'!I13+'23'!I13+'24'!I13+'26'!I13+'27'!I13+'28'!I13 -> 6271210 | G18: ='10'!J13+'11'!J18+'11'!J63+'11'!J92+'11'!J121+'11'!J150+'11'!J182+'12'!J13+'13'!J13+'14'!J13+'14'!J44+'14'!J75+'14'!J104+'14'!J133+'14'!J162+'15'!J13+'16'!J16+'17'!J13+'18'!J13+'19'!J13+'20'!J13+'20'!J60+'20'!J89+'20'!J118+'20'!J147+'20'!J176+'20'!J205+'20'!J234+'20'!J263+'20'!J292+'20'!J321+'21'!J13+'22'!J13+'23'!J13+'24'!J13+'26'!J13+'27'!J13+'28'!J13 -> 0 | H18: ='10'!K13+'11'!K18+'11'!K63+'11'!K92+'11'!K121+'11'!K150+'11'!K182+'12'!K13+'13'!K13+'14'!K13+'14'!K44+'14'!K75+'14'!K104+'14'!K133+'14'!K162+'15'!K13+'16'!K16+'17'!K13+'18'!K13+'19'!K13+'20'!K13+'20'!K60+'20'!K89+'20'!K118+'20'!K147+'20'!K176+'20'!K205+'20'!K234+'20'!K263+'20'!K292+'20'!K321+'21'!K13+'22'!K13+'23'!K13+'24'!K13+'26'!K13+'27'!K13+'28'!K13 -> 6271210 | I18: ='10'!L13+'11'!L18+'11'!L63+'11'!L92+'11'!L121+'11'!L150+'11'!L182+'12'!L13+'13'!L13+'14'!L13+'14'!L44+'14'!L75+'14'!L104+'14'!L133+'14'!L162+'15'!L13+'16'!L16+'17'!L13+'18'!L13+'19'!L13+'20'!L13+'20'!L60+'20'!L89+'20'!L118+'20'!L147+'20'!L176+'20'!L205+'20'!L234+'20'!L263+'20'!L292+'20'!L321+'21'!L13+'22'!L13+'23'!L13+'24'!L13+'26'!L13+'27'!L13+'28'!L13 -> 0 | J18: ='10'!M13+'11'!M18+'11'!M63+'11'!M92+'11'!M121+'11'!M150+'11'!M182+'12'!M13+'13'!M13+'14'!M13+'14'!M44+'14'!M75+'14'!M104+'14'!M133+'14'!M162+'15'!M13+'16'!M16+'17'!M13+'18'!M13+'19'!M13+'20'!M13+'20'!M60+'20'!M89+'20'!M118+'20'!M147+'20'!M176+'20'!M205+'20'!M234+'20'!M263+'20'!M292+'20'!M321+'21'!M13+'22'!M13+'23'!M13+'24'!M13+'26'!M13+'27'!M13+'28'!M13 -> 0 | K18: ='10'!N13+'11'!N18+'11'!N63+'11'!N92+'11'!N121+'11'!N150+'11'!N182+'12'!N13+'13'!N13+'14'!N13+'14'!N44+'14'!N75+'14'!N104+'14'!N133+'14'!N162+'15'!N13+'16'!N16+'17'!N13+'18'!N13+'19'!N13+'20'!N13+'20'!N60+'20'!N89+'20'!N118+'20'!N147+'20'!N176+'20'!N205+'20'!N234+'20'!N263+'20'!N292+'20'!N321+'21'!N13+'22'!N13+'23'!N13+'24'!N13+'26'!N13+'27'!N13+'28'!N13 -> 0 | L18: =IF(H18=0,"",K18/H18*100) -> 0
C19: 611200 | D19: BA6017 | E19: o/č Naknade troškova zaposlenih - volonteri | F19: ='11'!I19 -> 0 | G19: ='11'!J19 -> 0 | H19: ='11'!K19 -> 0 | I19: ='11'!L19 -> 0 | J19: ='11'!M19 -> 0 | K19: ='11'!N19 -> 0 | L19: =IF(H19=0,"",K19/H19*100)
L20: =IF(H20=0,"",K20/H20*100)
C21: 612000 | E21: Doprinosi poslodavca i ostali doprinosi | F21: =SUM(F22:F23) -> 2105880 | G21: =SUM(G22:G23) -> 0 | H21: =SUM(H22:H23) -> 2105880 | I21: =SUM(I22:I23) -> 0 | J21: =SUM(J22:J23) -> 0 | K21: =SUM(K22:K23) -> 0 | L21: =IF(H21=0,"",K21/H21*100) -> 0
C22: 612100 | E22: Doprinosi poslodavca | F22: ='10'!I16+'11'!I22+'11'!I66+'11'!I95+'11'!I124+'11'!I153+'11'!I185+'12'!I16+'13'!I16+'14'!I16+'14'!I47+'14'!I78+'14'!I107+'14'!I136+'14'!I165+'15'!I16+'16'!I19+'17'!I16+'18'!I16+'19'!I16+'20'!I16+'20'!I63+'20'!I92+'20'!I121+'20'!I150+'20'!I179+'20'!I208+'20'!I237+'20'!I266+'20'!I295+'20'!I324+'21'!I16+'22'!I16+'23'!I16+'24'!I16+'26'!I16+'27'!I16+'28'!I16 -> 2102380 | G22: ='10'!J16+'11'!J22+'11'!J66+'11'!J95+'11'!J124+'11'!J153+'11'!J185+'12'!J16+'13'!J16+'14'!J16+'14'!J47+'14'!J78+'14'!J107+'14'!J136+'14'!J165+'15'!J16+'16'!J19+'17'!J16+'18'!J16+'19'!J16+'20'!J16+'20'!J63+'20'!J92+'20'!J121+'20'!J150+'20'!J179+'20'!J208+'20'!J237+'20'!J266+'20'!J295+'20'!J324+'21'!J16+'22'!J16+'23'!J16+'24'!J16+'26'!J16+'27'!J16+'28'!J16 -> 0 | H22: ='10'!K16+'11'!K22+'11'!K66+'11'!K95+'11'!K124+'11'!K153+'11'!K185+'12'!K16+'13'!K16+'14'!K16+'14'!K47+'14'!K78+'14'!K107+'14'!K136+'14'!K165+'15'!K16+'16'!K19+'17'!K16+'18'!K16+'19'!K16+'20'!K16+'20'!K63+'20'!K92+'20'!K121+'20'!K150+'20'!K179+'20'!K208+'20'!K237+'20'!K266+'20'!K295+'20'!K324+'21'!K16+'22'!K16+'23'!K16+'24'!K16+'26'!K16+'27'!K16+'28'!K16 -> 2102380 | I22: ='10'!L16+'11'!L22+'11'!L66+'11'!L95+'11'!L124+'11'!L153+'11'!L185+'12'!L16+'13'!L16+'14'!L16+'14'!L47+'14'!L78+'14'!L107+'14'!L136+'14'!L165+'15'!L16+'16'!L19+'17'!L16+'18'!L16+'19'!L16+'20'!L16+'20'!L63+'20'!L92+'20'!L121+'20'!L150+'20'!L179+'20'!L208+'20'!L237+'20'!L266+'20'!L295+'20'!L324+'21'!L16+'22'!L16+'23'!L16+'24'!L16+'26'!L16+'27'!L16+'28'!L16 -> 0 | J22: ='10'!M16+'11'!M22+'11'!M66+'11'!M95+'11'!M124+'11'!M153+'11'!M185+'12'!M16+'13'!M16+'14'!M16+'14'!M47+'14'!M78+'14'!M107+'14'!M136+'14'!M165+'15'!M16+'16'!M19+'17'!M16+'18'!M16+'19'!M16+'20'!M16+'20'!M63+'20'!M92+'20'!M121+'20'!M150+'20'!M179+'20'!M208+'20'!M237+'20'!M266+'20'!M295+'20'!M324+'21'!M16+'22'!M16+'23'!M16+'24'!M16+'26'!M16+'27'!M16+'28'!M16 -> 0 | K22: ='10'!N16+'11'!N22+'11'!N66+'11'!N95+'11'!N124+'11'!N153+'11'!N185+'12'!N16+'13'!N16+'14'!N16+'14'!N47+'14'!N78+'14'!N107+'14'!N136+'14'!N165+'15'!N16+'16'!N19+'17'!N16+'18'!N16+'19'!N16+'20'!N16+'20'!N63+'20'!N92+'20'!N121+'20'!N150+'20'!N179+'20'!N208+'20'!N237+'20'!N266+'20'!N295+'20'!N324+'21'!N16+'22'!N16+'23'!N16+'24'!N16+'26'!N16+'27'!N16+'28'!N16 -> 0 | L22: =IF(H22=0,"",K22/H22*100) -> 0
C23: 612100 | D23: DA6002 | E23: Ostali doprinosi iz ranijih razdoblja | F23: ='10'!I17+'11'!I23+'11'!I67+'11'!I96+'11'!I125+'11'!I154+'12'!I17+'13'!I17+'14'!I17+'14'!I48+'14'!I79+'14'!I108+'14'!I137+'14'!I166+'15'!I17+'16'!I20+'17'!I17+'18'!I17+'19'!I17+'20'!I17+'20'!I64+'20'!I93+'20'!I122+'20'!I151+'20'!I180+'20'!I209+'20'!I238+'20'!I267+'20'!I296+'20'!I325+'21'!I17+'22'!I17+'23'!I17+'24'!I17+'26'!I17+'27'!I17+'28'!I17 -> 3500 | G23: ='10'!J17+'11'!J23+'11'!J67+'11'!J96+'11'!J125+'11'!J154+'12'!J17+'13'!J17+'14'!J17+'14'!J48+'14'!J79+'14'!J108+'14'!J137+'14'!J166+'15'!J17+'16'!J20+'17'!J17+'18'!J17+'19'!J17+'20'!J17+'20'!J64+'20'!J93+'20'!J122+'20'!J151+'20'!J180+'20'!J209+'20'!J238+'20'!J267+'20'!J296+'20'!J325+'21'!J17+'22'!J17+'23'!J17+'24'!J17+'26'!J17+'27'!J17+'28'!J17 -> 0 | H23: =F23+G23 -> 3500 | I23: ='10'!L17+'11'!L23+'11'!L67+'11'!L96+'11'!L125+'11'!L154+'12'!L17+'13'!L17+'14'!L17+'14'!L48+'14'!L79+'14'!L108+'14'!L137+'14'!L166+'15'!L17+'16'!L20+'17'!L17+'18'!L17+'19'!L17+'20'!L17+'20'!L64+'20'!L93+'20'!L122+'20'!L151+'20'!L180+'20'!L209+'20'!L238+'20'!L267+'20'!L296+'20'!L325+'21'!L17+'22'!L17+'23'!L17+'24'!L17+'26'!L17+'27'!L17+'28'!L17 -> 0 | J23: ='10'!M17+'11'!M23+'11'!M67+'11'!M96+'11'!M125+'11'!M154+'12'!M17+'13'!M17+'14'!M17+'14'!M48+'14'!M79+'14'!M108+'14'!M137+'14'!M166+'15'!M17+'16'!M20+'17'!M17+'18'!M17+'19'!M17+'20'!M17+'20'!M64+'20'!M93+'20'!M122+'20'!M151+'20'!M180+'20'!M209+'20'!M238+'20'!M267+'20'!M296+'20'!M325+'21'!M17+'22'!M17+'23'!M17+'24'!M17+'26'!M17+'27'!M17+'28'!M17 -> 0 | K23: =I23+J23 -> 0 | L23: =IF(H23=0,"",K23/H23*100) -> 0
L24: =IF(H24=0,"",K24/H24*100)
C25: 613000 | E25: Izdaci za materijal, sitan inv. i usluge | F25: =F26+F27+F28+F29+F32+F33+F34+F37+F40 -> 7373890 | G25: =G26+G27+G28+G29+G32+G33+G34+G37+G40 -> 822140 | H25: =H26+H27+H28+H29+H32+H33+H34+H37+H40 -> 8196030 | I25: =I26+I27+I28+I29+I32+I33+I34+I37+I40 -> 0 | J25: =J26+J27+J28+J29+J32+J33+J34+J37+J40 -> 0 | K25: =K26+K27+K28+K29+K32+K33+K34+K37+K40 -> 0 | L25: =IF(H25=0,"",K25/H25*100) -> 0
C26: 613100 | E26: Putni troškovi | F26: ='10'!I19+'11'!I25+'11'!I69+'11'!I98+'11'!I127+'11'!I156+'11'!I188+'12'!I19+'13'!I20+'14'!I19+'14'!I50+'14'!I81+'14'!I110+'14'!I139+'14'!I168+'15'!I19+'16'!I22+'17'!I19+'18'!I19+'19'!I19+'20'!I19+'20'!I66+'20'!I95+'20'!I124+'20'!I153+'20'!I182+'20'!I211+'20'!I240+'20'!I269+'20'!I298+'20'!I327+'21'!I19+'22'!I19+'23'!I19+'24'!I19+'26'!I19+'27'!I19+'28'!I19 -> 196550 | G26: ='10'!J19+'11'!J25+'11'!J69+'11'!J98+'11'!J127+'11'!J156+'11'!J188+'12'!J19+'13'!J20+'14'!J19+'14'!J50+'14'!J81+'14'!J110+'14'!J139+'14'!J168+'15'!J19+'16'!J22+'17'!J19+'18'!J19+'19'!J19+'20'!J19+'20'!J66+'20'!J95+'20'!J124+'20'!J153+'20'!J182+'20'!J211+'20'!J240+'20'!J269+'20'!J298+'20'!J327+'21'!J19+'22'!J19+'23'!J19+'24'!J19+'26'!J19+'27'!J19+'28'!J19 -> 5760 | H26: ='10'!K19+'11'!K25+'11'!K69+'11'!K98+'11'!K127+'11'!K156+'11'!K188+'12'!K19+'13'!K20+'14'!K19+'14'!K50+'14'!K81+'14'!K110+'14'!K139+'14'!K168+'15'!K19+'16'!K22+'17'!K19+'18'!K19+'19'!K19+'20'!K19+'20'!K66+'20'!K95+'20'!K124+'20'!K153+'20'!K182+'20'!K211+'20'!K240+'20'!K269+'20'!K298+'20'!K327+'21'!K19+'22'!K19+'23'!K19+'24'!K19+'26'!K19+'27'!K19+'28'!K19 -> 202310 | I26: ='10'!L19+'11'!L25+'11'!L69+'11'!L98+'11'!L127+'11'!L156+'11'!L188+'12'!L19+'13'!L20+'14'!L19+'14'!L50+'14'!L81+'14'!L110+'14'!L139+'14'!L168+'15'!L19+'16'!L22+'17'!L19+'18'!L19+'19'!L19+'20'!L19+'20'!L66+'20'!L95+'20'!L124+'20'!L153+'20'!L182+'20'!L211+'20'!L240+'20'!L269+'20'!L298+'20'!L327+'21'!L19+'22'!L19+'23'!L19+'24'!L19+'26'!L19+'27'!L19+'28'!L19 -> 0 | J26: ='10'!M19+'11'!M25+'11'!M69+'11'!M98+'11'!M127+'11'!M156+'11'!M188+'12'!M19+'13'!M20+'14'!M19+'14'!M50+'14'!M81+'14'!M110+'14'!M139+'14'!M168+'15'!M19+'16'!M22+'17'!M19+'18'!M19+'19'!M19+'20'!M19+'20'!M66+'20'!M95+'20'!M124+'20'!M153+'20'!M182+'20'!M211+'20'!M240+'20'!M269+'20'!M298+'20'!M327+'21'!M19+'22'!M19+'23'!M19+'24'!M19+'26'!M19+'27'!M19+'28'!M19 -> 0 | K26: ='10'!N19+'11'!N25+'11'!N69+'11'!N98+'11'!N127+'11'!N156+'11'!N188+'12'!N19+'13'!N20+'14'!N19+'14'!N50+'14'!N81+'14'!N110+'14'!N139+'14'!N168+'15'!N19+'16'!N22+'17'!N19+'18'!N19+'19'!N19+'20'!N19+'20'!N66+'20'!N95+'20'!N124+'20'!N153+'20'!N182+'20'!N211+'20'!N240+'20'!N269+'20'!N298+'20'!N327+'21'!N19+'22'!N19+'23'!N19+'24'!N19+'26'!N19+'27'!N19+'28'!N19 -> 0 | L26: =IF(H26=0,"",K26/H26*100) -> 0
C27: 613200 | E27: Izdaci za energiju | F27: ='10'!I20+'11'!I26+'11'!I70+'11'!I99+'11'!I128+'11'!I157+'11'!I189+'12'!I20+'13'!I21+'14'!I20+'14'!I51+'14'!I82+'14'!I111+'14'!I140+'14'!I169+'15'!I20+'16'!I23+'17'!I20+'18'!I20+'19'!I20+'20'!I20+'20'!I67+'20'!I96+'20'!I125+'20'!I154+'20'!I183+'20'!I212+'20'!I241+'20'!I270+'20'!I299+'20'!I328+'21'!I20+'22'!I20+'23'!I20+'24'!I20+'26'!I20+'27'!I20+'28'!I20 -> 891400 | G27: ='10'!J20+'11'!J26+'11'!J70+'11'!J99+'11'!J128+'11'!J157+'11'!J189+'12'!J20+'13'!J21+'14'!J20+'14'!J51+'14'!J82+'14'!J111+'14'!J140+'14'!J169+'15'!J20+'16'!J23+'17'!J20+'18'!J20+'19'!J20+'20'!J20+'20'!J67+'20'!J96+'20'!J125+'20'!J154+'20'!J183+'20'!J212+'20'!J241+'20'!J270+'20'!J299+'20'!J328+'21'!J20+'22'!J20+'23'!J20+'24'!J20+'26'!J20+'27'!J20+'28'!J20 -> 0 | H27: ='10'!K20+'11'!K26+'11'!K70+'11'!K99+'11'!K128+'11'!K157+'11'!K189+'12'!K20+'13'!K21+'14'!K20+'14'!K51+'14'!K82+'14'!K111+'14'!K140+'14'!K169+'15'!K20+'16'!K23+'17'!K20+'18'!K20+'19'!K20+'20'!K20+'20'!K67+'20'!K96+'20'!K125+'20'!K154+'20'!K183+'20'!K212+'20'!K241+'20'!K270+'20'!K299+'20'!K328+'21'!K20+'22'!K20+'23'!K20+'24'!K20+'26'!K20+'27'!K20+'28'!K20 -> 891400 | I27: ='10'!L20+'11'!L26+'11'!L70+'11'!L99+'11'!L128+'11'!L157+'11'!L189+'12'!L20+'13'!L21+'14'!L20+'14'!L51+'14'!L82+'14'!L111+'14'!L140+'14'!L169+'15'!L20+'16'!L23+'17'!L20+'18'!L20+'19'!L20+'20'!L20+'20'!L67+'20'!L96+'20'!L125+'20'!L154+'20'!L183+'20'!L212+'20'!L241+'20'!L270+'20'!L299+'20'!L328+'21'!L20+'22'!L20+'23'!L20+'24'!L20+'26'!L20+'27'!L20+'28'!L20 -> 0 | J27: ='10'!M20+'11'!M26+'11'!M70+'11'!M99+'11'!M128+'11'!M157+'11'!M189+'12'!M20+'13'!M21+'14'!M20+'14'!M51+'14'!M82+'14'!M111+'14'!M140+'14'!M169+'15'!M20+'16'!M23+'17'!M20+'18'!M20+'19'!M20+'20'!M20+'20'!M67+'20'!M96+'20'!M125+'20'!M154+'20'!M183+'20'!M212+'20'!M241+'20'!M270+'20'!M299+'20'!M328+'21'!M20+'22'!M20+'23'!M20+'24'!M20+'26'!M20+'27'!M20+'28'!M20 -> 0 | K27: ='10'!N20+'11'!N26+'11'!N70+'11'!N99+'11'!N128+'11'!N157+'11'!N189+'12'!N20+'13'!N21+'14'!N20+'14'!N51+'14'!N82+'14'!N111+'14'!N140+'14'!N169+'15'!N20+'16'!N23+'17'!N20+'18'!N20+'19'!N20+'20'!N20+'20'!N67+'20'!N96+'20'!N125+'20'!N154+'20'!N183+'20'!N212+'20'!N241+'20'!N270+'20'!N299+'20'!N328+'21'!N20+'22'!N20+'23'!N20+'24'!N20+'26'!N20+'27'!N20+'28'!N20 -> 0 | L27: =IF(H27=0,"",K27/H27*100) -> 0
C28: 613300 | E28: Izdaci za komunikaciju i komunalne usluge | F28: ='10'!I21+'11'!I27+'11'!I71+'11'!I100+'11'!I129+'11'!I158+'11'!I190+'12'!I21+'13'!I22+'14'!I21+'14'!I52+'14'!I83+'14'!I112+'14'!I141+'14'!I170+'15'!I21+'16'!I24+'17'!I21+'18'!I21+'19'!I21+'20'!I21+'20'!I68+'20'!I97+'20'!I126+'20'!I155+'20'!I184+'20'!I213+'20'!I242+'20'!I271+'20'!I300+'20'!I329+'21'!I21+'22'!I21+'23'!I21+'24'!I21+'26'!I21+'27'!I21+'28'!I21 -> 448400 | G28: ='10'!J21+'11'!J27+'11'!J71+'11'!J100+'11'!J129+'11'!J158+'11'!J190+'12'!J21+'13'!J22+'14'!J21+'14'!J52+'14'!J83+'14'!J112+'14'!J141+'14'!J170+'15'!J21+'16'!J24+'17'!J21+'18'!J21+'19'!J21+'20'!J21+'20'!J68+'20'!J97+'20'!J126+'20'!J155+'20'!J184+'20'!J213+'20'!J242+'20'!J271+'20'!J300+'20'!J329+'21'!J21+'22'!J21+'23'!J21+'24'!J21+'26'!J21+'27'!J21+'28'!J21 -> 0 | H28: ='10'!K21+'11'!K27+'11'!K71+'11'!K100+'11'!K129+'11'!K158+'11'!K190+'12'!K21+'13'!K22+'14'!K21+'14'!K52+'14'!K83+'14'!K112+'14'!K141+'14'!K170+'15'!K21+'16'!K24+'17'!K21+'18'!K21+'19'!K21+'20'!K21+'20'!K68+'20'!K97+'20'!K126+'20'!K155+'20'!K184+'20'!K213+'20'!K242+'20'!K271+'20'!K300+'20'!K329+'21'!K21+'22'!K21+'23'!K21+'24'!K21+'26'!K21+'27'!K21+'28'!K21 -> 448400 | I28: ='10'!L21+'11'!L27+'11'!L71+'11'!L100+'11'!L129+'11'!L158+'11'!L190+'12'!L21+'13'!L22+'14'!L21+'14'!L52+'14'!L83+'14'!L112+'14'!L141+'14'!L170+'15'!L21+'16'!L24+'17'!L21+'18'!L21+'19'!L21+'20'!L21+'20'!L68+'20'!L97+'20'!L126+'20'!L155+'20'!L184+'20'!L213+'20'!L242+'20'!L271+'20'!L300+'20'!L329+'21'!L21+'22'!L21+'23'!L21+'24'!L21+'26'!L21+'27'!L21+'28'!L21 -> 0 | J28: ='10'!M21+'11'!M27+'11'!M71+'11'!M100+'11'!M129+'11'!M158+'11'!M190+'12'!M21+'13'!M22+'14'!M21+'14'!M52+'14'!M83+'14'!M112+'14'!M141+'14'!M170+'15'!M21+'16'!M24+'17'!M21+'18'!M21+'19'!M21+'20'!M21+'20'!M68+'20'!M97+'20'!M126+'20'!M155+'20'!M184+'20'!M213+'20'!M242+'20'!M271+'20'!M300+'20'!M329+'21'!M21+'22'!M21+'23'!M21+'24'!M21+'26'!M21+'27'!M21+'28'!M21 -> 0 | K28: ='10'!N21+'11'!N27+'11'!N71+'11'!N100+'11'!N129+'11'!N158+'11'!N190+'12'!N21+'13'!N22+'14'!N21+'14'!N52+'14'!N83+'14'!N112+'14'!N141+'14'!N170+'15'!N21+'16'!N24+'17'!N21+'18'!N21+'19'!N21+'20'!N21+'20'!N68+'20'!N97+'20'!N126+'20'!N155+'20'!N184+'20'!N213+'20'!N242+'20'!N271+'20'!N300+'20'!N329+'21'!N21+'22'!N21+'23'!N21+'24'!N21+'26'!N21+'27'!N21+'28'!N21 -> 0 | L28: =IF(H28=0,"",K28/H28*100) -> 0
C29: 613400 | E29: Nabavka materijala i sitnog inventara | F29: =F30+F31 -> 2118700 | G29: =G30+G31 -> 7900 | H29: =F29+G29 -> 2126600 | I29: =I30+I31 -> 0 | J29: =J30+J31 -> 0 | K29: =I29+J29 -> 0 | L29: =IF(H29=0,"",K29/H29*100) -> 0
C30: 613400 | E30: o/č Nabavka materijala i sitnog inventara | F30: ='10'!I22+'11'!I28+'11'!I72+'11'!I101+'11'!I130+'11'!I159+'11'!I191+'12'!I22+'13'!I23+'14'!I171+'14'!I142+'14'!I113+'14'!I84+'14'!I53+'14'!I22+'15'!I22+'16'!I25+'17'!I22+'18'!I22+'19'!I22+'20'!I22+'20'!I69+'20'!I98+'20'!I127+'20'!I156+'20'!I185+'20'!I214+'20'!I243+'20'!I272+'20'!I301+'20'!I330+'21'!I22+'22'!I22+'23'!I22+'24'!I22+'26'!I22+'27'!I22+'28'!I22 -> 1025350 | G30: ='10'!J22+'11'!J28+'11'!J72+'11'!J101+'11'!J130+'11'!J159+'11'!J191+'12'!J22+'13'!J23+'14'!J171+'14'!J142+'14'!J113+'14'!J84+'14'!J53+'14'!J22+'15'!J22+'16'!J25+'17'!J22+'18'!J22+'19'!J22+'20'!J22+'20'!J69+'20'!J98+'20'!J127+'20'!J156+'20'!J185+'20'!J214+'20'!J243+'20'!J272+'20'!J301+'20'!J330+'21'!J22+'22'!J22+'23'!J22+'24'!J22+'26'!J22+'27'!J22+'28'!J22 -> 7900 | H30: ='10'!K22+'11'!K28+'11'!K72+'11'!K101+'11'!K130+'11'!K159+'11'!K191+'12'!K22+'13'!K23+'14'!K171+'14'!K142+'14'!K113+'14'!K84+'14'!K53+'14'!K22+'15'!K22+'16'!K25+'17'!K22+'18'!K22+'19'!K22+'20'!K22+'20'!K69+'20'!K98+'20'!K127+'20'!K156+'20'!K185+'20'!K214+'20'!K243+'20'!K272+'20'!K301+'20'!K330+'21'!K22+'22'!K22+'23'!K22+'24'!K22+'26'!K22+'27'!K22+'28'!K22 -> 1033250 | I30: ='10'!L22+'11'!L28+'11'!L72+'11'!L101+'11'!L130+'11'!L159+'11'!L191+'12'!L22+'13'!L23+'14'!L171+'14'!L142+'14'!L113+'14'!L84+'14'!L53+'14'!L22+'15'!L22+'16'!L25+'17'!L22+'18'!L22+'19'!L22+'20'!L22+'20'!L69+'20'!L98+'20'!L127+'20'!L156+'20'!L185+'20'!L214+'20'!L243+'20'!L272+'20'!L301+'20'!L330+'21'!L22+'22'!L22+'23'!L22+'24'!L22+'26'!L22+'27'!L22+'28'!L22 -> 0 | J30: ='10'!M22+'11'!M28+'11'!M72+'11'!M101+'11'!M130+'11'!M159+'11'!M191+'12'!M22+'13'!M23+'14'!M171+'14'!M142+'14'!M113+'14'!M84+'14'!M53+'14'!M22+'15'!M22+'16'!M25+'17'!M22+'18'!M22+'19'!M22+'20'!M22+'20'!M69+'20'!M98+'20'!M127+'20'!M156+'20'!M185+'20'!M214+'20'!M243+'20'!M272+'20'!M301+'20'!M330+'21'!M22+'22'!M22+'23'!M22+'24'!M22+'26'!M22+'27'!M22+'28'!M22 -> 0 | K30: ='10'!N22+'11'!N28+'11'!N72+'11'!N101+'11'!N130+'11'!N159+'11'!N191+'12'!N22+'13'!N23+'14'!N171+'14'!N142+'14'!N113+'14'!N84+'14'!N53+'14'!N22+'15'!N22+'16'!N25+'17'!N22+'18'!N22+'19'!N22+'20'!N22+'20'!N69+'20'!N98+'20'!N127+'20'!N156+'20'!N185+'20'!N214+'20'!N243+'20'!N272+'20'!N301+'20'!N330+'21'!N22+'22'!N22+'23'!N22+'24'!N22+'26'!N22+'27'!N22+'28'!N22 -> 0 | L30: =IF(H30=0,"",K30/H30*100) -> 0
C31: 613400 | D31: KA6014 | E31: o/č Nabavka mat.i sitn.invent.-obroci za učenike | F31: ='20'!I23 -> 1093350 | G31: ='20'!J23 -> 0 | H31: =F31+G31 -> 1093350 | I31: ='20'!L23 -> 0 | J31: ='20'!M23 -> 0 | K31: =I31+J31 -> 0 | L31: =IF(H31=0,"",K31/H31*100) -> 0
C32: 613500 | E32: Izdaci za usluge prijevoza i goriva | F32: ='10'!I23+'11'!I29+'11'!I73+'11'!I102+'11'!I131+'11'!I160+'11'!I192+'12'!I23+'13'!I24+'14'!I23+'14'!I85+'14'!I114+'14'!I143+'14'!I172+'14'!I54+'15'!I23+'16'!I26+'17'!I23+'18'!I23+'19'!I23+'20'!I24+'20'!I70+'20'!I99+'20'!I128+'20'!I157+'20'!I186+'20'!I215+'20'!I244+'20'!I273+'20'!I302+'20'!I331+'21'!I23+'22'!I23+'23'!I23+'24'!I23+'26'!I23+'27'!I23+'28'!I23 -> 304000 | G32: ='10'!J23+'11'!J29+'11'!J73+'11'!J102+'11'!J131+'11'!J160+'11'!J192+'12'!J23+'13'!J24+'14'!J23+'14'!J85+'14'!J114+'14'!J143+'14'!J172+'14'!J54+'15'!J23+'16'!J26+'17'!J23+'18'!J23+'19'!J23+'20'!J24+'20'!J70+'20'!J99+'20'!J128+'20'!J157+'20'!J186+'20'!J215+'20'!J244+'20'!J273+'20'!J302+'20'!J331+'21'!J23+'22'!J23+'23'!J23+'24'!J23+'26'!J23+'27'!J23+'28'!J23 -> 0 | H32: ='10'!K23+'11'!K29+'11'!K73+'11'!K102+'11'!K131+'11'!K160+'11'!K192+'12'!K23+'13'!K24+'14'!K23+'14'!K85+'14'!K114+'14'!K143+'14'!K172+'14'!K54+'15'!K23+'16'!K26+'17'!K23+'18'!K23+'19'!K23+'20'!K24+'20'!K70+'20'!K99+'20'!K128+'20'!K157+'20'!K186+'20'!K215+'20'!K244+'20'!K273+'20'!K302+'20'!K331+'21'!K23+'22'!K23+'23'!K23+'24'!K23+'26'!K23+'27'!K23+'28'!K23 -> 304000 | I32: ='10'!L23+'11'!L29+'11'!L73+'11'!L102+'11'!L131+'11'!L160+'11'!L192+'12'!L23+'13'!L24+'14'!L23+'14'!L85+'14'!L114+'14'!L143+'14'!L172+'14'!L54+'15'!L23+'16'!L26+'17'!L23+'18'!L23+'19'!L23+'20'!L24+'20'!L70+'20'!L99+'20'!L128+'20'!L157+'20'!L186+'20'!L215+'20'!L244+'20'!L273+'20'!L302+'20'!L331+'21'!L23+'22'!L23+'23'!L23+'24'!L23+'26'!L23+'27'!L23+'28'!L23 -> 0 | J32: ='10'!M23+'11'!M29+'11'!M73+'11'!M102+'11'!M131+'11'!M160+'11'!M192+'12'!M23+'13'!M24+'14'!M23+'14'!M85+'14'!M114+'14'!M143+'14'!M172+'14'!M54+'15'!M23+'16'!M26+'17'!M23+'18'!M23+'19'!M23+'20'!M24+'20'!M70+'20'!M99+'20'!M128+'20'!M157+'20'!M186+'20'!M215+'20'!M244+'20'!M273+'20'!M302+'20'!M331+'21'!M23+'22'!M23+'23'!M23+'24'!M23+'26'!M23+'27'!M23+'28'!M23 -> 0 | K32: ='10'!N23+'11'!N29+'11'!N73+'11'!N102+'11'!N131+'11'!N160+'11'!N192+'12'!N23+'13'!N24+'14'!N23+'14'!N85+'14'!N114+'14'!N143+'14'!N172+'14'!N54+'15'!N23+'16'!N26+'17'!N23+'18'!N23+'19'!N23+'20'!N24+'20'!N70+'20'!N99+'20'!N128+'20'!N157+'20'!N186+'20'!N215+'20'!N244+'20'!N273+'20'!N302+'20'!N331+'21'!N23+'22'!N23+'23'!N23+'24'!N23+'26'!N23+'27'!N23+'28'!N23 -> 0 | L32: =IF(H32=0,"",K32/H32*100) -> 0
C33: 613600 | E33: Unajmljivanje imovine, opreme i nemat.imovine | F33: ='10'!I24+'11'!I30+'11'!I74+'11'!I103+'11'!I132+'11'!I161+'11'!I193+'12'!I24+'13'!I25+'14'!I24+'15'!I24+'16'!I27+'17'!I24+'18'!I24+'19'!I24+'20'!I25+'20'!I71+'20'!I100+'20'!I129+'20'!I158+'20'!I187+'20'!I216+'20'!I245+'20'!I274+'20'!I303+'20'!I332+'21'!I24+'22'!I24+'23'!I24+'24'!I24+'26'!I24+'27'!I24+'28'!I24 -> 14000 | G33: ='10'!J24+'11'!J30+'11'!J74+'11'!J103+'11'!J132+'11'!J161+'11'!J193+'12'!J24+'13'!J25+'14'!J24+'15'!J24+'16'!J27+'17'!J24+'18'!J24+'19'!J24+'20'!J25+'20'!J71+'20'!J100+'20'!J129+'20'!J158+'20'!J187+'20'!J216+'20'!J245+'20'!J274+'20'!J303+'20'!J332+'21'!J24+'22'!J24+'23'!J24+'24'!J24+'26'!J24+'27'!J24+'28'!J24 -> 0 | H33: ='10'!K24+'11'!K30+'11'!K74+'11'!K103+'11'!K132+'11'!K161+'11'!K193+'12'!K24+'13'!K25+'14'!K24+'15'!K24+'16'!K27+'17'!K24+'18'!K24+'19'!K24+'20'!K25+'20'!K71+'20'!K100+'20'!K129+'20'!K158+'20'!K187+'20'!K216+'20'!K245+'20'!K274+'20'!K303+'20'!K332+'21'!K24+'22'!K24+'23'!K24+'24'!K24+'26'!K24+'27'!K24+'28'!K24 -> 14000 | I33: ='10'!L24+'11'!L30+'11'!L74+'11'!L103+'11'!L132+'11'!L161+'11'!L193+'12'!L24+'13'!L25+'14'!L24+'15'!L24+'16'!L27+'17'!L24+'18'!L24+'19'!L24+'20'!L25+'20'!L71+'20'!L100+'20'!L129+'20'!L158+'20'!L187+'20'!L216+'20'!L245+'20'!L274+'20'!L303+'20'!L332+'21'!L24+'22'!L24+'23'!L24+'24'!L24+'26'!L24+'27'!L24+'28'!L24 -> 0 | J33: ='10'!M24+'11'!M30+'11'!M74+'11'!M103+'11'!M132+'11'!M161+'11'!M193+'12'!M24+'13'!M25+'14'!M24+'15'!M24+'16'!M27+'17'!M24+'18'!M24+'19'!M24+'20'!M25+'20'!M71+'20'!M100+'20'!M129+'20'!M158+'20'!M187+'20'!M216+'20'!M245+'20'!M274+'20'!M303+'20'!M332+'21'!M24+'22'!M24+'23'!M24+'24'!M24+'26'!M24+'27'!M24+'28'!M24 -> 0 | K33: ='10'!N24+'11'!N30+'11'!N74+'11'!N103+'11'!N132+'11'!N161+'11'!N193+'12'!N24+'13'!N25+'14'!N24+'15'!N24+'16'!N27+'17'!N24+'18'!N24+'19'!N24+'20'!N25+'20'!N71+'20'!N100+'20'!N129+'20'!N158+'20'!N187+'20'!N216+'20'!N245+'20'!N274+'20'!N303+'20'!N332+'21'!N24+'22'!N24+'23'!N24+'24'!N24+'26'!N24+'27'!N24+'28'!N24 -> 0 | L33: =IF(H33=0,"",K33/H33*100) -> 0
C34: 613700 | E34: Izdaci za tekuće održavanje | F34: =F35+F36 -> 473950 | G34: =G35+G36 -> 720000 | H34: =F34+G34 -> 1193950 | I34: =I35+I36 -> 0 | J34: =J35+J36 -> 0 | K34: =I34+J34 -> 0 | L34: =IF(H34=0,"",K34/H34*100) -> 0
C35: 613700 | E35: o/č Izdaci za tekuće održavanje | F35: ='10'!I25+'11'!I31+'11'!I75+'11'!I104+'11'!I133+'11'!I162+'11'!I194+'12'!I25+'13'!I26+'14'!I25+'14'!I56+'14'!I87+'14'!I116+'14'!I145+'14'!I174+'15'!I25+'16'!I28+'17'!I25+'18'!I25+'19'!I25+'20'!I26+'20'!I72+'20'!I101+'20'!I130+'20'!I159+'20'!I188+'20'!I217+'20'!I246+'20'!I275+'20'!I304+'20'!I333+'21'!I25+'22'!I25+'23'!I25+'24'!I25+'26'!I25+'27'!I25+'28'!I25 -> 473950 | G35: ='10'!J25+'11'!J31+'11'!J75+'11'!J104+'11'!J133+'11'!J162+'11'!J194+'12'!J25+'13'!J26+'14'!J25+'14'!J56+'14'!J87+'14'!J116+'14'!J145+'14'!J174+'15'!J25+'16'!J28+'17'!J25+'18'!J25+'19'!J25+'20'!J26+'20'!J72+'20'!J101+'20'!J130+'20'!J159+'20'!J188+'20'!J217+'20'!J246+'20'!J275+'20'!J304+'20'!J333+'21'!J25+'22'!J25+'23'!J25+'24'!J25+'26'!J25+'27'!J25+'28'!J25 -> 0 | H35: ='10'!K25+'11'!K31+'11'!K75+'11'!K104+'11'!K133+'11'!K162+'11'!K194+'12'!K25+'13'!K26+'14'!K25+'14'!K56+'14'!K87+'14'!K116+'14'!K145+'14'!K174+'15'!K25+'16'!K28+'17'!K25+'18'!K25+'19'!K25+'20'!K26+'20'!K72+'20'!K101+'20'!K130+'20'!K159+'20'!K188+'20'!K217+'20'!K246+'20'!K275+'20'!K304+'20'!K333+'21'!K25+'22'!K25+'23'!K25+'24'!K25+'26'!K25+'27'!K25+'28'!K25 -> 473950 | I35: ='10'!L25+'11'!L31+'11'!L75+'11'!L104+'11'!L133+'11'!L162+'11'!L194+'12'!L25+'13'!L26+'14'!L25+'14'!L56+'14'!L87+'14'!L116+'14'!L145+'14'!L174+'15'!L25+'16'!L28+'17'!L25+'18'!L25+'19'!L25+'20'!L26+'20'!L72+'20'!L101+'20'!L130+'20'!L159+'20'!L188+'20'!L217+'20'!L246+'20'!L275+'20'!L304+'20'!L333+'21'!L25+'22'!L25+'23'!L25+'24'!L25+'26'!L25+'27'!L25+'28'!L25 -> 0 | J35: ='10'!M25+'11'!M31+'11'!M75+'11'!M104+'11'!M133+'11'!M162+'11'!M194+'12'!M25+'13'!M26+'14'!M25+'14'!M56+'14'!M87+'14'!M116+'14'!M145+'14'!M174+'15'!M25+'16'!M28+'17'!M25+'18'!M25+'19'!M25+'20'!M26+'20'!M72+'20'!M101+'20'!M130+'20'!M159+'20'!M188+'20'!M217+'20'!M246+'20'!M275+'20'!M304+'20'!M333+'21'!M25+'22'!M25+'23'!M25+'24'!M25+'26'!M25+'27'!M25+'28'!M25 -> 0 | K35: ='10'!N25+'11'!N31+'11'!N75+'11'!N104+'11'!N133+'11'!N162+'11'!N194+'12'!N25+'13'!N26+'14'!N25+'14'!N56+'14'!N87+'14'!N116+'14'!N145+'14'!N174+'15'!N25+'16'!N28+'17'!N25+'18'!N25+'19'!N25+'20'!N26+'20'!N72+'20'!N101+'20'!N130+'20'!N159+'20'!N188+'20'!N217+'20'!N246+'20'!N275+'20'!N304+'20'!N333+'21'!N25+'22'!N25+'23'!N25+'24'!N25+'26'!N25+'27'!N25+'28'!N25 -> 0 | L35: =IF(H35=0,"",K35/H35*100) -> 0
C36: 613700 | D36: IA6004 | E36: o/č Tekuće održavanje cesta | F36: ='18'!I26 -> 0 | G36: ='18'!J26 -> 720000 | H36: =F36+G36 -> 720000 | I36: ='18'!L26 -> 0 | J36: ='18'!M26 -> 0 | K36: =I36+J36 -> 0 | L36: =IF(H36=0,"",K36/H36*100) -> 0
C37: 613800 | E37: Izdaci osiguranja, bank. usluga i usluga p.p. | F37: =F38+F39 -> 119920 | G37: =G38+G39 -> 0 | H37: =F37+G37 -> 119920 | I37: =I38+I39 -> 0 | J37: =J38+J39 -> 0 | K37: =I37+J37 -> 0 | L37: =IF(H37=0,"",K37/H37*100) -> 0
C38: 613800 | E38: o/č Izdaci osiguranja, bank. usluga i usluga p.p. | F38: ='10'!I26+'11'!I32+'11'!I76+'11'!I105+'11'!I134+'11'!I163+'11'!I195+'12'!I26+'13'!I27+'14'!I57+'14'!I26+'14'!I88+'14'!I117+'14'!I146+'14'!I175+'15'!I26+'16'!I29+'17'!I26+'18'!I27+'19'!I26+'20'!I27+'20'!I73+'20'!I102+'20'!I131+'20'!I160+'20'!I189+'20'!I218+'20'!I247+'20'!I276+'20'!I305+'20'!I334+'21'!I26+'22'!I26+'23'!I26+'24'!I26+'26'!I26+'27'!I26+'28'!I26 -> 119920 | G38: ='10'!J26+'11'!J32+'11'!J76+'11'!J105+'11'!J134+'11'!J163+'11'!J195+'12'!J26+'13'!J27+'14'!J57+'14'!J26+'14'!J88+'14'!J117+'14'!J146+'14'!J175+'15'!J26+'16'!J29+'17'!J26+'18'!J27+'19'!J26+'20'!J27+'20'!J73+'20'!J102+'20'!J131+'20'!J160+'20'!J189+'20'!J218+'20'!J247+'20'!J276+'20'!J305+'20'!J334+'21'!J26+'22'!J26+'23'!J26+'24'!J26+'26'!J26+'27'!J26+'28'!J26 -> 0 | H38: ='10'!K26+'11'!K32+'11'!K76+'11'!K105+'11'!K134+'11'!K163+'11'!K195+'12'!K26+'13'!K27+'14'!K57+'14'!K26+'14'!K88+'14'!K117+'14'!K146+'14'!K175+'15'!K26+'16'!K29+'17'!K26+'18'!K27+'19'!K26+'20'!K27+'20'!K73+'20'!K102+'20'!K131+'20'!K160+'20'!K189+'20'!K218+'20'!K247+'20'!K276+'20'!K305+'20'!K334+'21'!K26+'22'!K26+'23'!K26+'24'!K26+'26'!K26+'27'!K26+'28'!K26 -> 119920 | I38: ='10'!L26+'11'!L32+'11'!L76+'11'!L105+'11'!L134+'11'!L163+'11'!L195+'12'!L26+'13'!L27+'14'!L57+'14'!L26+'14'!L88+'14'!L117+'14'!L146+'14'!L175+'15'!L26+'16'!L29+'17'!L26+'18'!L27+'19'!L26+'20'!L27+'20'!L73+'20'!L102+'20'!L131+'20'!L160+'20'!L189+'20'!L218+'20'!L247+'20'!L276+'20'!L305+'20'!L334+'21'!L26+'22'!L26+'23'!L26+'24'!L26+'26'!L26+'27'!L26+'28'!L26 -> 0 | J38: ='10'!M26+'11'!M32+'11'!M76+'11'!M105+'11'!M134+'11'!M163+'11'!M195+'12'!M26+'13'!M27+'14'!M57+'14'!M26+'14'!M88+'14'!M117+'14'!M146+'14'!M175+'15'!M26+'16'!M29+'17'!M26+'18'!M27+'19'!M26+'20'!M27+'20'!M73+'20'!M102+'20'!M131+'20'!M160+'20'!M189+'20'!M218+'20'!M247+'20'!M276+'20'!M305+'20'!M334+'21'!M26+'22'!M26+'23'!M26+'24'!M26+'26'!M26+'27'!M26+'28'!M26 -> 0 | K38: ='10'!N26+'11'!N32+'11'!N76+'11'!N105+'11'!N134+'11'!N163+'11'!N195+'12'!N26+'13'!N27+'14'!N57+'14'!N26+'14'!N88+'14'!N117+'14'!N146+'14'!N175+'15'!N26+'16'!N29+'17'!N26+'18'!N27+'19'!N26+'20'!N27+'20'!N73+'20'!N102+'20'!N131+'20'!N160+'20'!N189+'20'!N218+'20'!N247+'20'!N276+'20'!N305+'20'!N334+'21'!N26+'22'!N26+'23'!N26+'24'!N26+'26'!N26+'27'!N26+'28'!N26 -> 0 | L38: =IF(H38=0,"",K38/H38*100) -> 0
C39: 613800 | E39: o/č Izdaci za negativne tečajne razlike | F39: 0 | G39: 0 | H39: =F39+G39 -> 0 | I39: 0 | J39: 0 | K39: =I39+J39 -> 0 | L39: =IF(H39=0,"",K39/H39*100)
C40: 613900 | E40: Ugovorene i druge posebne usluge | F40: =SUM(F41:F49) -> 2806970 | G40: =SUM(G41:G49) -> 88480 | H40: =SUM(H41:H49) -> 2895450 | I40: =SUM(I41:I49) -> 0 | J40: =SUM(J41:J49) -> 0 | K40: =SUM(K41:K49) -> 0 | L40: =IF(H40=0,"",K40/H40*100) -> 0
C41: 613900 | E41: o/č Ugovorene i druge posebne usluge | F41: ='10'!I27+'11'!I33+'11'!I77+'11'!I106+'11'!I135+'11'!I164+'11'!I196+'12'!I27+'13'!I28+'14'!I27+'14'!I58+'14'!I89+'14'!I118+'14'!I147+'14'!I176+'15'!I27+'16'!I30+'17'!I27+'18'!I28+'19'!I27+'20'!I29+'20'!I74+'20'!I103+'20'!I132+'20'!I161+'20'!I190+'20'!I219+'20'!I248+'20'!I277+'20'!I306+'20'!I335+'21'!I27+'22'!I27+'23'!I27+'24'!I27+'26'!I27+'27'!I27+'28'!I27 -> 2212470 | G41: ='10'!J27+'11'!J33+'11'!J77+'11'!J106+'11'!J135+'11'!J164+'11'!J196+'12'!J27+'13'!J28+'14'!J27+'14'!J58+'14'!J89+'14'!J118+'14'!J147+'14'!J176+'15'!J27+'16'!J30+'17'!J27+'18'!J28+'19'!J27+'20'!J29+'20'!J74+'20'!J103+'20'!J132+'20'!J161+'20'!J190+'20'!J219+'20'!J248+'20'!J277+'20'!J306+'20'!J335+'21'!J27+'22'!J27+'23'!J27+'24'!J27+'26'!J27+'27'!J27+'28'!J27 -> 88480 | H41: ='10'!K27+'11'!K33+'11'!K77+'11'!K106+'11'!K135+'11'!K164+'11'!K196+'12'!K27+'13'!K28+'14'!K27+'14'!K58+'14'!K89+'14'!K118+'14'!K147+'14'!K176+'15'!K27+'16'!K30+'17'!K27+'18'!K28+'19'!K27+'20'!K29+'20'!K74+'20'!K103+'20'!K132+'20'!K161+'20'!K190+'20'!K219+'20'!K248+'20'!K277+'20'!K306+'20'!K335+'21'!K27+'22'!K27+'23'!K27+'24'!K27+'26'!K27+'27'!K27+'28'!K27 -> 2300950 | I41: ='10'!L27+'11'!L33+'11'!L77+'11'!L106+'11'!L135+'11'!L164+'11'!L196+'12'!L27+'13'!L28+'14'!L27+'14'!L58+'14'!L89+'14'!L118+'14'!L147+'14'!L176+'15'!L27+'16'!L30+'17'!L27+'18'!L28+'19'!L27+'20'!L29+'20'!L74+'20'!L103+'20'!L132+'20'!L161+'20'!L190+'20'!L219+'20'!L248+'20'!L277+'20'!L306+'20'!L335+'21'!L27+'22'!L27+'23'!L27+'24'!L27+'26'!L27+'27'!L27+'28'!L27 -> 0 | J41: ='10'!M27+'11'!M33+'11'!M77+'11'!M106+'11'!M135+'11'!M164+'11'!M196+'12'!M27+'13'!M28+'14'!M27+'14'!M58+'14'!M89+'14'!M118+'14'!M147+'14'!M176+'15'!M27+'16'!M30+'17'!M27+'18'!M28+'19'!M27+'20'!M29+'20'!M74+'20'!M103+'20'!M132+'20'!M161+'20'!M190+'20'!M219+'20'!M248+'20'!M277+'20'!M306+'20'!M335+'21'!M27+'22'!M27+'23'!M27+'24'!M27+'26'!M27+'27'!M27+'28'!M27 -> 0 | K41: ='10'!N27+'11'!N33+'11'!N77+'11'!N106+'11'!N135+'11'!N164+'11'!N196+'12'!N27+'13'!N28+'14'!N27+'14'!N58+'14'!N89+'14'!N118+'14'!N147+'14'!N176+'15'!N27+'16'!N30+'17'!N27+'18'!N28+'19'!N27+'20'!N29+'20'!N74+'20'!N103+'20'!N132+'20'!N161+'20'!N190+'20'!N219+'20'!N248+'20'!N277+'20'!N306+'20'!N335+'21'!N27+'22'!N27+'23'!N27+'24'!N27+'26'!N27+'27'!N27+'28'!N27 -> 0 | L41: =IF(H41=0,"",K41/H41*100) -> 0
C42: 613900 | D42: EA6001 | E42: o/č Povjerenstva po Zakonu o drž.službenicima i namještenic. | F42: ='14'!I28 -> 44500 | G42: ='14'!J28 -> 0 | H42: =F42+G42 -> 44500 | I42: ='14'!L28 -> 0 | J42: ='14'!M28 -> 0 | K42: =I42+J42 -> 0 | L42: =IF(H42=0,"",K42/H42*100) -> 0
C43: 613900 | D43: EA6002 | E43: o/č Ugovorene i dr.pos.usluge - troškovi izvršenja mjere pritvora | F43: ='14'!I29 -> 150000 | G43: ='14'!J29 -> 0 | H43: =F43+G43 -> 150000 | I43: ='14'!L29 -> 0 | J43: ='14'!M29 -> 0 | K43: =I43+J43 -> 0 | L43: =IF(H43=0,"",K43/H43*100) -> 0
C44: 613900 | D44: GA6003 | E44: o/č Potpora riznici | F44: ='16'!I31 -> 195000 | G44: ='16'!J31 -> 0 | H44: =F44+G44 -> 195000 | I44: ='16'!L31 -> 0 | J44: ='16'!M31 -> 0 | K44: =I44+J44 -> 0 | L44: =IF(H44=0,"",K44/H44*100) -> 0
C45: 613900 | D45: KA6007 | E45: o/č Vozački ispiti-vlastiti prihodi | F45: ='20'!I30 -> 55000 | G45: ='20'!J30 -> 0 | H45: =F45+G45 -> 55000 | I45: ='20'!L30 -> 0 | J45: ='20'!M30 -> 0 | K45: =I45+J45 -> 0 | L45: =IF(H45=0,"",K45/H45*100) -> 0
C46: 613900 | D46: BA6017 | E46: o/č Ugovorene i druge posebne usluge-volont.rad | F46: ='11'!I34 -> 10000 | G46: ='11'!J34 -> 0 | H46: =F46+G46 -> 10000 | I46: ='11'!L34 -> 0 | J46: ='11'!M34 -> 0 | K46: =I46+J46 -> 0 | L46: =IF(H46=0,"",K46/H46*100) -> 0
C47: 613900 | D47: BA6021 | E47: o/č Ugov.i dr.poseb.usluge-sufinanciranje prijema vježbenika | F47: ='11'!I35 -> 90000 | G47: ='11'!J35 -> 0 | H47: =F47+G47 -> 90000 | I47: ='11'!L35 -> 0 | J47: ='11'!M35 -> 0 | K47: =I47+J47 -> 0 | L47: =IF(H47=0,"",K47/H47*100) -> 0
C48: 613900 | D48: FA6002 | E48: o/č Ugovorene i druge posebne usluge-prostorni plan | F48: ='15'!I28 -> 0 | G48: ='15'!J28 -> 0 | H48: =F48+G48 -> 0 | I48: ='15'!L28 -> 0 | J48: ='15'!M28 -> 0 | K48: =I48+J48 -> 0 | L48: =IF(H48=0,"",K48/H48*100)
C49: 613900 | D49: KA6017 | E49: o/č Ugov.i dr.pos.usluge-obuke i seminari prosv.djelatn. | F49: ='20'!I31 -> 50000 | G49: ='20'!J31 -> 0 | H49: ='20'!K31 -> 50000 | I49: ='20'!L31 -> 0 | J49: ='20'!M31 -> 0 | K49: ='20'!N31 -> 0 | L49: =IF(H49=0,"",K49/H49*100) -> 0
L50: =IF(H50=0,"",K50/H50*100)
C51: 614000 | E51: Tekući grantovi i drugi tekući rashodi | F51: =F52+F62+F71+F83+F88 -> 18685603 | G51: =G52+G62+G71+G83+G88 -> 1416740 | H51: =H52+H62+H71+H83+H88 -> 20102343 | I51: =I52+I62+I71+I83+I88 -> 0 | J51: =J52+J62+J71+J83+J88 -> 0 | K51: =K52+K62+K71+K83+K88 -> 0 | L51: =IF(H51=0,"",K51/H51*100) -> 0
C52: 614100 | E52: Tekući grantovi drugim razinama vlasti i fondovima | F52: =SUM(F53:F61) -> 4275603 | G52: =SUM(G53:G61) -> 710740 | H52: =SUM(H53:H61) -> 4986343 | I52: =SUM(I53:I61) -> 0 | J52: =SUM(J53:J61) -> 0 | K52: =SUM(K53:K61) -> 0 | L52: =IF(H52=0,"",K52/H52*100) -> 0
C53: 614100 | D53: BA6014 | E53: o/č Grant za Sveučilište u Mostaru | F53: ='11'!I38 -> 942050 | G53: ='11'!J38 -> 0 | H53: =F53+G53 -> 942050 | I53: ='11'!L38 -> 0 | J53: ='11'!M38 -> 0 | K53: =I53+J53 -> 0 | L53: =IF(H53=0,"",K53/H53*100) -> 0
C54: 614100 | D54: FA6003 | E54: o/č Grant za razvoj turizma | F54: ='15'!I31 -> 90000 | G54: ='15'!J31 -> 0 | H54: =F54+G54 -> 90000 | I54: ='15'!L31 -> 0 | J54: ='15'!M31 -> 0 | K54: =I54+J54 -> 0 | L54: =IF(H54=0,"",K54/H54*100) -> 0
C55: 614100 | D55: GA6002 | E55: o/č Grant nižim razinama vlasti | F55: ='16'!I34 -> 1000000 | G55: ='16'!J34 -> 0 | H55: =F55+G55 -> 1000000 | I55: ='16'!L34 -> 0 | J55: ='16'!M34 -> 0 | K55: =I55+J55 -> 0 | L55: =IF(H55=0,"",K55/H55*100) -> 0
C56: 614100 | E56: o/č Grant za zdravstvene institucije i centre za soc.rad | F56: ='17'!I30 -> 1400000 | G56: ='17'!J30 -> 0 | H56: =F56+G56 -> 1400000 | I56: ='17'!L30 -> 0 | J56: ='17'!M30 -> 0 | K56: =I56+J56 -> 0 | L56: =IF(H56=0,"",K56/H56*100) -> 0
C57: 614100 | D57: IA6002 | E57: o/č Grant za zaštitu okoliša | F57: ='18'!I31 -> 275603 | G57: ='18'!J31 -> 510740 | H57: =F57+G57 -> 786343 | I57: ='18'!L31 -> 0 | J57: ='18'!M31 -> 0 | K57: =I57+J57 -> 0 | L57: =IF(H57=0,"",K57/H57*100) -> 0
C58: 614100 | D58: JA6008 | E58: o/č Grant za šumarstvo | F58: ='19'!I30 -> 0 | G58: ='19'!J30 -> 200000 | H58: =F58+G58 -> 200000 | I58: ='19'!L30 -> 0 | J58: ='19'!M30 -> 0 | K58: =I58+J58 -> 0 | L58: =IF(H58=0,"",K58/H58*100) -> 0
C59: 614100 | D59: KA6004 | E59: o/č Grant za financiranje visokog obrazovanja | F59: ='20'!I34 -> 117950 | G59: ='20'!J34 -> 0 | H59: =F59+G59 -> 117950 | I59: ='20'!L34 -> 0 | J59: ='20'!M34 -> 0 | K59: =I59+J59 -> 0 | L59: =IF(H59=0,"",K59/H59*100) -> 0
C60: 614100 | D60: KA6009 | E60: o/č Grant za sufinanciranje prijevoza učenika | F60: ='20'!I35 -> 450000 | G60: ='20'!J35 -> 0 | H60: =F60+G60 -> 450000 | I60: ='20'!L35 -> 0 | J60: ='20'!M35 -> 0 | K60: =I60+J60 -> 0 | L60: =IF(H60=0,"",K60/H60*100) -> 0
C61: 614100 | E61: o/č Grant nižim razinama za uklanjanje poslj.pr.nesr. | F61: ='23'!I30 -> 0 | G61: ='23'!J30 -> 0 | H61: ='23'!K30 -> 0 | I61: ='23'!L30 -> 0 | J61: ='23'!M30 -> 0 | K61: ='23'!N30 -> 0 | L61: =IF(H61=0,"",K61/H61*100)
C62: 614200 | E62: Tekući grantovi pojedincima | F62: =SUM(F63:F70) -> 8675000 | G62: =SUM(G63:G70) -> 506000 | H62: =F62+G62 -> 9181000 | I62: =SUM(I63:I70) -> 0 | J62: =SUM(J63:J70) -> 0 | K62: =I62+J62 -> 0 | L62: =IF(H62=0,"",K62/H62*100) -> 0
C63: 614200 | D63: BA6016 | E63: o/č Grant za sufinanciranje nabavke udžbenika učenicima | F63: ='20'!I38 -> 200000 | G63: ='20'!J38 -> 0 | H63: ='20'!K38 -> 200000 | I63: ='20'!L38 -> 0 | J63: ='20'!M38 -> 0 | K63: ='20'!N38 -> 0 | L63: =IF(H63=0,"",K63/H63*100) -> 0
C64: 614200 | D64: BA6020 | E64: o/č Grant za pomoć pri stambenom zbrinjavanju mladih obitelji socijalnih kategorija | F64: ='11'!I167 -> 550000 | G64: ='11'!J167 -> 0 | H64: =F64+G64 -> 550000 | I64: ='11'!L167 -> 0 | J64: ='11'!M167 -> 0 | K64: =I64+J64 -> 0 | L64: =IF(H64=0,"",K64/H64*100) -> 0
C65: 614200 | D65: HA6003 | E65: o/č Grant za zdravstvene potrebe | F65: ='17'!I31 -> 200000 | G65: ='17'!J31 -> 0 | H65: =F65+G65 -> 200000 | I65: ='17'!L31 -> 0 | J65: ='17'!M31 -> 0 | K65: =I65+J65 -> 0 | L65: =IF(H65=0,"",K65/H65*100) -> 0
C66: 614200 | D66: HA6004 | E66: o/č Grant za socijalne potrebe | F66: ='17'!I32 -> 5325000 | G66: ='17'!J32 -> 245000 | H66: =F66+G66 -> 5570000 | I66: ='17'!L32 -> 0 | J66: ='17'!M32 -> 0 | K66: =I66+J66 -> 0 | L66: =IF(H66=0,"",K66/H66*100) -> 0
C67: 614200 | D67: KA6003 | E67: o/č Isplate stipendija | F67: ='20'!I36 -> 200000 | G67: ='20'!J36 -> 0 | H67: =F67+G67 -> 200000 | I67: ='20'!L36 -> 0 | J67: ='20'!M36 -> 0 | K67: =I67+J67 -> 0 | L67: =IF(H67=0,"",K67/H67*100) -> 0
C68: 614200 | D68: KA6016 | E68: o/č Grant za predškolsko, osnovno i srednje obrazovanje | F68: ='20'!I37 -> 50000 | G68: ='20'!J37 -> 0 | H68: =F68+G68 -> 50000 | I68: ='20'!L37 -> 0 | J68: ='20'!M37 -> 0 | K68: =I68+J68 -> 0 | L68: =IF(H68=0,"",K68/H68*100) -> 0
C69: 614200 | D69: LA6001 | E69: o/č Grant za branitelje i stradalnike dom. rata | F69: ='21'!I30 -> 2050000 | G69: ='21'!J30 -> 0 | H69: =F69+G69 -> 2050000 | I69: ='21'!L30 -> 0 | J69: ='21'!M30 -> 0 | K69: =I69+J69 -> 0 | L69: =IF(H69=0,"",K69/H69*100) -> 0
C70: 614200 | D70: NA6002 | E70: o/č Grant za zaštitu od prirodnih i drugih nesreća | F70: ='23'!I31 -> 100000 | G70: ='23'!J31 -> 261000 | H70: ='23'!K31 -> 361000 | I70: ='23'!L31 -> 0 | J70: ='23'!M31 -> 0 | K70: ='23'!N31 -> 0 | L70: =IF(H70=0,"",K70/H70*100) -> 0
C71: 614300 | E71: Tekući grantovi neprofitnim organizacijama | F71: =SUM(F72:F82) -> 2050000 | G71: =SUM(G72:G82) -> 0 | H71: =SUM(H72:H82) -> 2050000 | I71: =SUM(I72:I82) -> 0 | J71: =SUM(J72:J82) -> 0 | K71: =SUM(K72:K82) -> 0 | L71: =IF(H71=0,"",K71/H71*100) -> 0
C72: 614300 | D72: BA6019 | E72: o/č Grant političkim strankama | F72: ='11'!I42 -> 150000 | G72: ='11'!J42 -> 0 | H72: =F72+G72 -> 150000 | I72: ='11'!L42 -> 0 | J72: ='11'!M42 -> 0 | K72: =I72+J72 -> 0 | L72: =IF(H72=0,"",K72/H72*100) -> 0
C73: 614300 | D73: BA6022 | E73: o/č Grant za Muzej Franj.samostana Tolisa Vrata Bosne | F73: ='11'!I43 -> 140000 | G73: ='11'!J43 -> 0 | H73: =F73+G73 -> 140000 | I73: ='11'!L43 -> 0 | J73: ='11'!M43 -> 0 | K73: =I73+J73 -> 0 | L73: =IF(H73=0,"",K73/H73*100) -> 0
C74: 614300 | D74: BA6001 | E74: o/č Grant neprofitnim organizacijama i udrugama građana | F74: ='11'!I39 -> 100000 | G74: ='11'!J39 -> 0 | H74: =F74+G74 -> 100000 | I74: ='11'!L39 -> 0 | J74: ='11'!M39 -> 0 | K74: =I74+J74 -> 0 | L74: =IF(H74=0,"",K74/H74*100) -> 0
C75: 614300 | D75: BA6008 | E75: o/č Grant za Crveni križ Županije Posavske | F75: ='11'!I40 -> 40000 | G75: ='11'!J40 -> 0 | H75: =F75+G75 -> 40000 | I75: ='11'!L40 -> 0 | J75: ='11'!M40 -> 0 | K75: =I75+J75 -> 0 | L75: =IF(H75=0,"",K75/H75*100) -> 0
C76: 614300 | D76: BA6007 | E76: o/č Grant za Gospodarsku komoru ŽP | F76: ='11'!I41 -> 40000 | G76: ='11'!J41 -> 0 | H76: =F76+G76 -> 40000 | I76: ='11'!L41 -> 0 | J76: ='11'!M41 -> 0 | K76: =I76+J76 -> 0 | L76: =IF(H76=0,"",K76/H76*100) -> 0
C77: 614300 | D77: HA6005 | E77: o/č Grant za udruge roditelja djece s posebnim potrebama | F77: ='17'!I33 -> 150000 | G77: ='17'!J33 -> 0 | H77: =F77+G77 -> 150000 | I77: ='17'!L33 -> 0 | J77: ='17'!M33 -> 0 | K77: =I77+J77 -> 0 | L77: =IF(H77=0,"",K77/H77*100) -> 0
C78: 614300 | D78: KA6001 | E78: o/č Grant za informiranje | F78: ='20'!I39 -> 450000 | G78: ='20'!J39 -> 0 | H78: =F78+G78 -> 450000 | I78: ='20'!L39 -> 0 | J78: ='20'!M39 -> 0 | K78: =I78+J78 -> 0 | L78: =IF(H78=0,"",K78/H78*100) -> 0
C79: 614300 | D79: KA6006 | E79: o/č Grant za financiranje vjerskih zajednica | F79: ='20'!I40 -> 60000 | G79: ='20'!J40 -> 0 | H79: =F79+G79 -> 60000 | I79: ='20'!L40 -> 0 | J79: ='20'!M40 -> 0 | K79: =I79+J79 -> 0 | L79: =IF(H79=0,"",K79/H79*100) -> 0
C80: 614300 | D80: KA6012 | E80: o/č Grant za sport | F80: ='20'!I41 -> 500000 | G80: ='20'!J41 -> 0 | H80: =F80+G80 -> 500000 | I80: ='20'!L41 -> 0 | J80: ='20'!M41 -> 0 | K80: =I80+J80 -> 0 | L80: =IF(H80=0,"",K80/H80*100) -> 0
C81: 614300 | D81: KA6013 | E81: o/č Grant za kulturu | F81: ='20'!I42 -> 200000 | G81: ='20'!J42 -> 0 | H81: =F81+G81 -> 200000 | I81: ='20'!L42 -> 0 | J81: ='20'!M42 -> 0 | K81: =I81+J81 -> 0 | L81: =IF(H81=0,"",K81/H81*100) -> 0
C82: 614300 | E82: o/č Grant za obilježav.Domovinski rat | F82: ='21'!I31 -> 220000 | G82: ='21'!J31 -> 0 | H82: ='21'!K31 -> 220000 | I82: ='21'!L31 -> 0 | J82: ='21'!M31 -> 0 | K82: ='21'!N31 -> 0 | L82: =IF(H82=0,"",K82/H82*100) -> 0
C83: 614500 | E83: Subvencije privatnim poduzećima i poduzetnicima | F83: =SUM(F84:F87) -> 3550000 | G83: =SUM(G84:G87) -> 200000 | H83: =F83+G83 -> 3750000 | I83: =SUM(I84:I87) -> 0 | J83: =SUM(J84:J87) -> 0 | K83: =I83+J83 -> 0 | L83: =IF(H83=0,"",K83/H83*100) -> 0
C84: 614500 | D84: FA6001 | E84: o/č Grant za razvoj poduzetništva, obrta i zadruga | F84: ='15'!I32 -> 1500000 | G84: ='15'!J32 -> 0 | H84: =F84+G84 -> 1500000 | I84: ='15'!L32 -> 0 | J84: ='15'!M32 -> 0 | K84: =I84+J84 -> 0 | L84: =IF(H84=0,"",K84/H84*100) -> 0
C85: 614500 | D85: JA6004 | E85: o/č Grant za poljoprivredu | F85: ='19'!I31 -> 1850000 | G85: ='19'!J31 -> 0 | H85: =F85+G85 -> 1850000 | I85: ='19'!L31 -> 0 | J85: ='19'!M31 -> 0 | K85: =I85+J85 -> 0 | L85: =IF(H85=0,"",K85/H85*100) -> 0
C86: 614500 | D86: JA6005 | E86: o/č Grant za vodoprivredu | F86: ='19'!I32 -> 200000 | G86: ='19'!J32 -> 0 | H86: =F86+G86 -> 200000 | I86: ='19'!L32 -> 0 | J86: ='19'!M32 -> 0 | K86: =I86+J86 -> 0 | L86: =IF(H86=0,"",K86/H86*100) -> 0
C87: 614500 | D87: JA6007 | E87: o/č Grant za uređenje poljoprivrednog zemljišta | F87: ='19'!I33 -> 0 | G87: ='19'!J33 -> 200000 | H87: =F87+G87 -> 200000 | I87: ='19'!L33 -> 0 | J87: ='19'!M33 -> 0 | K87: =I87+J87 -> 0 | L87: =IF(H87=0,"",K87/H87*100) -> 0
C88: 614800 | E88: Drugi tekući rashodi | F88: =SUM(F89:F90) -> 135000 | G88: =SUM(G89:G90) -> 0 | H88: =F88+G88 -> 135000 | I88: =SUM(I89:I90) -> 0 | J88: =SUM(J89:J90) -> 0 | K88: =I88+J88 -> 0 | L88: =IF(H88=0,"",K88/H88*100) -> 0
C89: 614800 | D89: GA6005 | E89: o/č Ostali grantovi-povrat i drugo | F89: ='16'!I35 -> 130000 | G89: ='16'!J35 -> 0 | H89: =F89+G89 -> 130000 | I89: ='16'!L35 -> 0 | J89: ='16'!M35 -> 0 | K89: =I89+J89 -> 0 | L89: =IF(H89=0,"",K89/H89*100) -> 0
C90: 614800 | D90: GA6006 | E90: o/č Ostali grantovi-izvršenje sudskih presuda i rješenja o izvršenju | F90: ='16'!I36 -> 5000 | G90: ='16'!J36 -> 0 | H90: =F90+G90 -> 5000 | I90: ='16'!L36 -> 0 | J90: ='16'!M36 -> 0 | K90: =I90+J90 -> 0 | L90: =IF(H90=0,"",K90/H90*100) -> 0
L91: =IF(H91=0,"",K91/H91*100)
C92: 615000 | E92: Kapitalni grantovi | F92: =SUM(F93:F98) -> 1519610 | G92: =SUM(G93:G98) -> 990390 | H92: =SUM(H93:H98) -> 2510000 | I92: =SUM(I93:I98) -> 0 | J92: =SUM(J93:J98) -> 0 | K92: =SUM(K93:K98) -> 0 | L92: =IF(H92=0,"",K92/H92*100) -> 0
C93: 615100 | E93: Kapitalni grant | F93: ='11'!I46 -> 310000 | G93: ='11'!J46 -> 0 | H93: =F93+G93 -> 310000 | I93: ='11'!L46 -> 0 | J93: ='11'!M46 -> 0 | K93: =I93+J93 -> 0 | L93: =IF(H93=0,"",K93/H93*100) -> 0
C94: 615100 | D94: FA6005 | E94: Kapitalni grant jedinicama lokalne samouprave za razvoj poduzetničke infrastrukture | F94: ='15'!I35 -> 0 | G94: ='15'!J35 -> 0 | H94: =F94+G94 -> 0 | I94: ='15'!L35 -> 0 | J94: ='15'!M35 -> 0 | K94: =I94+J94 -> 0 | L94: =IF(H94=0,"",K94/H94*100)
C95: 615100 | D95: JA6009 | E95: Kapitalni grant za vodoprivredu | F95: ='19'!I36 -> 159610 | G95: ='19'!J36 -> 340390 | H95: =F95+G95 -> 500000 | I95: ='19'!L36 -> 0 | J95: ='19'!M36 -> 0 | K95: =I95+J95 -> 0 | L95: =IF(H95=0,"",K95/H95*100) -> 0
C96: 615100 | D96: JA6010 | E96: Kapitalni grant za uređenje poljoprivrednog zemljišta | F96: ='19'!I37 -> 0 | G96: ='19'!J37 -> 150000 | H96: =F96+G96 -> 150000 | I96: ='19'!L37 -> 0 | J96: ='19'!M37 -> 0 | K96: =I96+J96 -> 0 | L96: =IF(H96=0,"",K96/H96*100) -> 0
C97: 615300 | E97: Kapitalni grant vjerskim zajednicama za realizaciju projekata obnove sakralnih objekata | F97: ='20'!I45 -> 250000 | G97: ='20'!J45 -> 0 | H97: ='20'!K45 -> 250000 | I97: ='20'!L45 -> 0 | J97: ='20'!M45 -> 0 | K97: ='20'!N45 -> 0 | L97: =IF(H97=0,"",K97/H97*100) -> 0
C98: 615500 | D98: FA6004 | E98: Kapitalni grant za razvoj poduzetništva, obrta i zadruga | F98: ='15'!I36 -> 800000 | G98: ='15'!J36 -> 500000 | H98: =F98+G98 -> 1300000 | I98: ='15'!L36 -> 0 | J98: ='15'!M36 -> 0 | K98: =I98+J98 -> 0 | L98: =IF(H98=0,"",K98/H98*100) -> 0
L99: =IF(H99=0,"",K99/H99*100)
C100: 616000 | E100: Izdaci za kamate | F100: =SUM(F101:F102) -> 10850 | G100: =SUM(G101:G102) -> 0 | H100: =SUM(H101:H102) -> 10850 | I100: =SUM(I101:I102) -> 0 | J100: =SUM(J101:J102) -> 0 | K100: =SUM(K101:K102) -> 0 | L100: =IF(H100=0,"",K100/H100*100) -> 0
C101: 616200 | D101: GA6008 | E101: Izdaci za inozemne kamate-Koreja | F101: ='16'!I39 -> 10850 | G101: ='16'!J39 -> 0 | H101: =F101+G101 -> 10850 | I101: ='16'!L39 -> 0 | J101: ='16'!M39 -> 0 | K101: =I101+J101 -> 0 | L101: =IF(H101=0,"",K101/H101*100) -> 0
C102: 616200 | D102: GA6009 | E102: Izdaci za inozemne kamate-Austrija | F102: ='16'!I40 -> 0 | G102: ='16'!J40 -> 0 | H102: =F102+G102 -> 0 | I102: ='16'!L40 -> 0 | J102: ='16'!M40 -> 0 | K102: =I102+J102 -> 0 | L102: =IF(H102=0,"",K102/H102*100)
...
