Workbook
Name ACCOUNTEDPERIODTYPE1: #REF!
Name ACCOUNTEDPERIODTYPE1: #REF!
Name APPSUSERNAME1: #REF!
Name APPSUSERNAME1: #REF!
Name BUDGETORGID1: #REF!
Name BUDGETORGID1: #REF!
Name BUDGETORGNAME1: #REF!
Name BUDGETORGNAME1: #REF!
Name CHARTOFACCOUNTSID1: #REF!
Name CHARTOFACCOUNTSID1: #REF!
Name CONNECTSTRING1: #REF!
Name CONNECTSTRING1: #REF!
Name CREATESUMMARYJNLS1: #REF!
Name CREATESUMMARYJNLS1: #REF!
Name CRITERIACOLUMN1: #REF!
Name CRITERIACOLUMN1: #REF!
Name DBNAME1: #REF!
Name DBNAME1: #REF!
Name DBUSERNAME1: #REF!
Name DBUSERNAME1: #REF!
Name DELETELOGICTYPE1: #REF!
Name DELETELOGICTYPE1: #REF!
Name FFAPPCOLNAME1_1: #REF!
Name FFAPPCOLNAME1_1: #REF!
Name FFAPPCOLNAME2_1: #REF!
Name FFAPPCOLNAME2_1: #REF!
Name FFAPPCOLNAME3_1: #REF!
Name FFAPPCOLNAME3_1: #REF!
Name FFAPPCOLNAME4_1: #REF!
Name FFAPPCOLNAME4_1: #REF!
Name FFAPPCOLNAME5_1: #REF!
Name FFAPPCOLNAME5_1: #REF!
Name FFAPPCOLNAME6_1: #REF!
Name FFAPPCOLNAME6_1: #REF!
Name FFSEGMENT1_1: #REF!
Name FFSEGMENT1_1: #REF!
Name FFSEGMENT2_1: #REF!
Name FFSEGMENT2_1: #REF!
Name FFSEGMENT3_1: #REF!
Name FFSEGMENT3_1: #REF!
Name FFSEGMENT4_1: #REF!
Name FFSEGMENT4_1: #REF!
Name FFSEGMENT5_1: #REF!
Name FFSEGMENT5_1: #REF!
Name FFSEGMENT6_1: #REF!
Name FFSEGMENT6_1: #REF!
Name FFSEGSEPARATOR1: #REF!
Name FFSEGSEPARATOR1: #REF!
Name FIELDNAMECOLUMN1: #REF!
Name FIELDNAMECOLUMN1: #REF!
Name FIELDNAMEROW1: #REF!
Name FIELDNAMEROW1: #REF!
Name FIRSTDATAROW1: #REF!
Name FIRSTDATAROW1: #REF!
Name FNDNAM1: #REF!
Name FNDNAM1: #REF!
Name FNDUSERID1: #REF!
Name FNDUSERID1: #REF!
Name FUNCTIONALCURRENCY1: #REF!
Name FUNCTIONALCURRENCY1: #REF!

Sheet CODE

Sheet Uvodne napomene
A2: UVODNE NAPOMENE ZA POPUNJAVANJE TABLICA ZAHTJEVA ZA IZMJENE I DOPUNE PRORAČUNA ZA 2026. GODINU
A4: 1. Na radnim listovima odaberite Vaš razdjel. Ovisno o razdjelu otvoriti će Vam se ili samo jedna tablica za razdjel ili više tablica (ukoliko razdjel ima porač.institucije/potrošačke jedinice).
A5: 2. Za izradu Izmjena i dopuna Proračuna niau utvrđene gornje granice rashoda i izdataka te Vas molimo da se pri planiranju pridržavate općih uputa danih u Instrukciji.
A6: 3. Po zavšetku unosa zahtjeva, upišite datum zahtjeva, isprintajte tablice te ih u elektronskoj i papirnoj formi, skupa s pratećim obrascima, dostavite u Ministarstvo financija (ruzica.zivkovic@zupanijaposavska.ba). Ukoliko se pojavi neki problem pri unosu kontaktirajte nas na broj: 031 713 265, lok. 167.
A7: 4. Proračunski zahtjevi i prateći obrasci moraju biti potpisani i opečaćeni, te s jasno naznačenim datumom.
A8: 5. Sukladno utvrđenim organizacijskim kodovima, svaka proračunska institucija/potrošačka jedinica svoj zahtjev mora najprije dostaviti nadležnom razdjelu (vidi donju tablicu),
A9: koji potom cjeloviti zahtjev za razdjel dostavlja Ministarstvu financija.
A11: RAZDJEL | B11: NAZIV RAZDJELA | C11: PRORAČUNSKE INSTITUCIJE/POTROŠAČKE JEDINICE
A12: 10 | B12: SKUPŠTINA ŽUPANIJE POSAVSKE | C12: (nema)
A13: 11 | B13: VLADA ŽUPANIJE POSAVSKE | C13: Ured za zakonodavstvo Vlade Županije Posavske
C14: Služba za odnose s javnošću Vlade Županije Posavske
C15: Ured za razvoj i europske integracije Županije Posavske
C16: Ured za obnovu, stambeno zbrinjavanje i raseljene osobe Vlade Županije Posavske
C17: Ured za borbu protiv korupcije Vlade Županije Posavske
A18: 12 | B18: ZAJEDNIČKA SLUŽBA VLADE ŽUPANIJE POSAVSKE | C18: (nema)
A19: 13 | B19: MINISTARSTVO UNUTARNJIH POSLOVA ŽUPANIJE POSAVSKE | C19: (nema)
A20: 14 | B20: MINISTARSTVO PRAVOSUĐA I UPRAVE ŽUPANIJE POSAVSKE | C20: Općinski sud u Orašju
C21: Gradsko pravobraniteljstvo Orašje
C22: Općinsko pravobraniteljstvo Odžak
C23: Županijski Zavod za pružanje pravne pomoći
C24: Županijski arhiv
A25: 15 | B25: MINISTARSTVO GOSPODARSTVA, RADA I PROSTORNOG UREĐENJA ŽUPANIJE POSAVSKE | C25: (nema)
A26: 16 | B26: MINISTARSTVO FINANCIJA ŽUPANIJE POSAVSKE | C26: (nema)
A27: 17 | B27: MINISTARSTVO ZDRAVSTVA I SOCIJALNE POLITIKE ŽUPANIJE POSAVSKE | C27: (nema)
A28: 18 | B28: MINISTARSTVO PROMETA, VEZA I ZAŠTITE OKOLIŠA ŽUPANIJE POSAVSKE | C28: (nema)
A29: 19 | B29: MINISTARSTVO POLJOPRIVREDE, VODOPRIVREDE I ŠUMARSTVA ŽUPANIJE POSAVSKE | C29: (nema)
A30: 20 | B30: MINISTARSTVO PROSVJETE, ZNANOSTI, KULTURE I SPORTA ŽUPANIJE POSAVSKE | C30: Srednja škola Pere Zečevića u Odžaku
C31: Školski centar Fra Martina Nedića u Orašju
C32: Srednja strukovna škola u Orašju
C33: Osnovna škola Orašje u Orašju
C34: Osnovna škola Vladimira Nazora u Odžaku
C35: Osnovna škola Ruđera Boškovića u Donjoj Mahali
C36: Osnovna škola Fra Ilije Starčevića u Tolisi
C37: Osnovna škola Stjepana Radića u Boku
C38: Osnovna škola Antuna Gustava Matoša u Vidovicama
C39: Osnovna škola Braće Radića u Domaljevcu
A40: 21 | B40: MINISTARSTVO BRANITELJA ŽUPANIJE POSAVSKE | C40: (nema)
A41: 22 | B41: AGENCIJA ZA PRIVATIZACIJU U ŽUPANIJI POSAVSKOJ | C41: (nema)
A42: 23 | B42: ŽUPANIJSKA UPRAVA CIVILNE ZAŠTITE | C42: (nema)
A43: 24 | B43: KANTONALNI SUD ODŽAK | C43: (nema)
...

Sheet 10
B1: ZAHTJEV ZA IZMJENE I DOPUNE PRORAČUNA ZA 2026. GODINU
M2: Datum zahtjeva:
B3: NAZIV RAZDJELA: | F3: SKUPŠTINA ŽUPANIJE POSAVSKE
B5: RAZDJEL: | D5: 10
B7: Ministarstvo (razdjel) | C7: Proračunska institucija | D7: Potrošačka jedinica | E7: Funkcija | F7: Ekon. kod | G7: Subanalitika | H7: OPIS | I7: PRORAČUN za 2026. | L7: ZAHTJEV za Izmjene i dopune Proračuna za 2026. | O7: INDEKS
I8: iz prorač. sredstava | J8: iz ostalih izvora | K8: UKUPNO | L8: iz prorač. sredstava | M8: iz ostalih izvora | N8: UKUPNO
B9: 1 | C9: 2 | D9: 3 | E9: 4 | F9: 5 | G9: 6 | H9: 7 | I9: 8 | J9: 9 | K9: 10=8+9 | L9: 11 | M9: 12 | N9: 13=11+12 | O9: 14=13/10
B10: 10 | C10: 01 | D10: 0001 | E10: 0111 | H10: SKUPŠTINA ŽUPANIJE POSAVSKE
F11: 611000 | H11: Plaće i naknade troškova zaposlenih | I11: =SUM(I12:I13) -> 1093250 | J11: =SUM(J12:J13) -> 0 | K11: =SUM(K12:K13) -> 1093250 | L11: =SUM(L12:L13) -> 0 | M11: =SUM(M12:M13) -> 0 | N11: =SUM(N12:N13) -> 0 | O11: =IF(K11=0,"",N11/K11*100) -> 0
F12: 611100 | H12: Bruto plaće i naknade plaća | I12: =843000+730+5000+48060 -> 896790 | J12: 0 | K12: =SUM(I12:J12) -> 896790 | N12: =SUM(L12:M12) -> 0 | O12: =IF(K12=0,"",N12/K12*100) -> 0
F13: 611200 | H13: Naknade troškova zaposlenih | I13: =160670+1620+21420+12750 -> 196460 | J13: 0 | K13: =SUM(I13:J13) -> 196460 | N13: =SUM(L13:M13) -> 0 | O13: =IF(K13=0,"",N13/K13*100) -> 0
O14: =IF(K14=0,"",N14/K14*100)
F15: 612000 | H15: Doprinosi poslodavca i ostali doprinosi | I15: =I16+I17 -> 46990 | J15: =J16+J17 -> 0 | K15: =K16+K17 -> 46990 | L15: =L16+L17 -> 0 | M15: =M16+M17 -> 0 | N15: =N16+N17 -> 0 | O15: =IF(K15=0,"",N15/K15*100) -> 0
F16: 612100 | H16: Doprinosi poslodavca | I16: =44100+120+250+2520 -> 46990 | J16: 0 | K16: =SUM(I16:J16) -> 46990 | N16: =SUM(L16:M16) -> 0 | O16: =IF(K16=0,"",N16/K16*100) -> 0
O17: =IF(K17=0,"",N17/K17*100)
F18: 613000 | H18: Izdaci za materijal, sitan inv. i usluge | I18: =SUM(I19:I27) -> 479820 | J18: =SUM(J19:J27) -> 0 | K18: =SUM(K19:K27) -> 479820 | L18: =SUM(L19:L27) -> 0 | M18: =SUM(M19:M27) -> 0 | N18: =SUM(N19:N27) -> 0 | O18: =IF(K18=0,"",N18/K18*100) -> 0
F19: 613100 | H19: Putni troškovi | I19: 7000 | J19: 0 | K19: =SUM(I19:J19) -> 7000 | N19: =SUM(L19:M19) -> 0 | O19: =IF(K19=0,"",N19/K19*100) -> 0
F20: 613200 | H20: Izdaci za energiju | I20: 8500 | J20: 0 | K20: =SUM(I20:J20) -> 8500 | N20: =SUM(L20:M20) -> 0 | O20: =IF(K20=0,"",N20/K20*100) -> 0
F21: 613300 | H21: Izdaci za komunikaciju i komunalne usluge | I21: 9000 | J21: 0 | K21: =SUM(I21:J21) -> 9000 | N21: =SUM(L21:M21) -> 0 | O21: =IF(K21=0,"",N21/K21*100) -> 0
F22: 613400 | H22: Nabavka materijala i sitnog inventara | I22: 6500 | J22: 0 | K22: =SUM(I22:J22) -> 6500 | N22: =SUM(L22:M22) -> 0 | O22: =IF(K22=0,"",N22/K22*100) -> 0
F23: 613500 | H23: Izdaci za usluge prijevoza i goriva | I23: 12000 | J23: 0 | K23: =SUM(I23:J23) -> 12000 | N23: =SUM(L23:M23) -> 0 | O23: =IF(K23=0,"",N23/K23*100) -> 0
F24: 613600 | H24: Unajmljivanje imovine, opreme i nemat.imovine | I24: 0 | J24: 0 | K24: =SUM(I24:J24) -> 0 | N24: =SUM(L24:M24) -> 0 | O24: =IF(K24=0,"",N24/K24*100)
F25: 613700 | H25: Izdaci za tekuće održavanje | I25: 8000 | J25: 0 | K25: =SUM(I25:J25) -> 8000 | N25: =SUM(L25:M25) -> 0 | O25: =IF(K25=0,"",N25/K25*100) -> 0
F26: 613800 | H26: Izdaci osiguranja, bank. usluga i usluga p.p. | I26: 3820 | J26: 0 | K26: =SUM(I26:J26) -> 3820 | N26: =SUM(L26:M26) -> 0 | O26: =IF(K26=0,"",N26/K26*100) -> 0
F27: 613900 | H27: Ugovorene i druge posebne usluge | I27: 425000 | J27: 0 | K27: =SUM(I27:J27) -> 425000 | N27: =SUM(L27:M27) -> 0 | O27: =IF(K27=0,"",N27/K27*100) -> 0
O28: =IF(K28=0,"",N28/K28*100)
F29: 821000 | H29: Izdaci za nabavku stalnih sredstava | I29: =SUM(I30:I32) -> 50000 | J29: =SUM(J30:J32) -> 0 | K29: =SUM(K30:K32) -> 50000 | L29: =SUM(L30:L32) -> 0 | M29: =SUM(M30:M32) -> 0 | N29: =SUM(N30:N32) -> 0 | O29: =IF(K29=0,"",N29/K29*100) -> 0
F30: 821200 | H30: Nabavka građevina | I30: 0 | J30: 0 | K30: =SUM(I30:J30) -> 0 | N30: =SUM(L30:M30) -> 0 | O30: =IF(K30=0,"",N30/K30*100)
F31: 821300 | H31: Nabavka opreme | I31: 45000 | J31: 0 | K31: =SUM(I31:J31) -> 45000 | N31: =SUM(L31:M31) -> 0 | O31: =IF(K31=0,"",N31/K31*100) -> 0
F32: 821500 | H32: Nabavka stalnih sredstava u obliku prava | I32: 5000 | J32: 0 | K32: =SUM(I32:J32) -> 5000 | N32: =SUM(L32:M32) -> 0 | O32: =IF(K32=0,"",N32/K32*100) -> 0
O33: =IF(K33=0,"",N33/K33*100)
H34: Ukupan broj zaposlenih: | I34: 23 | K34: 23
H35: Ukupno za potrošačku jedinicu: | I35: =I11+I15+I18+I29 -> 1670060 | J35: =J11+J15+J18+J29 -> 0 | K35: =K11+K15+K18+K29 -> 1670060 | L35: =L11+L15+L18+L29 -> 0 | M35: =M11+M15+M18+M29 -> 0 | N35: =N11+N15+N18+N29 -> 0 | O35: =IF(K35=0,"",N35/K35*100) -> 0
H36: Ukupno za proračunsku instituciju: | I36: =I35 -> 1670060 | J36: =J35 -> 0 | K36: =K35 -> 1670060 | L36: =L35 -> 0 | M36: =M35 -> 0 | N36: =N35 -> 0 | O36: =IF(K36=0,"",N36/K36*100) -> 0
H37: Ukupno za ministarstvo (razdjel): | I37: =I36 -> 1670060 | J37: =J36 -> 0 | K37: =K36 -> 1670060 | L37: =L36 -> 0 | M37: =M36 -> 0 | N37: =N36 -> 0 | O37: =IF(K37=0,"",N37/K37*100) -> 0
O38: =IF(K38=0,"",N38/K38*100)
O39: =IF(K39=0,"",N39/K39*100)

Sheet 11
B1: ZAHTJEV ZA IZMJENE I DOPUNE PRORAČUNA ZA 2026. GODINU
M2: Datum zahtjeva:
B3: NAZIV RAZDJELA: | F3: VLADA ŽUPANIJE POSAVSKE
B5: RAZDJEL: | D5: 11
B7: Ministarstvo (razdjel) | C7: Proračunska institucija | D7: Potrošačka jedinica | E7: Funkcija | F7: Ekon. kod | G7: Subanalitika | H7: OPIS | I7: PRORAČUN za 2026./ (poveć./smanj.) | L7: ZAHTJEV za Izmjene i dopune Proračuna za 2026. | O7: INDEKS
I8: iz prorač. sredstava | J8: iz ostalih izvora | K8: UKUPNO | L8: iz prorač. sredstava | M8: iz ostalih izvora | N8: UKUPNO
B9: 1 | C9: 2 | D9: 3 | E9: 4 | F9: 5 | G9: 6 | H9: 7 | I9: 8 | J9: 9 | K9: 10=8+9 | L9: 11 | M9: 12 | N9: 13=11+12 | O9: 14=13/10
B10: 11 | C10: 01 | D10: 0001 | E10: 0111 | H10: VLADA ŽUPANIJE POSAVSKE | O10: =IF(K10=0,"",N10/K10*100)
F11: 600000 | H11: Rashodi - Tekuća pričuva | I11: =I12+I13+I14 -> 710000 | J11: =J12+J13+J14 -> 0 | K11: =K12+K13+K14 -> 710000 | L11: =L12+L13+L14 -> 0 | M11: =M12+M13+M14 -> 0 | N11: =N12+N13+N14 -> 0 | O11: =IF(K11=0,"",N11/K11*100) -> 0
F12: 600000 | H12: Tekuća pričuva Vlade | I12: =500000+250000-100000 -> 650000 | J12: 0 | K12: =SUM(I12:J12) -> 650000 | N12: =SUM(L12:M12) -> 0 | O12: =IF(K12=0,"",N12/K12*100) -> 0
F13: 600000 | H13: Tekuća pričuva predsjednika Vlade | I13: 40000 | J13: 0 | K13: =SUM(I13:J13) -> 40000 | N13: =SUM(L13:M13) -> 0 | O13: =IF(K13=0,"",N13/K13*100) -> 0
F14: 600000 | H14: Tekuća pričuva zamjenika pred. Vlade | I14: 20000 | J14: 0 | K14: =SUM(I14:J14) -> 20000 | N14: =SUM(L14:M14) -> 0 | O14: =IF(K14=0,"",N14/K14*100) -> 0
O15: =IF(K15=0,"",N15/K15*100)
F16: 611000 | H16: Plaće i naknade troškova zaposlenih | I16: =SUM(I17:I20) -> 328210 | J16: =SUM(J17:J20) -> 0 | K16: =SUM(K17:K20) -> 328210 | L16: =SUM(L17:L20) -> 0 | M16: =SUM(M17:M20) -> 0 | N16: =SUM(N17:N20) -> 0 | O16: =IF(K16=0,"",N16/K16*100) -> 0
F17: 611100 | H17: Bruto plaće i naknade plaća | I17: =248470+16200+1000+9*270+14500 -> 282600 | J17: 0 | K17: =SUM(I17:J17) -> 282600 | N17: =SUM(L17:M17) -> 0 | O17: =IF(K17=0,"",N17/K17*100) -> 0
F18: 611200 | H18: Naknade troškova zaposlenih | I18: =40530+850+4230 -> 45610 | J18: 0 | K18: =SUM(I18:J18) -> 45610 | N18: =SUM(L18:M18) -> 0 | O18: =IF(K18=0,"",N18/K18*100) -> 0
F19: 611200 | G19: BA6017 | H19: Naknade troškova zaposlenih - volonteri | I19: 0 | J19: 0 | K19: =SUM(I19:J19) -> 0 | N19: =SUM(L19:M19) -> 0 | O19: =IF(K19=0,"",N19/K19*100)
O20: =IF(K20=0,"",N20/K20*100)
F21: 612000 | H21: Doprinosi poslodavca i ostali doprinosi | I21: =I22+I23 -> 14140 | J21: =J22+J23 -> 0 | K21: =K22+K23 -> 14140 | L21: =L22+L23 -> 0 | M21: =M22+M23 -> 0 | N21: =N22+N23 -> 0 | O21: =IF(K21=0,"",N21/K21*100) -> 0
F22: 612100 | H22: Doprinosi poslodavca | I22: =12360+820+50+9*20+730 -> 14140 | J22: 0 | K22: =SUM(I22:J22) -> 14140 | N22: =SUM(L22:M22) -> 0 | O22: =IF(K22=0,"",N22/K22*100) -> 0
O23: =IF(K23=0,"",N23/K23*100)
F24: 613000 | H24: Izdaci za materijal, sitan inv. i usluge | I24: =SUM(I25:I35) -> 380470 | J24: =SUM(J25:J35) -> 50000 | K24: =SUM(K25:K35) -> 430470 | L24: =SUM(L25:L35) -> 0 | M24: =SUM(M25:M35) -> 0 | N24: =SUM(N25:N35) -> 0 | O24: =IF(K24=0,"",N24/K24*100) -> 0
F25: 613100 | H25: Putni troškovi | I25: 11000 | J25: 0 | K25: =SUM(I25:J25) -> 11000 | N25: =SUM(L25:M25) -> 0 | O25: =IF(K25=0,"",N25/K25*100) -> 0
F26: 613200 | H26: Izdaci za energiju | I26: 1500 | J26: 0 | K26: =SUM(I26:J26) -> 1500 | N26: =SUM(L26:M26) -> 0 | O26: =IF(K26=0,"",N26/K26*100) -> 0
F27: 613300 | H27: Izdaci za komunikaciju i komunalne usluge | I27: 7500 | J27: 0 | K27: =SUM(I27:J27) -> 7500 | N27: =SUM(L27:M27) -> 0 | O27: =IF(K27=0,"",N27/K27*100) -> 0
F28: 613400 | H28: Nabavka materijala i sitnog inventara | I28: 1000 | J28: 0 | K28: =SUM(I28:J28) -> 1000 | N28: =SUM(L28:M28) -> 0 | O28: =IF(K28=0,"",N28/K28*100) -> 0
F29: 613500 | H29: Izdaci za usluge prijevoza i goriva | I29: 1000 | J29: 0 | K29: =SUM(I29:J29) -> 1000 | N29: =SUM(L29:M29) -> 0 | O29: =IF(K29=0,"",N29/K29*100) -> 0
F30: 613600 | H30: Unajmljivanje imovine, opreme i nemat.imovine | I30: =1000+13000 -> 14000 | J30: 0 | K30: =SUM(I30:J30) -> 14000 | N30: =SUM(L30:M30) -> 0 | O30: =IF(K30=0,"",N30/K30*100) -> 0
F31: 613700 | H31: Izdaci za tekuće održavanje | I31: 4000 | J31: 0 | K31: =SUM(I31:J31) -> 4000 | N31: =SUM(L31:M31) -> 0 | O31: =IF(K31=0,"",N31/K31*100) -> 0
F32: 613800 | H32: Izdaci osiguranja, bank. usluga i usluga p.p. | I32: 400 | J32: 0 | K32: =SUM(I32:J32) -> 400 | N32: =SUM(L32:M32) -> 0 | O32: =IF(K32=0,"",N32/K32*100) -> 0
F33: 613900 | H33: Ugovorene i druge posebne usluge | I33: 240070 | J33: 50000 | K33: =SUM(I33:J33) -> 290070 | N33: =SUM(L33:M33) -> 0 | O33: =IF(K33=0,"",N33/K33*100) -> 0
F34: 613900 | G34: BA6017 | H34: Ugovorene i dr. posebne usluge-volonteri | I34: 10000 | J34: 0 | K34: =SUM(I34:J34) -> 10000 | N34: =SUM(L34:M34) -> 0 | O34: =IF(K34=0,"",N34/K34*100) -> 0
F35: 613900 | G35: BA6021 | H35: Ugovorene i dr. posebne usluge-sufinanc.prijema vježbenika | I35: 90000 | J35: 0 | K35: =SUM(I35:J35) -> 90000 | N35: =SUM(L35:M35) -> 0 | O35: =IF(K35=0,"",N35/K35*100) -> 0
O36: =IF(K36=0,"",N36/K36*100)
F37: 614000 | H37: Tekući grantovi i drugi tekući rashodi | I37: =SUM(I38:I43) -> 1412050 | J37: =SUM(J38:J43) -> 0 | K37: =SUM(K38:K43) -> 1412050 | L37: =SUM(L38:L43) -> 0 | M37: =SUM(M38:M43) -> 0 | N37: =SUM(N38:N43) -> 0 | O37: =IF(K37=0,"",N37/K37*100) -> 0
F38: 614100 | G38: BA6014 | H38: Grant za Sveučilište u Mostaru | I38: 942050 | J38: 0 | K38: =SUM(I38:J38) -> 942050 | N38: =SUM(L38:M38) -> 0 | O38: =IF(K38=0,"",N38/K38*100) -> 0
F39: 614300 | G39: BA6001 | H39: Grant neprofitnim organizacijama i udrugama građana | I39: 100000 | J39: 0 | K39: =SUM(I39:J39) -> 100000 | N39: =SUM(L39:M39) -> 0 | O39: =IF(K39=0,"",N39/K39*100) -> 0
F40: 614300 | G40: BA6008 | H40: Grant za Crveni križ Županije Posavske | I40: 40000 | J40: 0 | K40: =SUM(I40:J40) -> 40000 | N40: =SUM(L40:M40) -> 0 | O40: =IF(K40=0,"",N40/K40*100) -> 0
F41: 614300 | G41: BA6007 | H41: Grant za Gospodarsku komoru ŽP | I41: 40000 | J41: 0 | K41: =SUM(I41:J41) -> 40000 | N41: =SUM(L41:M41) -> 0 | O41: =IF(K41=0,"",N41/K41*100) -> 0
F42: 614300 | G42: BA6019 | H42: Grant političkim strankama | I42: 150000 | J42: 0 | K42: =SUM(I42:J42) -> 150000 | N42: =SUM(L42:M42) -> 0 | O42: =IF(K42=0,"",N42/K42*100) -> 0
...

Sheet 12
B1: ZAHTJEV ZA IZMJENE I DOPUNE PRORAČUNA ZA 2026. GODINU
M2: Datum zahtjeva:
B3: NAZIV RAZDJELA: | F3: ZAJEDNIČKA SLUŽBA VLADE ŽUPANIJE POSAVSKE
B5: RAZDJEL: | D5: 12
B7: Ministarstvo (razdjel) | C7: Proračunska institucija | D7: Potrošačka jedinica | E7: Funkcija | F7: Ekon. kod | G7: Subanalitika | H7: OPIS | I7: PRORAČUN za 2026./ (poveć./smanj.) | L7: ZAHTJEV za Izmjene i dopune Proračuna za 2026. | O7: INDEKS
I8: iz prorač. sredstava | J8: iz ostalih izvora | K8: UKUPNO | L8: iz prorač. sredstava | M8: iz ostalih izvora | N8: UKUPNO
B9: 1 | C9: 2 | D9: 3 | E9: 4 | F9: 5 | G9: 6 | H9: 7 | I9: 8 | J9: 9 | K9: 10=8+9 | L9: 11 | M9: 12 | N9: 13=11+12 | O9: 14=13/10
B10: 12 | C10: 01 | D10: 0001 | E10: 0133 | H10: ZAJEDNIČKA SLUŽBA VLADE ŽP | O10: =IF(K10=0,"",N10/K10*100)
F11: 611000 | H11: Plaće i naknade troškova zaposlenih | I11: =I12+I13 -> 657720 | J11: =SUM(J12:J14) -> 0 | K11: =SUM(K12:K14) -> 657720 | L11: =SUM(L12:L14) -> 0 | M11: =SUM(M12:M14) -> 0 | N11: =SUM(N12:N14) -> 0 | O11: =IF(K11=0,"",N11/K11*100) -> 0
F12: 611100 | H12: Bruto plaće i naknade plaća | I12: =528750-16200+1820+730+29800 -> 544900 | J12: 0 | K12: =SUM(I12:J12) -> 544900 | N12: =SUM(L12:M12) -> 0 | O12: =IF(K12=0,"",N12/K12*100) -> 0
F13: 611200 | H13: Naknade troškova zaposlenih | I13: =112230-850-4230+4050+1620 -> 112820 | J13: 0 | K13: =SUM(I13:J13) -> 112820 | N13: =SUM(L13:M13) -> 0 | O13: =IF(K13=0,"",N13/K13*100) -> 0
O14: =IF(K14=0,"",N14/K14*100)
F15: 612000 | H15: Doprinosi poslodavca i ostali doprinosi | I15: =I16 -> 27300 | J15: =J16 -> 0 | K15: =K16 -> 27300 | L15: =L16 -> 0 | M15: =M16 -> 0 | N15: =N16 -> 0 | O15: =IF(K15=0,"",N15/K15*100) -> 0
F16: 612100 | H16: Doprinosi poslodavca | I16: =26290-820+300+120+1410 -> 27300 | J16: 0 | K16: =SUM(I16:J16) -> 27300 | N16: =SUM(L16:M16) -> 0 | O16: =IF(K16=0,"",N16/K16*100) -> 0
O17: =IF(K17=0,"",N17/K17*100)
F18: 613000 | H18: Izdaci za materijal, sitan inv. i usluge | I18: =SUM(I19:I27) -> 499000 | J18: =SUM(J19:J27) -> 0 | K18: =SUM(K19:K27) -> 499000 | L18: =SUM(L19:L27) -> 0 | M18: =SUM(M19:M27) -> 0 | N18: =SUM(N19:N27) -> 0 | O18: =IF(K18=0,"",N18/K18*100) -> 0
F19: 613100 | H19: Putni troškovi | I19: 13000 | J19: 0 | K19: =SUM(I19:J19) -> 13000 | N19: =SUM(L19:M19) -> 0 | O19: =IF(K19=0,"",N19/K19*100) -> 0
F20: 613200 | H20: Izdaci za energiju | I20: 95000 | J20: 0 | K20: =SUM(I20:J20) -> 95000 | N20: =SUM(L20:M20) -> 0 | O20: =IF(K20=0,"",N20/K20*100) -> 0
F21: 613300 | H21: Izdaci za komunikaciju i komunalne usluge | I21: 60000 | J21: 0 | K21: =SUM(I21:J21) -> 60000 | N21: =SUM(L21:M21) -> 0 | O21: =IF(K21=0,"",N21/K21*100) -> 0
F22: 613400 | H22: Nabavka materijala i sitnog inventara | I22: 105000 | J22: 0 | K22: =SUM(I22:J22) -> 105000 | N22: =SUM(L22:M22) -> 0 | O22: =IF(K22=0,"",N22/K22*100) -> 0
F23: 613500 | H23: Izdaci za usluge prijevoza i goriva | I23: 80000 | J23: 0 | K23: =SUM(I23:J23) -> 80000 | N23: =SUM(L23:M23) -> 0 | O23: =IF(K23=0,"",N23/K23*100) -> 0
F24: 613600 | H24: Unajmljivanje imovine, opreme i nemat.imovine | I24: 0 | J24: 0 | K24: =SUM(I24:J24) -> 0 | N24: =SUM(L24:M24) -> 0 | O24: =IF(K24=0,"",N24/K24*100)
F25: 613700 | H25: Izdaci za tekuće održavanje | I25: 40000 | J25: 0 | K25: =SUM(I25:J25) -> 40000 | N25: =SUM(L25:M25) -> 0 | O25: =IF(K25=0,"",N25/K25*100) -> 0
F26: 613800 | H26: Izdaci osiguranja, bank. usluga i usluga p.p. | I26: 16000 | J26: 0 | K26: =SUM(I26:J26) -> 16000 | N26: =SUM(L26:M26) -> 0 | O26: =IF(K26=0,"",N26/K26*100) -> 0
F27: 613900 | H27: Ugovorene i druge posebne usluge | I27: 90000 | J27: 0 | K27: =SUM(I27:J27) -> 90000 | N27: =SUM(L27:M27) -> 0 | O27: =IF(K27=0,"",N27/K27*100) -> 0
O28: =IF(K28=0,"",N28/K28*100)
F29: 821000 | H29: Izdaci za nabavku stalnih sredstava | I29: =SUM(I30:I31) -> 24000 | J29: =SUM(J30:J31) -> 0 | K29: =SUM(K30:K31) -> 24000 | L29: =SUM(L30:L31) -> 0 | M29: =SUM(M30:M31) -> 0 | N29: =SUM(N30:N31) -> 0 | O29: =IF(K29=0,"",N29/K29*100) -> 0
F30: 821200 | H30: Nabavka građevina | I30: 0 | J30: 0 | K30: =SUM(I30:J30) -> 0 | N30: =SUM(L30:M30) -> 0 | O30: =IF(K30=0,"",N30/K30*100)
F31: 821300 | H31: Nabavka opreme | I31: 24000 | J31: 0 | K31: =SUM(I31:J31) -> 24000 | N31: =SUM(L31:M31) -> 0 | O31: =IF(K31=0,"",N31/K31*100) -> 0
O32: =IF(K32=0,"",N32/K32*100)
H33: Ukupan broj zaposlenih: | I33: 20 | K33: 20
H34: Ukupno za potrošačku jedinicu: | I34: =I11+I15+I18+I29 -> 1208020 | J34: =J11+J15+J18+J29 -> 0 | K34: =K11+K15+K18+K29 -> 1208020 | L34: =L11+L15+L18+L29 -> 0 | M34: =M11+M15+M18+M29 -> 0 | N34: =N11+N15+N18+N29 -> 0 | O34: =IF(K34=0,"",N34/K34*100) -> 0
H35: Ukupno za proračunsku instituciju: | I35: =I34 -> 1208020 | J35: =J34 -> 0 | K35: =K34 -> 1208020 | L35: =L34 -> 0 | M35: =M34 -> 0 | N35: =N34 -> 0 | O35: =IF(K35=0,"",N35/K35*100) -> 0
H36: Ukupno za ministarstvo (razdjel): | I36: =I35 -> 1208020 | J36: =J35 -> 0 | K36: =K35 -> 1208020 | L36: =L35 -> 0 | M36: =M35 -> 0 | N36: =N35 -> 0 | O36: =IF(K36=0,"",N36/K36*100) -> 0
O38: =IF(K38=0,"",N38/K38*100)

Sheet 13
B1: ZAHTJEV ZA IZMJENE I DOPUNE PRORAČUNA ZA 2026. GODINU
M2: Datum zahtjeva:
B3: NAZIV RAZDJELA: | F3: MINISTARSTVO UNUTARNJIH POSLOVA ŽUPANIJE POSAVSKE
B5: RAZDJEL: | D5: 13
B7: Ministarstvo (razdjel) | C7: Proračunska institucija | D7: Potrošačka jedinica | E7: Funkcija | F7: Ekon. kod | G7: Subanalitika | H7: OPIS | I7: PRORAČUN za 2026./ (poveć./smanj.) | L7: ZAHTJEV za Izmjene i dopune Proračuna za 2026. | O7: INDEKS
I8: iz prorač. sredstava | J8: iz ostalih izvora | K8: UKUPNO | L8: iz prorač. sredstava | M8: iz ostalih izvora | N8: UKUPNO
B9: 1 | C9: 2 | D9: 3 | E9: 4 | F9: 5 | G9: 6 | H9: 7 | I9: 8 | J9: 9 | K9: 10=8+9 | L9: 11 | M9: 12 | N9: 13=11+12 | O9: 14=13/10
B10: 13 | C10: 01 | D10: 0001 | E10: 0310 | H10: MINISTARSTVO UNUTARNJIH POSLOVA ŽP | O10: =IF(K10=0,"",N10/K10*100)
F11: 611000 | H11: Plaće i naknade troškova zaposlenih | I11: =I12+I13 -> 9146370 | J11: =SUM(J12:J14) -> 0 | K11: =SUM(K12:K14) -> 9146370 | L11: =SUM(L12:L14) -> 0 | M11: =SUM(M12:M14) -> 0 | N11: =SUM(N12:N14) -> 0 | O11: =IF(K11=0,"",N11/K11*100) -> 0
F12: 611100 | H12: Bruto plaće i naknade plaća | I12: =7249000+10*730+1280+14*1820+31010+11890+413150 -> 7739110 | J12: 0 | K12: =SUM(I12:J12) -> 7739110 | N12: =SUM(L12:M12) -> 0 | O12: =IF(K12=0,"",N12/K12*100) -> 0
F13: 611200 | H13: Naknade troškova zaposlenih | I13: =1195400+10*1620+2840+14*4050+136120 -> 1407260 | J13: 0 | K13: =SUM(I13:J13) -> 1407260 | N13: =SUM(L13:M13) -> 0 | O13: =IF(K13=0,"",N13/K13*100) -> 0
O14: =IF(K14=0,"",N14/K14*100)
F15: 612000 | H15: Doprinosi poslodavca i ostali doprinosi | I15: =I16+I17+I18 -> 757160 | J15: =J16+J17 -> 0 | K15: =K16+K17 -> 757160 | L15: =L16+L17 -> 0 | M15: =M16+M17 -> 0 | N15: =N16+N17 -> 0 | O15: =IF(K15=0,"",N15/K15*100) -> 0
F16: 612100 | H16: Doprinosi poslodavca | I16: 753660 | J16: 0 | K16: =SUM(I16:J16) -> 753660 | N16: =SUM(L16:M16) -> 0 | O16: =IF(K16=0,"",N16/K16*100) -> 0
F17: 612100 | G17: DA6002 | H17: Ostali doprinosi iz ranijih razdoblja | I17: 3500 | J17: 0 | K17: =SUM(I17:J17) -> 3500 | N17: =SUM(L17:M17) -> 0 | O17: =IF(K17=0,"",N17/K17*100) -> 0
O18: =IF(K18=0,"",N18/K18*100)
F19: 613000 | H19: Izdaci za materijal, sitan inv. i usluge | I19: =SUM(I20:I28) -> 1216500 | J19: =SUM(J20:J28) -> 0 | K19: =SUM(K20:K28) -> 1216500 | L19: =SUM(L20:L28) -> 0 | M19: =SUM(M20:M28) -> 0 | N19: =SUM(N20:N28) -> 0 | O19: =IF(K19=0,"",N19/K19*100) -> 0
F20: 613100 | H20: Putni troškovi | I20: 17000 | J20: 0 | K20: =SUM(I20:J20) -> 17000 | N20: =SUM(L20:M20) -> 0 | O20: =IF(K20=0,"",N20/K20*100) -> 0
F21: 613200 | H21: Izdaci za energiju | I21: 95000 | J21: 0 | K21: =SUM(I21:J21) -> 95000 | N21: =SUM(L21:M21) -> 0 | O21: =IF(K21=0,"",N21/K21*100) -> 0
F22: 613300 | H22: Izdaci za komunikaciju i komunalne usluge | I22: 82000 | J22: 0 | K22: =SUM(I22:J22) -> 82000 | N22: =SUM(L22:M22) -> 0 | O22: =IF(K22=0,"",N22/K22*100) -> 0
F23: 613400 | H23: Nabavka materijala i sitnog inventara | I23: 448000 | J23: 0 | K23: =SUM(I23:J23) -> 448000 | N23: =SUM(L23:M23) -> 0 | O23: =IF(K23=0,"",N23/K23*100) -> 0
F24: 613500 | H24: Izdaci za usluge prijevoza i goriva | I24: 132000 | J24: 0 | K24: =SUM(I24:J24) -> 132000 | N24: =SUM(L24:M24) -> 0 | O24: =IF(K24=0,"",N24/K24*100) -> 0
F25: 613600 | H25: Unajmljivanje imovine, opreme i nemat.imovine | I25: 0 | J25: 0 | K25: =SUM(I25:J25) -> 0 | N25: =SUM(L25:M25) -> 0 | O25: =IF(K25=0,"",N25/K25*100)
F26: 613700 | H26: Izdaci za tekuće održavanje | I26: 130000 | J26: 0 | K26: =SUM(I26:J26) -> 130000 | N26: =SUM(L26:M26) -> 0 | O26: =IF(K26=0,"",N26/K26*100) -> 0
F27: 613800 | H27: Izdaci osiguranja, bank. usluga i usluga p.p. | I27: 39000 | J27: 0 | K27: =SUM(I27:J27) -> 39000 | N27: =SUM(L27:M27) -> 0 | O27: =IF(K27=0,"",N27/K27*100) -> 0
F28: 613900 | H28: Ugovorene i druge posebne usluge | I28: 273500 | J28: 0 | K28: =SUM(I28:J28) -> 273500 | N28: =SUM(L28:M28) -> 0 | O28: =IF(K28=0,"",N28/K28*100) -> 0
O29: =IF(K29=0,"",N29/K29*100)
F30: 821000 | H30: Izdaci za nabavku stalnih sredstava | I30: =SUM(I31:I32) -> 530000 | J30: =SUM(J31:J32) -> 0 | K30: =SUM(K31:K32) -> 530000 | L30: =SUM(L31:L32) -> 0 | M30: =SUM(M31:M32) -> 0 | N30: =SUM(N31:N32) -> 0 | O30: =IF(K30=0,"",N30/K30*100) -> 0
F31: 821200 | H31: Nabavka građevina | I31: 30000 | J31: 0 | K31: =SUM(I31:J31) -> 30000 | N31: =SUM(L31:M31) -> 0 | O31: =IF(K31=0,"",N31/K31*100) -> 0
F32: 821300 | H32: Nabavka opreme | I32: 500000 | J32: 0 | K32: =SUM(I32:J32) -> 500000 | N32: =SUM(L32:M32) -> 0 | O32: =IF(K32=0,"",N32/K32*100) -> 0
O33: =IF(K33=0,"",N33/K33*100)
H34: Ukupan broj zaposlenih: | I34: 204 (205) | K34: 204 (205)
H35: Ukupno za potrošačku jedinicu: | I35: =I11+I15+I19+I30 -> 11650030 | J35: =J11+J15+J19+J30 -> 0 | K35: =K11+K15+K19+K30 -> 11650030 | L35: =L11+L15+L19+L30 -> 0 | M35: =M11+M15+M19+M30 -> 0 | N35: =N11+N15+N19+N30 -> 0 | O35: =IF(K35=0,"",N35/K35*100) -> 0
H36: Ukupno za proračunsku instituciju: | I36: =I35 -> 11650030 | J36: =J35 -> 0 | K36: =K35 -> 11650030 | L36: =L35 -> 0 | M36: =M35 -> 0 | N36: =N35 -> 0 | O36: =IF(K36=0,"",N36/K36*100) -> 0
H37: Ukupno za ministarstvo (razdjel): | I37: =I36 -> 11650030 | J37: =J36 -> 0 | K37: =K36 -> 11650030 | L37: =L36 -> 0 | M37: =M36 -> 0 | N37: =N36 -> 0 | O37: =IF(K37=0,"",N37/K37*100) -> 0
O39: =IF(K39=0,"",N39/K39*100)

Sheet 14
B1: ZAHTJEV ZA IZMJENE I DOPUNE PRORAČUNA ZA 2026. GODINU
M2: Datum zahtjeva:
B3: NAZIV RAZDJELA: | F3: MINISTARSTVO PRAVOSUĐA I UPRAVE ŽUPANIJE POSAVSKE
B5: RAZDJEL: | D5: 14
B7: Ministarstvo (razdjel) | C7: Proračunska institucija | D7: Potrošačka jedinica | E7: Funkcija | F7: Ekon. kod | G7: Subanalitika | H7: OPIS | I7: PRORAČUN za 2026./ (poveć./smanj.) | L7: ZAHTJEV za Izmjene i dopune Proračuna za 2026. | O7: INDEKS
I8: iz prorač. sredstava | J8: iz ostalih izvora | K8: UKUPNO | L8: iz prorač. sredstava | M8: iz ostalih izvora | N8: UKUPNO
B9: 1 | C9: 2 | D9: 3 | E9: 4 | F9: 5 | G9: 6 | H9: 7 | I9: 8 | J9: 9 | K9: 10=8+9 | L9: 11 | M9: 12 | N9: 13=11+12 | O9: 14=13/10
B10: 14 | C10: 01 | D10: 0001 | E10: 0360 | H10: MINISTARSTVO PRAVOSUĐA I UPRAVE ŽP | O10: =IF(K10=0,"",N10/K10*100)
F11: 611000 | H11: Plaće i naknade troškova zaposlenih | I11: =SUM(I12:I14) -> 315030 | J11: =SUM(J12:J14) -> 0 | K11: =SUM(K12:K14) -> 315030 | L11: =SUM(L12:L14) -> 0 | M11: =SUM(M12:M14) -> 0 | N11: =SUM(N12:N14) -> 0 | O11: =IF(K11=0,"",N11/K11*100) -> 0
F12: 611100 | H12: Bruto plaće i naknade plaća | I12: =239020+730+7*1800+13630 -> 265980 | J12: 0 | K12: =SUM(I12:J12) -> 265980 | N12: =SUM(L12:M12) -> 0 | O12: =IF(K12=0,"",N12/K12*100) -> 0
F13: 611200 | H13: Naknade troškova zaposlenih | I13: =43050+1620+850+3530 -> 49050 | J13: 0 | K13: =SUM(I13:J13) -> 49050 | N13: =SUM(L13:M13) -> 0 | O13: =IF(K13=0,"",N13/K13*100) -> 0
O14: =IF(K14=0,"",N14/K14*100)
F15: 612000 | H15: Doprinosi poslodavca i ostali doprinosi | I15: =I16 -> 13300 | J15: =J16 -> 0 | K15: =K16 -> 13300 | L15: =L16 -> 0 | M15: =M16 -> 0 | N15: =N16 -> 0 | O15: =IF(K15=0,"",N15/K15*100) -> 0
F16: 612100 | H16: Doprinosi poslodavca | I16: =11870+120+7*90+680 -> 13300 | J16: 0 | K16: =SUM(I16:J16) -> 13300 | N16: =SUM(L16:M16) -> 0 | O16: =IF(K16=0,"",N16/K16*100) -> 0
O17: =IF(K17=0,"",N17/K17*100)
F18: 613000 | H18: Izdaci za materijal, sitan inv. i usluge | I18: =SUM(I19:I29) -> 238800 | J18: =SUM(J19:J29) -> 0 | K18: =SUM(K19:K29) -> 238800 | L18: =SUM(L19:L29) -> 0 | M18: =SUM(M19:M29) -> 0 | N18: =SUM(N19:N29) -> 0 | O18: =IF(K18=0,"",N18/K18*100) -> 0
F19: 613100 | H19: Putni troškovi | I19: 3500 | J19: 0 | K19: =SUM(I19:J19) -> 3500 | N19: =SUM(L19:M19) -> 0 | O19: =IF(K19=0,"",N19/K19*100) -> 0
F20: 613200 | H20: Izdaci za energiju | I20: 0 | J20: 0 | K20: =SUM(I20:J20) -> 0 | N20: =SUM(L20:M20) -> 0 | O20: =IF(K20=0,"",N20/K20*100)
F21: 613300 | H21: Izdaci za komunikaciju i komunalne usluge | I21: 2800 | J21: 0 | K21: =SUM(I21:J21) -> 2800 | N21: =SUM(L21:M21) -> 0 | O21: =IF(K21=0,"",N21/K21*100) -> 0
F22: 613400 | H22: Nabavka materijala i sitnog inventara | I22: 3000 | J22: 0 | K22: =SUM(I22:J22) -> 3000 | N22: =SUM(L22:M22) -> 0 | O22: =IF(K22=0,"",N22/K22*100) -> 0
F23: 613500 | H23: Izdaci za usluge prijevoza i goriva | I23: 0 | J23: 0 | K23: =SUM(I23:J23) -> 0 | N23: =SUM(L23:M23) -> 0 | O23: =IF(K23=0,"",N23/K23*100)
F24: 613600 | H24: Unajmljivanje imovine, opreme i nemat.imovine | I24: 0 | J24: 0 | K24: =SUM(I24:J24) -> 0 | N24: =SUM(L24:M24) -> 0 | O24: =IF(K24=0,"",N24/K24*100)
F25: 613700 | H25: Izdaci za tekuće održavanje | I25: 5000 | J25: 0 | K25: =SUM(I25:J25) -> 5000 | N25: =SUM(L25:M25) -> 0 | O25: =IF(K25=0,"",N25/K25*100) -> 0
F26: 613800 | H26: Izdaci osiguranja, bank. usluga i usluga p.p. | I26: 0 | J26: 0 | K26: =SUM(I26:J26) -> 0 | N26: =SUM(L26:M26) -> 0 | O26: =IF(K26=0,"",N26/K26*100)
F27: 613900 | H27: Ugovorene i druge posebne usluge | I27: 30000 | J27: 0 | K27: =SUM(I27:J27) -> 30000 | N27: =SUM(L27:M27) -> 0 | O27: =IF(K27=0,"",N27/K27*100) -> 0
F28: 613900 | G28: EA6001 | H28: Povjerenstva po Zakonu o drž.službenicima i namještenic. | I28: 44500 | J28: 0 | K28: =SUM(I28:J28) -> 44500 | N28: =SUM(L28:M28) -> 0 | O28: =IF(K28=0,"",N28/K28*100) -> 0
F29: 613900 | G29: EA6002 | H29: Ugovorene i dr.pos.usluge - troškovi izvršenja mjere pritvora | I29: 150000 | J29: 0 | K29: =SUM(I29:J29) -> 150000 | N29: =SUM(L29:M29) -> 0 | O29: =IF(K29=0,"",N29/K29*100) -> 0
O30: =IF(K30=0,"",N30/K30*100)
F31: 821000 | H31: Izdaci za nabavku stalnih sredstava | I31: =SUM(I32:I33) -> 5000 | J31: =SUM(J32:J33) -> 0 | K31: =SUM(K32:K33) -> 5000 | L31: =SUM(L32:L33) -> 0 | M31: =SUM(M32:M33) -> 0 | N31: =SUM(N32:N33) -> 0 | O31: =IF(K31=0,"",N31/K31*100) -> 0
F32: 821200 | H32: Nabavka građevina | I32: 0 | J32: 0 | K32: =SUM(I32:J32) -> 0 | N32: =SUM(L32:M32) -> 0 | O32: =IF(K32=0,"",N32/K32*100)
F33: 821300 | H33: Nabavka opreme | I33: 5000 | J33: 0 | K33: =SUM(I33:J33) -> 5000 | N33: =SUM(L33:M33) -> 0 | O33: =IF(K33=0,"",N33/K33*100) -> 0
O34: =IF(K34=0,"",N34/K34*100)
H35: Ukupan broj zaposlenih: | I35: 7 (8) | K35: 7 (8)
H36: Ukupno za potrošačku jedinicu: | I36: =I11+I15+I18+I31 -> 572130 | J36: =J11+J15+J18+J31 -> 0 | K36: =K11+K15+K18+K31 -> 572130 | L36: =L11+L15+L18+L31 -> 0 | M36: =M11+M15+M18+M31 -> 0 | N36: =N11+N15+N18+N31 -> 0 | O36: =IF(K36=0,"",N36/K36*100) -> 0
H37: Ukupno za proračunsku instituciju: | I37: =I36 -> 572130 | J37: =J36 -> 0 | K37: =K36 -> 572130 | L37: =L36 -> 0 | M37: =M36 -> 0 | N37: =N36 -> 0 | O37: =IF(K37=0,"",N37/K37*100) -> 0
H38: Ukupno za ministarstvo (razdjel): | I38: =I36+I67+I96+I125+I154+I183 -> 3531480 | J38: =J36+J67+J96+J125+J154+J183 -> 0 | K38: =K36+K67+K96+K125+K154+K183 -> 3531480 | L38: =L36+L67+L96+L125+L154+L183 -> 0 | M38: =M36+M67+M96+M125+M154+M183 -> 0 | N38: =N36+N67+N96+N125+N154+N183 -> 0 | O38: =IF(K38=0,"",N38/K38*100) -> 0
O40: =IF(K40=0,"",N40/K40*100)
B41: 14 | C41: 02 | D41: 0003 | E41: 0330 | H41: OPĆINSKI SUD U ORAŠJU | O41: =IF(K41=0,"",N41/K41*100)
F42: 611000 | H42: Plaće i naknade troškova zaposlenih | I42: =SUM(I43:I45) -> 1949310 | J42: =SUM(J43:J45) -> 0 | K42: =SUM(K43:K45) -> 1949310 | L42: =SUM(L43:L45) -> 0 | M42: =SUM(M43:M45) -> 0 | N42: =SUM(N43:N45) -> 0 | O42: =IF(K42=0,"",N42/K42*100) -> 0
F43: 611100 | H43: Bruto plaće i naknade plaća | I43: =1526200+730+4*1820+10*6100+86990 -> 1682200 | J43: 0 | K43: =SUM(I43:J43) -> 1682200 | N43: =SUM(L43:M43) -> 0 | O43: =IF(K43=0,"",N43/K43*100) -> 0
...

Sheet 15
B1: ZAHTJEV ZA IZMJENE I DOPUNE PRORAČUNA ZA 2026. GODINU
M2: Datum zahtjeva:
B3: NAZIV RAZDJELA: | F3: MINISTARSTVO GOSPODARSTVA, RADA I PROSTORNOG UREĐENJA ŽUPANIJE POSAVSKE
B5: RAZDJEL: | D5: 15
B7: Ministarstvo (razdjel) | C7: Proračunska institucija | D7: Potrošačka jedinica | E7: Funkcija | F7: Ekon. kod | G7: Subanalitika | H7: OPIS | I7: PRORAČUN za 2026./ (poveć./smanj.) | L7: ZAHTJEV za Izmjene i dopune Proračuna za 2026. | O7: INDEKS
I8: iz prorač. sredstava | J8: iz ostalih izvora | K8: UKUPNO | L8: iz prorač. sredstava | M8: iz ostalih izvora | N8: UKUPNO
B9: 1 | C9: 2 | D9: 3 | E9: 4 | F9: 5 | G9: 6 | H9: 7 | I9: 8 | J9: 9 | K9: 10=8+9 | L9: 11 | M9: 12 | N9: 13=11+12 | O9: 14=13/10
B10: 15 | C10: 01 | D10: 0001 | E10: 0490 | H10: MINIST.GOSPODARSTVA, RADA I PROST.UREĐENJA | O10: =IF(K10=0,"",N10/K10*100)
F11: 611000 | H11: Plaće i naknade troškova zaposlenih | I11: =SUM(I12:I13) -> 522540 | J11: =SUM(J12:J13) -> 0 | K11: =SUM(K12:K13) -> 522540 | L11: =SUM(L12:L13) -> 0 | M11: =SUM(M12:M13) -> 0 | N11: =SUM(N12:N13) -> 0 | O11: =IF(K11=0,"",N11/K11*100) -> 0
F12: 611100 | H12: Bruto plaće i naknade plaća | I12: 448900 | J12: 0 | K12: =SUM(I12:J12) -> 448900 | N12: =SUM(L12:M12) -> 0 | O12: =IF(K12=0,"",N12/K12*100) -> 0
F13: 611200 | H13: Naknade troškova zaposlenih | I13: 73640 | J13: 0 | K13: =SUM(I13:J13) -> 73640 | N13: =SUM(L13:M13) -> 0 | O13: =IF(K13=0,"",N13/K13*100) -> 0
O14: =IF(K14=0,"",N14/K14*100)
F15: 612000 | H15: Doprinosi poslodavca i ostali doprinosi | I15: =I16 -> 21980 | J15: =J16 -> 0 | K15: =K16 -> 21980 | L15: =L16 -> 0 | M15: =M16 -> 0 | N15: =N16 -> 0 | O15: =IF(K15=0,"",N15/K15*100) -> 0
F16: 612100 | H16: Doprinosi poslodavca | I16: 21980 | J16: 0 | K16: =SUM(I16:J16) -> 21980 | N16: =SUM(L16:M16) -> 0 | O16: =IF(K16=0,"",N16/K16*100) -> 0
O17: =IF(K17=0,"",N17/K17*100)
F18: 613000 | H18: Izdaci za materijal, sitan inv. i usluge | I18: =SUM(I19:I28) -> 50600 | J18: =SUM(J19:J28) -> 0 | K18: =SUM(K19:K28) -> 50600 | L18: =SUM(L19:L28) -> 0 | M18: =SUM(M19:M28) -> 0 | N18: =SUM(N19:N28) -> 0 | O18: =IF(K18=0,"",N18/K18*100) -> 0
F19: 613100 | H19: Putni troškovi | I19: 4500 | J19: 0 | K19: =SUM(I19:J19) -> 4500 | N19: =SUM(L19:M19) -> 0 | O19: =IF(K19=0,"",N19/K19*100) -> 0
F20: 613200 | H20: Izdaci za energiju | I20: 0 | J20: 0 | K20: =SUM(I20:J20) -> 0 | N20: =SUM(L20:M20) -> 0 | O20: =IF(K20=0,"",N20/K20*100)
F21: 613300 | H21: Izdaci za komunikaciju i komunalne usluge | I21: 4000 | J21: 0 | K21: =SUM(I21:J21) -> 4000 | N21: =SUM(L21:M21) -> 0 | O21: =IF(K21=0,"",N21/K21*100) -> 0
F22: 613400 | H22: Nabavka materijala i sitnog inventara | I22: 100 | J22: 0 | K22: =SUM(I22:J22) -> 100 | N22: =SUM(L22:M22) -> 0 | O22: =IF(K22=0,"",N22/K22*100) -> 0
F23: 613500 | H23: Izdaci za usluge prijevoza i goriva | I23: 0 | J23: 0 | K23: =SUM(I23:J23) -> 0 | N23: =SUM(L23:M23) -> 0 | O23: =IF(K23=0,"",N23/K23*100)
F24: 613600 | H24: Unajmljivanje imovine, opreme i nemat.imovine | I24: 0 | J24: 0 | K24: =SUM(I24:J24) -> 0 | N24: =SUM(L24:M24) -> 0 | O24: =IF(K24=0,"",N24/K24*100)
F25: 613700 | H25: Izdaci za tekuće održavanje | I25: 1000 | J25: 0 | K25: =SUM(I25:J25) -> 1000 | N25: =SUM(L25:M25) -> 0 | O25: =IF(K25=0,"",N25/K25*100) -> 0
F26: 613800 | H26: Izdaci osiguranja, bank. usluga i usluga p.p. | I26: 0 | J26: 0 | K26: =SUM(I26:J26) -> 0 | N26: =SUM(L26:M26) -> 0 | O26: =IF(K26=0,"",N26/K26*100)
F27: 613900 | H27: Ugovorene i druge posebne usluge | I27: 41000 | J27: 0 | K27: =SUM(I27:J27) -> 41000 | N27: =SUM(L27:M27) -> 0 | O27: =IF(K27=0,"",N27/K27*100) -> 0
F28: 613900 | G28: FA6002 | H28: Ugovorene i druge posebne usluge-prostorni plan | I28: 0 | J28: 0 | K28: =SUM(I28:J28) -> 0 | N28: =SUM(L28:M28) -> 0 | O28: =IF(K28=0,"",N28/K28*100)
O29: =IF(K29=0,"",N29/K29*100)
F30: 614000 | H30: Tekući grantovi i drugi tekući rashodi | I30: =SUM(I31:I32) -> 1590000 | J30: =SUM(J31:J32) -> 0 | K30: =SUM(K31:K32) -> 1590000 | L30: =SUM(L31:L32) -> 0 | M30: =SUM(M31:M32) -> 0 | N30: =SUM(N31:N32) -> 0 | O30: =IF(K30=0,"",N30/K30*100) -> 0
F31: 614100 | G31: FA6003 | H31: Grant za razvoj turizma | I31: 90000 | J31: 0 | K31: =SUM(I31:J31) -> 90000 | N31: =SUM(L31:M31) -> 0 | O31: =IF(K31=0,"",N31/K31*100) -> 0
F32: 614500 | G32: FA6001 | H32: Grant za razvoj poduzetništva, obrta i zadruga | I32: 1500000 | J32: 0 | K32: =SUM(I32:J32) -> 1500000 | N32: =SUM(L32:M32) -> 0 | O32: =IF(K32=0,"",N32/K32*100) -> 0
O33: =IF(K33=0,"",N33/K33*100)
F34: 615000 | H34: Kapitalni grantovi | I34: =I35+I36 -> 800000 | J34: =J35+J36 -> 500000 | K34: =K35+K36 -> 1300000 | L34: =L35+L36 -> 0 | M34: =M35+M36 -> 0 | N34: =N35+N36 -> 0 | O34: =IF(K34=0,"",N34/K34*100) -> 0
F35: 615100 | G35: FA6005 | H35: Kapitalni grant jedinicama lokalne samouprave za razvoj poduzetničke infratsrukture | I35: 0 | J35: 0 | K35: =SUM(I35:J35) -> 0 | N35: =SUM(L35:M35) -> 0 | O35: =IF(K35=0,"",N35/K35*100)
F36: 615500 | G36: FA6004 | H36: Kapitalni grant za razvoj poduzetništva, obrta i zadruga | I36: 800000 | J36: 500000 | K36: =SUM(I36:J36) -> 1300000 | N36: =SUM(L36:M36) -> 0 | O36: =IF(K36=0,"",N36/K36*100) -> 0
O37: =IF(K37=0,"",N37/K37*100)
F38: 821000 | H38: Izdaci za nabavku stalnih sredstava | I38: =SUM(I39:I40) -> 5000 | J38: =SUM(J39:J40) -> 0 | K38: =SUM(K39:K40) -> 5000 | L38: =SUM(L39:L40) -> 0 | M38: =SUM(M39:M40) -> 0 | N38: =SUM(N39:N40) -> 0 | O38: =IF(K38=0,"",N38/K38*100) -> 0
F39: 821200 | H39: Nabavka građevina | I39: 0 | J39: 0 | K39: =SUM(I39:J39) -> 0 | N39: =SUM(L39:M39) -> 0 | O39: =IF(K39=0,"",N39/K39*100)
F40: 821300 | H40: Nabavka opreme | I40: 5000 | J40: 0 | K40: =SUM(I40:J40) -> 5000 | N40: =SUM(L40:M40) -> 0 | O40: =IF(K40=0,"",N40/K40*100) -> 0
O41: =IF(K41=0,"",N41/K41*100)
H42: Ukupan broj zaposlenih: | I42: 12 (13) | K42: 12 (13)
...

Sheet 16
B1: ZAHTJEV ZA IZMJENE I DOPUNE PRORAČUNA ZA 2026. GODINU
M2: Datum zahtjeva:
B3: NAZIV RAZDJELA: | F3: MINISTARSTVO FINANCIJA ŽUPANIJE POSAVSKE
B5: RAZDJEL: | D5: 16
B7: Ministarstvo (razdjel) | C7: Proračunska institucija | D7: Potrošačka jedinica | E7: Funkcija | F7: Ekon. kod | G7: Subanalitika | H7: OPIS | I7: PRORAČUN za 2026./ (poveć./smanj.) | L7: ZAHTJEV za Izmjene i dopune Proračuna za 2026. | O7: INDEKS
I8: iz prorač. sredstava | J8: iz ostalih izvora | K8: UKUPNO | L8: iz prorač. sredstava | M8: iz ostalih izvora | N8: UKUPNO
B9: 1 | C9: 2 | D9: 3 | E9: 4 | F9: 5 | G9: 6 | H9: 7 | I9: 8 | J9: 9 | K9: 10=8+9 | L9: 11 | M9: 12 | N9: 13=11+12 | O9: 14=13/10
B10: 16 | C10: 01 | D10: 0001 | E10: 0112 | H10: MINISTARSTVO FINANCIJA ŽP | O10: =IF(K10=0,"",N10/K10*100)
F11: 600000 | H11: Rashodi - Tekuća pričuva | I11: =I12 -> 20000 | J11: =J12 -> 0 | K11: =K12 -> 20000 | L11: =L12 -> 0 | M11: =M12 -> 0 | N11: =N12 -> 0 | O11: =IF(K11=0,"",N11/K11*100) -> 0
F12: 600000 | H12: Tekuća pričuva ministra financija | I12: 20000 | J12: 0 | K12: =SUM(I12:J12) -> 20000 | M12: 0 | N12: =SUM(L12:M12) -> 0 | O12: =IF(K12=0,"",N12/K12*100) -> 0
O13: =IF(K13=0,"",N13/K13*100)
F14: 611000 | H14: Plaće i naknade troškova zaposlenih | I14: =SUM(I15:I16) -> 790790 | J14: =SUM(J15:J16) -> 0 | K14: =SUM(K15:K16) -> 790790 | L14: =SUM(L15:L16) -> 0 | M14: =SUM(M15:M16) -> 0 | N14: =SUM(N15:N16) -> 0 | O14: =IF(K14=0,"",N14/K14*100) -> 0
F15: 611100 | H15: Bruto plaće i naknade plaća | I15: =584810+12*2300+1280+2*730+1160+7*1800+35000 -> 663910 | J15: 0 | K15: =SUM(I15:J15) -> 663910 | M15: 0 | N15: =SUM(L15:M15) -> 0 | O15: =IF(K15=0,"",N15/K15*100) -> 0
F16: 611200 | H16: Naknade troškova zaposlenih | I16: =96260+850+5300+9000+2840+2*1620+2*1620+850+5300 -> 126880 | J16: 0 | K16: =SUM(I16:J16) -> 126880 | M16: 0 | N16: =SUM(L16:M16) -> 0 | O16: =IF(K16=0,"",N16/K16*100) -> 0
O17: =IF(K17=0,"",N17/K17*100)
F18: 612000 | H18: Doprinosi poslodavca i ostali doprinosi | I18: =I19+I20 -> 33420 | J18: =J19+J20 -> 0 | K18: =K19+K20 -> 33420 | L18: =L19+L20 -> 0 | M18: =M19+M20 -> 0 | N18: =N19+N20 -> 0 | O18: =IF(K18=0,"",N18/K18*100) -> 0
F19: 612100 | H19: Doprinosi poslodavca | I19: =29210+12*120+210+2*120+7*90+1690 -> 33420 | J19: 0 | K19: =SUM(I19:J19) -> 33420 | M19: 0 | N19: =SUM(L19:M19) -> 0 | O19: =IF(K19=0,"",N19/K19*100) -> 0
O20: =IF(K20=0,"",N20/K20*100)
F21: 613000 | H21: Izdaci za materijal, sitan inv. i usluge | I21: =SUM(I22:I31) -> 257300 | J21: =SUM(J22:J31) -> 0 | K21: =SUM(K22:K31) -> 257300 | L21: =SUM(L22:L31) -> 0 | M21: =SUM(M22:M31) -> 0 | N21: =SUM(N22:N31) -> 0 | O21: =IF(K21=0,"",N21/K21*100) -> 0
F22: 613100 | H22: Putni troškovi | I22: 7000 | J22: 0 | K22: =SUM(I22:J22) -> 7000 | N22: =SUM(L22:M22) -> 0 | O22: =IF(K22=0,"",N22/K22*100) -> 0
F23: 613200 | H23: Izdaci za energiju | I23: 0 | J23: 0 | K23: =SUM(I23:J23) -> 0 | N23: =SUM(L23:M23) -> 0 | O23: =IF(K23=0,"",N23/K23*100)
F24: 613300 | H24: Izdaci za komunikaciju i komunalne usluge | I24: 10300 | J24: 0 | K24: =SUM(I24:J24) -> 10300 | N24: =SUM(L24:M24) -> 0 | O24: =IF(K24=0,"",N24/K24*100) -> 0
F25: 613400 | H25: Nabavka materijala i sitnog inventara | I25: 3500 | J25: 0 | K25: =SUM(I25:J25) -> 3500 | N25: =SUM(L25:M25) -> 0 | O25: =IF(K25=0,"",N25/K25*100) -> 0
F26: 613500 | H26: Izdaci za usluge prijevoza i goriva | I26: 0 | J26: 0 | K26: =SUM(I26:J26) -> 0 | N26: =SUM(L26:M26) -> 0 | O26: =IF(K26=0,"",N26/K26*100)
F27: 613600 | H27: Unajmljivanje imovine, opreme i nemat.imovine | I27: 0 | J27: 0 | K27: =SUM(I27:J27) -> 0 | N27: =SUM(L27:M27) -> 0 | O27: =IF(K27=0,"",N27/K27*100)
F28: 613700 | H28: Izdaci za tekuće održavanje | I28: 5000 | J28: 0 | K28: =SUM(I28:J28) -> 5000 | N28: =SUM(L28:M28) -> 0 | O28: =IF(K28=0,"",N28/K28*100) -> 0
F29: 613800 | H29: Izdaci osiguranja, bank. usluga i usluga p.p. | I29: 15500 | J29: 0 | K29: =SUM(I29:J29) -> 15500 | N29: =SUM(L29:M29) -> 0 | O29: =IF(K29=0,"",N29/K29*100) -> 0
F30: 613900 | H30: Ugovorene i druge posebne usluge | I30: 21000 | J30: 0 | K30: =SUM(I30:J30) -> 21000 | N30: =SUM(L30:M30) -> 0 | O30: =IF(K30=0,"",N30/K30*100) -> 0
F31: 613900 | G31: GA6003 | H31: Potpora riznici | I31: 195000 | J31: 0 | K31: =SUM(I31:J31) -> 195000 | N31: =SUM(L31:M31) -> 0 | O31: =IF(K31=0,"",N31/K31*100) -> 0
O32: =IF(K32=0,"",N32/K32*100)
F33: 614000 | H33: Tekući grantovi i drugi tekući rashodi | I33: =SUM(I34:I36) -> 1135000 | J33: =SUM(J34:J36) -> 0 | K33: =SUM(K34:K36) -> 1135000 | L33: =SUM(L34:L36) -> 0 | M33: =SUM(M34:M36) -> 0 | N33: =SUM(N34:N36) -> 0 | O33: =IF(K33=0,"",N33/K33*100) -> 0
F34: 614100 | G34: GA6002 | H34: Grant nižim razinama vlasti | I34: 1000000 | J34: 0 | K34: =SUM(I34:J34) -> 1000000 | N34: =SUM(L34:M34) -> 0 | O34: =IF(K34=0,"",N34/K34*100) -> 0
F35: 614800 | G35: GA6005 | H35: Ostali grantovi-povrat i drugo | I35: 130000 | J35: 0 | K35: =SUM(I35:J35) -> 130000 | N35: =SUM(L35:M35) -> 0 | O35: =IF(K35=0,"",N35/K35*100) -> 0
F36: 614800 | G36: GA6006 | H36: Ostali grantovi-izvršenje sudskih presuda i rješenja o izvršenju | I36: 5000 | J36: 0 | K36: =SUM(I36:J36) -> 5000 | N36: =SUM(L36:M36) -> 0 | O36: =IF(K36=0,"",N36/K36*100) -> 0
O37: =IF(K37=0,"",N37/K37*100)
F38: 616000 | H38: Izdaci za kamate | I38: =SUM(I39:I40) -> 10850 | J38: =SUM(J39:J40) -> 0 | K38: =SUM(K39:K40) -> 10850 | L38: =SUM(L39:L40) -> 0 | M38: =SUM(M39:M40) -> 0 | N38: =SUM(N39:N40) -> 0 | O38: =IF(K38=0,"",N38/K38*100) -> 0
F39: 616200 | G39: GA6008 | H39: Izdaci za inozemne kamate-Koreja | I39: 10850 | J39: 0 | K39: =SUM(I39:J39) -> 10850 | N39: =SUM(L39:M39) -> 0 | O39: =IF(K39=0,"",N39/K39*100) -> 0
F40: 616200 | G40: GA6009 | H40: Izdaci za inozemne kamate-Austrija | I40: 0 | J40: 0 | K40: =SUM(I40:J40) -> 0 | N40: =SUM(L40:M40) -> 0 | O40: =IF(K40=0,"",N40/K40*100)
O41: =IF(K41=0,"",N41/K41*100)
F42: 821000 | H42: Izdaci za nabavku stalnih sredstava | I42: =SUM(I43:I44) -> 15000 | J42: =SUM(J43:J44) -> 0 | K42: =SUM(K43:K44) -> 15000 | L42: =SUM(L43:L44) -> 0 | M42: =SUM(M43:M44) -> 0 | N42: =SUM(N43:N44) -> 0 | O42: =IF(K42=0,"",N42/K42*100) -> 0
...

Sheet 17
B1: ZAHTJEV ZA IZMJENE I DOPUNE PRORAČUNA ZA 2026. GODINU
M2: Datum zahtjeva:
B3: NAZIV RAZDJELA: | F3: MINISTARSTVO ZDRAVSTVA I SOCIJALNE POLITIKE ŽUPANIJE POSAVSKE
B5: RAZDJEL: | D5: 17
B7: Ministarstvo (razdjel) | C7: Proračunska institucija | D7: Potrošačka jedinica | E7: Funkcija | F7: Ekon. kod | G7: Subanalitika | H7: OPIS | I7: PRORAČUN za 2026./ (poveć./smanj.) | L7: ZAHTJEV za Izmjene i dopune Proračuna za 2026. | O7: INDEKS
I8: iz prorač. sredstava | J8: iz ostalih izvora | K8: UKUPNO | L8: iz prorač. sredstava | M8: iz ostalih izvora | N8: UKUPNO
B9: 1 | C9: 2 | D9: 3 | E9: 4 | F9: 5 | G9: 6 | H9: 7 | I9: 8 | J9: 9 | K9: 10=8+9 | L9: 11 | M9: 12 | N9: 13=11+12 | O9: 14=13/10
B10: 17 | C10: 01 | D10: 0001 | E10: 1090 | H10: MINISTARSTVO ZDRAVSTVA I SOC.POLITIKE ŽP | O10: =IF(K10=0,"",N10/K10*100)
F11: 611000 | H11: Plaće i naknade troškova zaposlenih | I11: =I12+I13 -> 533370 | J11: =SUM(J12:J14) -> 0 | K11: =SUM(K12:K14) -> 533370 | L11: =SUM(L12:L14) -> 0 | M11: =SUM(M12:M14) -> 0 | N11: =SUM(N12:N14) -> 0 | O11: =IF(K11=0,"",N11/K11*100) -> 0
F12: 611100 | H12: Bruto plaće i naknade plaća | I12: =428540+1280+24430 -> 454250 | J12: 0 | K12: =SUM(I12:J12) -> 454250 | N12: =SUM(L12:M12) -> 0 | O12: =IF(K12=0,"",N12/K12*100) -> 0
F13: 611200 | H13: Naknade troškova zaposlenih | I13: =76280+2840 -> 79120 | J13: 0 | K13: =SUM(I13:J13) -> 79120 | N13: =SUM(L13:M13) -> 0 | O13: =IF(K13=0,"",N13/K13*100) -> 0
O14: =IF(K14=0,"",N14/K14*100)
F15: 612000 | H15: Doprinosi poslodavca i ostali doprinosi | I15: =I16 -> 22970 | J15: =J16 -> 0 | K15: =K16 -> 22970 | L15: =L16 -> 0 | M15: =M16 -> 0 | N15: =N16 -> 0 | O15: =IF(K15=0,"",N15/K15*100) -> 0
F16: 612100 | H16: Doprinosi poslodavca | I16: =21530+210+1230 -> 22970 | J16: 0 | K16: =SUM(I16:J16) -> 22970 | N16: =SUM(L16:M16) -> 0 | O16: =IF(K16=0,"",N16/K16*100) -> 0
O17: =IF(K17=0,"",N17/K17*100)
F18: 613000 | H18: Izdaci za materijal, sitan inv. i usluge | I18: =SUM(I19:I27) -> 96500 | J18: =SUM(J19:J27) -> 0 | K18: =SUM(K19:K27) -> 96500 | L18: =SUM(L19:L27) -> 0 | M18: =SUM(M19:M27) -> 0 | N18: =SUM(N19:N27) -> 0 | O18: =IF(K18=0,"",N18/K18*100) -> 0
F19: 613100 | H19: Putni troškovi | I19: 4500 | J19: 0 | K19: =SUM(I19:J19) -> 4500 | N19: =SUM(L19:M19) -> 0 | O19: =IF(K19=0,"",N19/K19*100) -> 0
F20: 613200 | H20: Izdaci za energiju | I20: 0 | J20: 0 | K20: =SUM(I20:J20) -> 0 | N20: =SUM(L20:M20) -> 0 | O20: =IF(K20=0,"",N20/K20*100)
F21: 613300 | H21: Izdaci za komunikaciju i komunalne usluge | I21: 17000 | J21: 0 | K21: =SUM(I21:J21) -> 17000 | N21: =SUM(L21:M21) -> 0 | O21: =IF(K21=0,"",N21/K21*100) -> 0
F22: 613400 | H22: Nabavka materijala i sitnog inventara | I22: 4000 | J22: 0 | K22: =SUM(I22:J22) -> 4000 | N22: =SUM(L22:M22) -> 0 | O22: =IF(K22=0,"",N22/K22*100) -> 0
F23: 613500 | H23: Izdaci za usluge prijevoza i goriva | I23: 0 | J23: 0 | K23: =SUM(I23:J23) -> 0 | N23: =SUM(L23:M23) -> 0 | O23: =IF(K23=0,"",N23/K23*100)
F24: 613600 | H24: Unajmljivanje imovine, opreme i nemat.imovine | I24: 0 | J24: 0 | K24: =SUM(I24:J24) -> 0 | N24: =SUM(L24:M24) -> 0 | O24: =IF(K24=0,"",N24/K24*100)
F25: 613700 | H25: Izdaci za tekuće održavanje | I25: 1000 | J25: 0 | K25: =SUM(I25:J25) -> 1000 | N25: =SUM(L25:M25) -> 0 | O25: =IF(K25=0,"",N25/K25*100) -> 0
F26: 613800 | H26: Izdaci osiguranja, bank. usluga i usluga p.p. | I26: 0 | J26: 0 | K26: =SUM(I26:J26) -> 0 | N26: =SUM(L26:M26) -> 0 | O26: =IF(K26=0,"",N26/K26*100)
F27: 613900 | H27: Ugovorene i druge posebne usluge | I27: 70000 | J27: 0 | K27: =SUM(I27:J27) -> 70000 | N27: =SUM(L27:M27) -> 0 | O27: =IF(K27=0,"",N27/K27*100) -> 0
O28: =IF(K28=0,"",N28/K28*100)
F29: 614000 | H29: Tekući grantovi i drugi tekući rashodi | I29: =SUM(I30:I33) -> 7075000 | J29: =SUM(J30:J33) -> 245000 | K29: =SUM(K30:K33) -> 7320000 | L29: =SUM(L30:L33) -> 0 | M29: =SUM(M30:M33) -> 0 | N29: =SUM(N30:N33) -> 0 | O29: =IF(K29=0,"",N29/K29*100) -> 0
F30: 614100 | H30: Grant za zdravstvene institucije i centre za soc.rad | I30: 1400000 | J30: 0 | K30: =SUM(I30:J30) -> 1400000 | N30: =SUM(L30:M30) -> 0 | O30: =IF(K30=0,"",N30/K30*100) -> 0
F31: 614200 | G31: HA6003 | H31: Grant za zdravstvene potrebe | I31: 200000 | J31: 0 | K31: =SUM(I31:J31) -> 200000 | N31: =SUM(L31:M31) -> 0 | O31: =IF(K31=0,"",N31/K31*100) -> 0
F32: 614200 | G32: HA6004 | H32: Grant za socijalne potrebe | I32: =5065000+100000+160000 -> 5325000 | J32: 245000 | K32: =SUM(I32:J32) -> 5570000 | N32: =SUM(L32:M32) -> 0 | O32: =IF(K32=0,"",N32/K32*100) -> 0
F33: 614300 | G33: HA6005 | H33: Grant za udruge roditelja djece s posebnim potrebama | I33: 150000 | J33: 0 | K33: =SUM(I33:J33) -> 150000 | N33: =SUM(L33:M33) -> 0 | O33: =IF(K33=0,"",N33/K33*100) -> 0
O34: =IF(K34=0,"",N34/K34*100)
F35: 821000 | H35: Izdaci za nabavku stalnih sredstava | I35: =I36+I37+I38 -> 227794 | J35: =J36+J37+J38 -> 170000 | K35: =K36+K37+K38 -> 397794 | L35: =L36+L37+L38 -> 0 | M35: =M36+M37+M38 -> 0 | N35: =N36+N37+N38 -> 0 | O35: =IF(K35=0,"",N35/K35*100) -> 0
F36: 821200 | H36: Nabavka građevina | I36: 0 | J36: 0 | K36: =SUM(I36:J36) -> 0 | N36: =SUM(L36:M36) -> 0 | O36: =IF(K36=0,"",N36/K36*100)
F37: 821300 | H37: Nabavka opreme | I37: 4070 | J37: 0 | K37: =SUM(I37:J37) -> 4070 | N37: =SUM(L37:M37) -> 0 | O37: =IF(K37=0,"",N37/K37*100) -> 0
F38: 821500 | H38: Nabavka stalnih sredstava u obliku prava | I38: =62860+97934+930+62000 -> 223724 | J38: =100000+70000 -> 170000 | K38: =SUM(I38:J38) -> 393724 | N38: =SUM(L38:M38) -> 0 | O38: =IF(K38=0,"",N38/K38*100) -> 0
O39: =IF(K39=0,"",N39/K39*100)
H40: Ukupan broj zaposlenih: | I40: 11 (13) | K40: 11 (13)
H41: Ukupno za potrošačku jedinicu: | I41: =I11+I15+I18+I29+I35 -> 7955634 | J41: =J11+J15+J18+J29+J35 -> 415000 | K41: =K11+K15+K18+K29+K35 -> 8370634 | L41: =L11+L15+L18+L29+L35 -> 0 | M41: =M11+M15+M18+M29+M35 -> 0 | N41: =N11+N15+N18+N29+N35 -> 0 | O41: =IF(K41=0,"",N41/K41*100) -> 0
H42: Ukupno za proračunsku instituciju: | I42: =I41 -> 7955634 | J42: =J41 -> 415000 | K42: =K41 -> 8370634 | L42: =L41 -> 0 | M42: =M41 -> 0 | N42: =N41 -> 0 | O42: =IF(K42=0,"",N42/K42*100) -> 0
...

Sheet 18
B1: ZAHTJEV ZA IZMJENE I DOPUNE PRORAČUNA ZA 2026. GODINU
M2: Datum zahtjeva:
B3: NAZIV RAZDJELA: | F3: MINISTARSTVO PROMETA, VEZA I ZAŠTITE OKOLIŠA ŽUPANIJE POSAVSKE
B5: RAZDJEL: | D5: 18
B7: Ministarstvo (razdjel) | C7: Proračunska institucija | D7: Potrošačka jedinica | E7: Funkcija | F7: Ekon. kod | G7: Subanalitika | H7: OPIS | I7: PRORAČUN za 2026./ (poveć./smanj.) | L7: ZAHTJEV za Izmjene i dopune Proračuna za 2026. | O7: INDEKS
I8: iz prorač. sredstava | J8: iz ostalih izvora | K8: UKUPNO | L8: iz prorač. sredstava | M8: iz ostalih izvora | N8: UKUPNO
B9: 1 | C9: 2 | D9: 3 | E9: 4 | F9: 5 | G9: 6 | H9: 7 | I9: 8 | J9: 9 | K9: 10=8+9 | L9: 11 | M9: 12 | N9: 13=11+12 | O9: 14=13/10
B10: 18 | C10: 01 | D10: 0001 | E10: 0490 | H10: MINIST.PROMETA, VEZA I ZAŠTITE OKOLIŠA ŽP | O10: =IF(K10=0,"",N10/K10*100)
F11: 611000 | H11: Plaće i naknade troškova zaposlenih | I11: =SUM(I12:I14) -> 540630 | J11: =SUM(J12:J14) -> 0 | K11: =SUM(K12:K14) -> 540630 | L11: =SUM(L12:L14) -> 0 | M11: =SUM(M12:M14) -> 0 | N11: =SUM(N12:N14) -> 0 | O11: =IF(K11=0,"",N11/K11*100) -> 0
F12: 611100 | H12: Bruto plaće i naknade plaća | I12: =416330+730+1280+7*1800+12*500+23740 -> 460680 | J12: 0 | K12: =SUM(I12:J12) -> 460680 | N12: =SUM(L12:M12) -> 0 | O12: =IF(K12=0,"",N12/K12*100) -> 0
F13: 611200 | H13: Naknade troškova zaposlenih | I13: =70940+1620+2840+850+3700 -> 79950 | J13: 0 | K13: =SUM(I13:J13) -> 79950 | N13: =SUM(L13:M13) -> 0 | O13: =IF(K13=0,"",N13/K13*100) -> 0
O14: =IF(K14=0,"",N14/K14*100)
F15: 612000 | H15: Doprinosi poslodavca i ostali doprinosi | I15: =I16 -> 21570 | J15: =J16 -> 0 | K15: =K16 -> 21570 | L15: =L16 -> 0 | M15: =M16 -> 0 | N15: =N16 -> 0 | O15: =IF(K15=0,"",N15/K15*100) -> 0
F16: 612100 | H16: Doprinosi poslodavca | I16: =19150+120+210+7*90+12*30+1100 -> 21570 | J16: 0 | K16: =SUM(I16:J16) -> 21570 | N16: =SUM(L16:M16) -> 0 | O16: =IF(K16=0,"",N16/K16*100) -> 0
O17: =IF(K17=0,"",N17/K17*100)
F18: 613000 | H18: Izdaci za materijal, sitan inv. i usluge | I18: =SUM(I19:I28) -> 116500 | J18: =SUM(J19:J28) -> 769260 | K18: =SUM(K19:K28) -> 885760 | L18: =SUM(L19:L28) -> 0 | M18: =SUM(M19:M28) -> 0 | N18: =SUM(N19:N28) -> 0 | O18: =IF(K18=0,"",N18/K18*100) -> 0
F19: 613100 | H19: Putni troškovi | I19: 5500 | J19: 5760 | K19: =SUM(I19:J19) -> 11260 | N19: =SUM(L19:M19) -> 0 | O19: =IF(K19=0,"",N19/K19*100) -> 0
F20: 613200 | H20: Izdaci za energiju | I20: 0 | J20: 0 | K20: =SUM(I20:J20) -> 0 | N20: =SUM(L20:M20) -> 0 | O20: =IF(K20=0,"",N20/K20*100)
F21: 613300 | H21: Izdaci za komunikaciju i komunalne usluge | I21: 7000 | J21: 0 | K21: =SUM(I21:J21) -> 7000 | N21: =SUM(L21:M21) -> 0 | O21: =IF(K21=0,"",N21/K21*100) -> 0
F22: 613400 | H22: Nabavka materijala i sitnog inventara | I22: 4000 | J22: 7900 | K22: =SUM(I22:J22) -> 11900 | N22: =SUM(L22:M22) -> 0 | O22: =IF(K22=0,"",N22/K22*100) -> 0
F23: 613500 | H23: Izdaci za usluge prijevoza i goriva | I23: 0 | J23: 0 | K23: =SUM(I23:J23) -> 0 | N23: =SUM(L23:M23) -> 0 | O23: =IF(K23=0,"",N23/K23*100)
F24: 613600 | H24: Unajmljivanje imovine, opreme i nemat.imovine | I24: 0 | J24: 0 | K24: =SUM(I24:J24) -> 0 | N24: =SUM(L24:M24) -> 0 | O24: =IF(K24=0,"",N24/K24*100)
F25: 613700 | H25: Izdaci za tekuće održavanje | I25: 10000 | J25: 0 | K25: =SUM(I25:J25) -> 10000 | N25: =SUM(L25:M25) -> 0 | O25: =IF(K25=0,"",N25/K25*100) -> 0
F26: 613700 | G26: IA6004 | H26: Tekuće održavanje cesta | I26: 0 | J26: 720000 | K26: =SUM(I26:J26) -> 720000 | N26: =SUM(L26:M26) -> 0 | O26: =IF(K26=0,"",N26/K26*100) -> 0
F27: 613800 | H27: Izdaci osiguranja, bank. usluga i usluga p.p. | I27: 0 | J27: 0 | K27: =SUM(I27:J27) -> 0 | N27: =SUM(L27:M27) -> 0 | O27: =IF(K27=0,"",N27/K27*100)
F28: 613900 | H28: Ugovorene i druge posebne usluge | I28: 90000 | J28: 35600 | K28: =SUM(I28:J28) -> 125600 | N28: =SUM(L28:M28) -> 0 | O28: =IF(K28=0,"",N28/K28*100) -> 0
O29: =IF(K29=0,"",N29/K29*100)
F30: 614000 | H30: Tekući grantovi i drugi tekući rashodi | I30: =I31 -> 275603 | J30: =SUM(J31:J31) -> 510740 | K30: =SUM(K31:K31) -> 786343 | L30: =SUM(L31:L31) -> 0 | M30: =SUM(M31:M31) -> 0 | N30: =SUM(N31:N31) -> 0 | O30: =IF(K30=0,"",N30/K30*100) -> 0
F31: 614100 | G31: IA6002 | H31: Grant za zaštitu okoliša | I31: =176343+5760+7900+35600+50000 -> 275603 | J31: =399287+111453 -> 510740 | K31: =SUM(I31:J31) -> 786343 | N31: =SUM(L31:M31) -> 0 | O31: =IF(K31=0,"",N31/K31*100) -> 0
O32: =IF(K32=0,"",N32/K32*100)
F33: 821000 | H33: Izdaci za nabavku stalnih sredstava | I33: =SUM(I34:I37) -> 43870 | J33: =SUM(J34:J37) -> 1466130 | K33: =SUM(K34:K37) -> 1510000 | L33: =SUM(L34:L37) -> 0 | M33: =SUM(M34:M37) -> 0 | N33: =SUM(N34:N37) -> 0 | O33: =IF(K33=0,"",N33/K33*100) -> 0
F34: 821200 | H34: Nabavka građevina | I34: 0 | J34: 0 | K34: =SUM(I34:J34) -> 0 | N34: =SUM(L34:M34) -> 0 | O34: =IF(K34=0,"",N34/K34*100)
F35: 821300 | H35: Nabavka opreme | I35: 10000 | J35: 0 | K35: =SUM(I35:J35) -> 10000 | N35: =SUM(L35:M35) -> 0 | O35: =IF(K35=0,"",N35/K35*100) -> 0
F36: 821500 | G36: IA6005 | H36: Rekonstrukcija i investicijsko održavanje lokalnih cesta | I36: 33870 | J36: =1066130+130000 -> 1196130 | K36: =SUM(I36:J36) -> 1230000 | N36: =SUM(L36:M36) -> 0 | O36: =IF(K36=0,"",N36/K36*100) -> 0
F37: 821600 | G37: IA6006 | H37: Rekonstrukcija i investicijsko održavanje regionalnih cesta | I37: 0 | J37: =400000-130000 -> 270000 | K37: =SUM(I37:J37) -> 270000 | N37: =SUM(L37:M37) -> 0 | O37: =IF(K37=0,"",N37/K37*100) -> 0
O38: =IF(K38=0,"",N38/K38*100)
H39: Ukupan broj zaposlenih: | I39: 13 (14) | K39: 13 (14)
H40: Ukupno za potrošačku jedinicu: | I40: =I11+I15+I18+I30+I33 -> 998173 | J40: =J11+J15+J18+J30+J33 -> 2746130 | K40: =K11+K15+K18+K30+K33 -> 3744303 | L40: =L11+L15+L18+L30+L33 -> 0 | M40: =M11+M15+M18+M30+M33 -> 0 | N40: =N11+N15+N18+N30+N33 -> 0 | O40: =IF(K40=0,"",N40/K40*100) -> 0
H41: Ukupno za proračunsku instituciju: | I41: =I40 -> 998173 | J41: =J40 -> 2746130 | K41: =K40 -> 3744303 | L41: =L40 -> 0 | M41: =M40 -> 0 | N41: =N40 -> 0 | O41: =IF(K41=0,"",N41/K41*100) -> 0
H42: Ukupno za ministarstvo (razdjel): | I42: =I41 -> 998173 | J42: =J41 -> 2746130 | K42: =K41 -> 3744303 | L42: =L41 -> 0 | M42: =M41 -> 0 | N42: =N41 -> 0 | O42: =IF(K42=0,"",N42/K42*100) -> 0
...

Sheet 19
B1: ZAHTJEV ZA IZMJENE I DOPUNE PRORAČUNA ZA 2026. GODINU
M2: Datum zahtjeva:
B3: NAZIV RAZDJELA: | F3: MINISTARSTVO POLJOPRIVREDE, VODOPRIVREDE I ŠUMARSTVA ŽUPANIJE POSAVSKE
B5: RAZDJEL: | D5: 19
B7: Ministarstvo (razdjel) | C7: Proračunska institucija | D7: Potrošačka jedinica | E7: Funkcija | F7: Ekon. kod | G7: Subanalitika | H7: OPIS | I7: PRORAČUN za 2026./ (poveć./smanj.) | L7: ZAHTJEV za Izmjene i dopune Proračuna za 2026. | O7: INDEKS
I8: iz prorač. sredstava | J8: iz ostalih izvora | K8: UKUPNO | L8: iz prorač. sredstava | M8: iz ostalih izvora | N8: UKUPNO
B9: 1 | C9: 2 | D9: 3 | E9: 4 | F9: 5 | G9: 6 | H9: 7 | I9: 8 | J9: 9 | K9: 10=8+9 | L9: 11 | M9: 12 | N9: 13=11+12 | O9: 14=13/10
B10: 19 | C10: 01 | D10: 0001 | E10: 0421 | H10: MINIST.POLJOPR.,VODOPR.I ŠUMARSTVA ŽP | O10: =IF(K10=0,"",N10/K10*100)
F11: 611000 | H11: Plaće i naknade troškova zaposlenih | I11: =I12+I13 -> 1281080 | J11: =SUM(J12:J14) -> 0 | K11: =SUM(K12:K14) -> 1281080 | L11: =SUM(L12:L14) -> 0 | M11: =SUM(M12:M14) -> 0 | N11: =SUM(N12:N14) -> 0 | O11: =IF(K11=0,"",N11/K11*100) -> 0
F12: 611100 | H12: Bruto plaće i naknade plaća | I12: =985020+12*2300+3*1280+1820+1510+56150 -> 1075940 | J12: 0 | K12: =SUM(I12:J12) -> 1075940 | N12: =SUM(L12:M12) -> 0 | O12: =IF(K12=0,"",N12/K12*100) -> 0
F13: 611200 | H13: Naknade troškova zaposlenih | I13: =177170+850+5550+3*2840+4050+9000 -> 205140 | J13: 0 | K13: =SUM(I13:J13) -> 205140 | N13: =SUM(L13:M13) -> 0 | O13: =IF(K13=0,"",N13/K13*100) -> 0
O14: =IF(K14=0,"",N14/K14*100)
F15: 612000 | H15: Doprinosi poslodavca i ostali doprinosi | I15: =I16 -> 55860 | J15: =J16 -> 0 | K15: =K16 -> 55860 | L15: =L16 -> 0 | M15: =M16 -> 0 | N15: =N16 -> 0 | O15: =IF(K15=0,"",N15/K15*100) -> 0
F16: 612100 | H16: Doprinosi poslodavca | I16: =50590+12*120+3*210+300+2900 -> 55860 | J16: 0 | K16: =SUM(I16:J16) -> 55860 | N16: =SUM(L16:M16) -> 0 | O16: =IF(K16=0,"",N16/K16*100) -> 0
O17: =IF(K17=0,"",N17/K17*100)
F18: 613000 | H18: Izdaci za materijal, sitan inv. i usluge | I18: =SUM(I19:I27) -> 99000 | J18: =SUM(J19:J27) -> 0 | K18: =SUM(K19:K27) -> 99000 | L18: =SUM(L19:L27) -> 0 | M18: =SUM(M19:M27) -> 0 | N18: =SUM(N19:N27) -> 0 | O18: =IF(K18=0,"",N18/K18*100) -> 0
F19: 613100 | H19: Putni troškovi | I19: 8000 | J19: 0 | K19: =SUM(I19:J19) -> 8000 | N19: =SUM(L19:M19) -> 0 | O19: =IF(K19=0,"",N19/K19*100) -> 0
F20: 613200 | H20: Izdaci za energiju | I20: 4500 | J20: 0 | K20: =SUM(I20:J20) -> 4500 | N20: =SUM(L20:M20) -> 0 | O20: =IF(K20=0,"",N20/K20*100) -> 0
F21: 613300 | H21: Izdaci za komunikaciju i komunalne usluge | I21: 8000 | J21: 0 | K21: =SUM(I21:J21) -> 8000 | N21: =SUM(L21:M21) -> 0 | O21: =IF(K21=0,"",N21/K21*100) -> 0
F22: 613400 | H22: Nabavka materijala i sitnog inventara | I22: 8000 | J22: 0 | K22: =SUM(I22:J22) -> 8000 | N22: =SUM(L22:M22) -> 0 | O22: =IF(K22=0,"",N22/K22*100) -> 0
F23: 613500 | H23: Izdaci za usluge prijevoza i goriva | I23: 1000 | J23: 0 | K23: =SUM(I23:J23) -> 1000 | N23: =SUM(L23:M23) -> 0 | O23: =IF(K23=0,"",N23/K23*100) -> 0
